Felt | Verdi |
AlreadyApplied | True |
Aperture | 2.8 |
ApertureValue | 2.8 |
BitsPerSample | 8 |
BlueHue | 0 |
BlueSaturation | 0 |
Brightness | -14 |
CameraProfile | Embedded |
ChromaticAberrationB | 0 |
ChromaticAberrationR | 0 |
CircleOfConfusion | 0.004 mm |
Clarity | +69 |
ColorComponents | 1 |
ColorMode | RGB |
ColorNoiseReduction | 0 |
ColorSpace | sRGB |
Contrast | +41 |
ConvertToGrayscale | True |
CopyrightFlag | False |
CreateDate (1) | 2009:08:06 01:19:05+02:00 |
CreateDate | 2008:07:23 19:36:33 |
CreatorTool | Adobe Photoshop CS3 Windows |
CropAngle | 0 |
CropBottom | 1 |
CropHeight | 2265 |
CropLeft | 0.199233 |
CropRight | 0.867967 |
CropTop | 0 |
CropUnit | pixels |
CropWidth | 2265 |
CustomRendered | Normal |
DateTimeDigitized | 2008:07:23 19:36:33+02:00 |
Defringe | 0 |
ExifImageHeight | 831 |
ExifImageWidth | 831 |
Exposure | 0.00 |
ExposureCompensation | 0 |
ExposureMode | Auto |
ExposureTime | 1/80 |
FillLight | 0 |
Flash | Off, Did not fire |
FlashFired | False |
FlashFunction | False |
FlashMode | Off |
FlashRedEyeMode | False |
FlashReturn | No return detection |
FNumber | 2.8 |
FocalLength | 105.0 mm |
FocalLength35efl | 105.0 mm (35 mm equivalent: 741.4 mm) |
Format | image/jpeg |
FOV | 2.8 deg |
GrayMixerAqua | -16 |
GrayMixerBlue | +9 |
GrayMixerGreen | -25 |
GrayMixerMagenta | +1 |
GrayMixerOrange | -18 |
GrayMixerPurple | +13 |
GrayMixerRed | -10 |
GrayMixerYellow | -21 |
GreenHue | 0 |
GreenSaturation | 0 |
HasCrop | True |
HasSettings | True |
HighlightRecovery | 0 |
HyperfocalDistance | 925.26 m |
ICCProfileName | sRGB IEC61966-2.1 |
ImageHeight | 831 |
ImageSize | 831x831 |
ImageWidth | 831 |
IncrementalTemperature | 0 |
IncrementalTint | 0 |
LuminanceSmoothing | 56 |
Megapixels | 0.691 |
ModifyDate (1) | 2009:08:06 01:21:19+02:00 |
ModifyDate | 2009:08:06 01:21:19 |
Orientation | Horizontal (normal) |
ParametricDarks | -2 |
ParametricHighlights | +36 |
ParametricHighlightSplit | 75 |
ParametricLights | +12 |
ParametricMidtoneSplit | 50 |
ParametricShadows | +21 |
ParametricShadowSplit | 25 |
PostCropVignetteAmount | -33 |
PostCropVignetteFeather | 50 |
PostCropVignetteMidpoint | 50 |
PostCropVignetteRoundness | 0 |
ProfileDescription | sRGB IEC61966-2.1 |
RedHue | 0 |
RedSaturation | 0 |
ScaleFactor35efl | 7.1 |
SceneCaptureType | Standard |
Shadows | 15 |
ShadowTint | 0 |
SharpenDetail | 25 |
SharpenEdgeMasking | 0 |
SharpenRadius | +1.0 |
Sharpness | 91 |
ShutterSpeed | 1/80 |
ShutterSpeedValue | 1/80 |
Software | Adobe Photoshop CS3 Windows |
SplitToningBalance | 0 |
SplitToningHighlightHue | 0 |
SplitToningHighlightSaturation | 0 |
SplitToningShadowHue | 0 |
SplitToningShadowSaturation | 0 |
ToneCurve | 0, 0, 32, 22, 64, 56, 128, 128, 192, 196, 255, 255 |
ToneCurveName | Medium Contrast |
URL_List | |
Version | 5.4 |
VignetteAmount | 0 |
WhiteBalance | As Shot |