Felt | Verdi |
AlreadyApplied | True |
Aperture | 14.0 |
ApertureValue | 14.0 |
BitsPerSample | 8 |
BlueHue | 0 |
BlueSaturation | 0 |
Brightness | +25 |
CameraProfile | Adobe Standard |
ChromaticAberrationB | +7 |
ChromaticAberrationR | +14 |
CircleOfConfusion | 0.031 mm |
Clarity | +31 |
ColorComponents | 3 |
ColorMode | RGB |
ColorNoiseReduction | 10 |
ColorSpace | sRGB |
ColorTemperature | 4738 |
Contrast | +30 |
ConvertToGrayscale | False |
CopyrightFlag | False |
CreateDate (1) | 2009:10:16 19:29:35+02:00 |
CreateDate | 2009:10:15 15:15:59 |
CreatorTool | Adobe Photoshop CS3 Windows |
CustomRendered | Normal |
DateTimeDigitized | 2009:10:15 15:15:59.47+02:00 |
DateTimeOriginal (1) | 2009:10:15 15:15:59.47+02:00 |
DateTimeOriginal | 2009:10:15 15:15:59 |
Defringe | 0 |
DerivedFrom | |
ExifImageHeight | 2442 |
ExifImageWidth | 3870 |
Exposure | -0.10 |
ExposureCompensation | 0 |
ExposureMode | Auto |
ExposureProgram | Aperture-priority AE |
ExposureTime | 1.6 |
FillLight | 0 |
Firmware | 1.1.0 |
Flash | Off, Did not fire |
FlashCompensation | 0 |
FlashFired | False |
FlashFunction | False |
FlashMode | Off |
FlashRedEyeMode | False |
FlashReturn | No return detection |
FNumber | 14.0 |
FocalLength | 40.0 mm |
FocalLength35efl | 40.0 mm (35 mm equivalent: 39.0 mm) |
Format | image/jpeg |
FOV | 49.5 deg |
GreenHue | 0 |
GreenSaturation | 0 |
HasCrop | False |
HasSettings | True |
HighlightRecovery | 31 |
HueAdjustmentAqua | 0 |
HueAdjustmentBlue | 0 |
HueAdjustmentGreen | 0 |
HueAdjustmentMagenta | 0 |
HueAdjustmentOrange | 0 |
HueAdjustmentPurple | 0 |
HueAdjustmentRed | 0 |
HueAdjustmentYellow | 0 |
HyperfocalDistance | 3.71 m |
ICCProfileName | sRGB IEC61966-2.1 |
ImageHeight (1) | 3744 |
ImageHeight | 2442 |
ImageNumber | 0 |
ImageSize | 3870x2442 |
ImageWidth (1) | 5616 |
ImageWidth | 3870 |
ISO | 200 |
Lens | EF17-40mm f/4L USM |
LensInfo | 17-40mm f/? |
LightValue | 5.9 |
LuminanceAdjustmentAqua | 0 |
LuminanceAdjustmentBlue | 0 |
LuminanceAdjustmentGreen | 0 |
LuminanceAdjustmentMagenta | 0 |
LuminanceAdjustmentOrange | 0 |
LuminanceAdjustmentPurple | 0 |
LuminanceAdjustmentRed | 0 |
LuminanceAdjustmentYellow | 0 |
LuminanceSmoothing | 8 |
Make | Canon |
MaxApertureValue | 4.0 |
Megapixels | 9.5 |
MeteringMode | Center-weighted average |
Model | Canon EOS 5D Mark II |
ModifyDate (1) | 2009:10:16 19:29:35+02:00 |
ModifyDate | 2009:10:16 19:29:35 |
Orientation | Horizontal (normal) |
ParametricDarks | -12 |
ParametricHighlights | 0 |
ParametricHighlightSplit | 75 |
ParametricLights | +8 |
ParametricMidtoneSplit | 50 |
ParametricShadows | 0 |
ParametricShadowSplit | 25 |
PostCropVignetteAmount | 0 |
ProfileDescription | sRGB IEC61966-2.1 |
RedHue | 0 |
RedSaturation | 0 |
Saturation | +31 |
SaturationAdjustmentAqua | 0 |
SaturationAdjustmentBlue | 0 |
SaturationAdjustmentGreen | 0 |
SaturationAdjustmentMagenta | 0 |
SaturationAdjustmentOrange | 0 |
SaturationAdjustmentPurple | 0 |
SaturationAdjustmentRed | 0 |
SaturationAdjustmentYellow | 0 |
ScaleFactor35efl | 1.0 |
SceneCaptureType | Standard |
SerialNumber | 330117967 |
Shadows | 5 |
ShadowTint | 0 |
SharpenDetail | 23 |
SharpenEdgeMasking | 75 |
SharpenRadius | +1.0 |
Sharpness | 91 |
ShutterSpeed | 1.6 |
ShutterSpeedValue | 1.6 |
Software | Adobe Photoshop CS3 Windows |
SplitToningBalance | 0 |
SplitToningHighlightHue | 0 |
SplitToningHighlightSaturation | 0 |
SplitToningShadowHue | 0 |
SplitToningShadowSaturation | 0 |
Tint | -10 |
ToneCurve | 0, 0, 32, 22, 64, 56, 128, 128, 192, 196, 255, 255 |
ToneCurveName | Medium Contrast |
URL_List | |
Version | 5.2 |
Vibrance | +33 |
VignetteAmount | 0 |
WhiteBalance (2) | Custom |
WhiteBalance | Auto |