Felt | Verdi |
AlreadyApplied | True |
Aperture | 3.5 |
ApertureValue | 3.5 |
BitsPerSample | 8 |
BlueHue | 0 |
BlueSaturation | 0 |
Brightness | +50 |
CameraProfile | ACR 4.4 |
ChromaticAberrationB | 0 |
ChromaticAberrationR | 0 |
CircleOfConfusion | 0.020 mm |
Clarity | +10 |
ColorComponents | 3 |
ColorMode | RGB |
ColorNoiseReduction | 25 |
ColorSpace | Uncalibrated |
ColorTemperature | 4600 |
Contrast (2) | +57 |
Contrast | Normal |
ConvertToGrayscale | False |
CreateDate (1) | 2009:10:17 23:10:46+02:00 |
CreateDate | 2009:10:17 23:10:46 |
CreatorTool | K200D Ver 1.00 |
CustomRendered | Normal |
DateTimeDigitized | 2009:10:17 23:10:46+02:00 |
DateTimeOriginal (1) | 2009:10:17 23:10:46+02:00 |
DateTimeOriginal | 2009:10:17 23:10:46 |
Defringe | 0 |
ExifImageHeight | 2592 |
ExifImageWidth | 3872 |
Exposure | -1.35 |
ExposureCompensation | +1 |
ExposureMode | Manual |
ExposureProgram | Shutter speed priority AE |
ExposureTime | 1/500 |
FillLight | 0 |
Flash | Off, Did not fire |
FlashFired | False |
FlashFunction | False |
FlashMode | Off |
FlashRedEyeMode | False |
FlashReturn | No return detection |
FNumber | 3.5 |
FocalLength | 10.0 mm |
FocalLength35efl | 10.0 mm (35 mm equivalent: 15.0 mm) |
FocalLengthIn35mmFormat | 15 mm |
Format | image/jpeg |
FOV | 100.4 deg |
GreenHue | 0 |
GreenSaturation | 0 |
HasCrop | False |
HasSettings | True |
HighlightRecovery | 0 |
HueAdjustmentAqua | +48 |
HueAdjustmentBlue | +22 |
HueAdjustmentGreen | 0 |
HueAdjustmentMagenta | 0 |
HueAdjustmentOrange | 0 |
HueAdjustmentPurple | 0 |
HueAdjustmentRed | -4 |
HueAdjustmentYellow | 0 |
HyperfocalDistance | 1.43 m |
ICCProfileName | Adobe RGB (1998) |
ImageHeight | 2592 |
ImageSize | 3872x2592 |
ImageWidth | 3872 |
ISO | 100 |
Lens | smc PENTAX-DA 10-17mm F3.5-4.5 ED [IF] Fisheye zoom |
LensID (1) | 4 247 |
LensID | smc PENTAX-DA FISH-EYE 10-17mm F3.5-4.5 ED[IF] |
LensInfo | 10-17mm f/3.5-4.5 |
LightValue | 12.6 |
LuminanceAdjustmentAqua | 0 |
LuminanceAdjustmentBlue | 0 |
LuminanceAdjustmentGreen | 0 |
LuminanceAdjustmentMagenta | 0 |
LuminanceAdjustmentOrange | 0 |
LuminanceAdjustmentPurple | 0 |
LuminanceAdjustmentRed | 0 |
LuminanceAdjustmentYellow | 0 |
LuminanceSmoothing | 0 |
Make | PENTAX |
Megapixels | 10.0 |
MeteringMode | Center-weighted average |
Model | PENTAX K200D |
ModifyDate (1) | 2009:10:19 08:17:42+02:00 |
ModifyDate | 2009:10:19 08:17:42 |
Orientation | Horizontal (normal) |
PaintCorrectionActive | true |
PaintCorrectionAmount | 1.000000 |
PaintCorrectionBrightness | -1.000000 |
PaintCorrectionClarity | -0.620000 |
PaintCorrectionContrast | 1.000000 |
PaintCorrectionExposure | 0.250000 |
PaintCorrectionHue | 136.000000 |
PaintCorrectionMaskCenterWeight | 0.000000 |
PaintCorrectionMaskFlow | 0.888889 |
PaintCorrectionMaskRadius | 0.075487 |
PaintCorrectionMaskValue | 1.000000 |
PaintCorrectionMaskWhat | Mask/Paint |
PaintCorrectionSaturation | 0.000000 |
PaintCorrectionSharpness | 0.000000 |
PaintCorrectionWhat | Correction |
ParametricDarks | 0 |
ParametricHighlights | 0 |
ParametricHighlightSplit | 75 |
ParametricLights | 0 |
ParametricMidtoneSplit | 50 |
ParametricShadows | 0 |
ParametricShadowSplit | 25 |
PostCropVignetteAmount | 0 |
ProfileDescription | Adobe RGB (1998) |
Rating | 0 |
RawFileName | IMGP6554.DNG |
RedHue | 0 |
RedSaturation | 0 |
Saturation (2) | +16 |
Saturation | Normal |
SaturationAdjustmentAqua | +88 |
SaturationAdjustmentBlue | +76 |
SaturationAdjustmentGreen | +38 |
SaturationAdjustmentMagenta | 0 |
SaturationAdjustmentOrange | +23 |
SaturationAdjustmentPurple | -44 |
SaturationAdjustmentRed | +78 |
SaturationAdjustmentYellow | -98 |
ScaleFactor35efl | 1.5 |
SceneCaptureType | Standard |
SensingMethod | One-chip color area |
Shadows | 44 |
ShadowTint | 0 |
SharpenDetail | 25 |
SharpenEdgeMasking | 0 |
SharpenRadius | +1.0 |
Sharpness (2) | 25 |
Sharpness | Normal |
ShutterSpeed | 1/500 |
ShutterSpeedValue | 1/500 |
Software | Adobe Photoshop CS4 Windows |
SplitToningBalance | 0 |
SplitToningHighlightHue | 0 |
SplitToningHighlightSaturation | 0 |
SplitToningShadowHue | 0 |
SplitToningShadowSaturation | 0 |
SubjectDistanceRange | Distant |
Tint | -13 |
ToneCurve | 0, 0, 32, 22, 64, 56, 128, 128, 192, 196, 255, 255 |
ToneCurveName | Medium Contrast |
URL_List | |
Version | 5.0 |
Vibrance | +66 |
VignetteAmount | 0 |
WhiteBalance (2) | As Shot |
WhiteBalance | Auto |