Felt | Verdi |
AlreadyApplied | True |
Aperture | 8.0 |
ApertureValue | 8.0 |
BitsPerSample | 8 |
BlueHue | 0 |
BlueSaturation | 0 |
Brightness | +75 |
CameraProfile | ACR 4.4 |
ChromaticAberrationB | 0 |
ChromaticAberrationR | 0 |
CircleOfConfusion | 0.024 mm |
Clarity | +10 |
ColorComponents | 3 |
ColorMode | RGB |
ColorNoiseReduction | 25 |
ColorSpace | Uncalibrated |
ColorTemperature | 4738 |
Contrast | +50 |
ConvertToGrayscale | False |
CreateDate (1) | 2009:09:19 16:08:04+02:00 |
CreateDate | 2009:09:19 16:08:04 |
CreatorTool | Adobe Photoshop Lightroom |
CustomRendered | Normal |
DateTimeDigitized | 2009:09:19 16:08:04+02:00 |
DateTimeOriginal (1) | 2009:09:19 16:08:04+02:00 |
DateTimeOriginal | 2009:09:19 16:08:04 |
Defringe | 0 |
ExifImageHeight | 533 |
ExifImageWidth | 800 |
Exposure | +0.67 |
ExposureCompensation | -1/3 |
ExposureMode | Auto |
ExposureProgram | Shutter speed priority AE |
ExposureTime | 1/80 |
FillLight | 0 |
Firmware | 1.1.1 |
Flash | Off, Did not fire |
FlashCompensation | 0 |
FlashFired | False |
FlashFunction | False |
FlashMode | Off |
FlashRedEyeMode | False |
FlashReturn | No return detection |
FNumber | 8.0 |
FocalLength | 200.0 mm |
FocalLength35efl | 200.0 mm (35 mm equivalent: 250.6 mm) |
Format | image/jpeg |
FOV | 8.2 deg |
GreenHue | 0 |
GreenSaturation | 0 |
HasCrop | False |
HasSettings | True |
HighlightRecovery | 39 |
HueAdjustmentAqua | 0 |
HueAdjustmentBlue | 0 |
HueAdjustmentGreen | +21 |
HueAdjustmentMagenta | 0 |
HueAdjustmentOrange | +10 |
HueAdjustmentPurple | 0 |
HueAdjustmentRed | 0 |
HueAdjustmentYellow | +95 |
HyperfocalDistance | 208.54 m |
ICCProfileName | Adobe RGB (1998) |
ImageHeight (1) | 2336 |
ImageHeight | 533 |
ImageNumber | 61129 |
ImageSize | 800x533 |
ImageWidth (1) | 3504 |
ImageWidth | 800 |
ISO | 250 |
Lens | EF70-200mm f/2.8L USM |
LensInfo | 70-200mm f/? |
LightValue | 11.0 |
LuminanceAdjustmentAqua | 0 |
LuminanceAdjustmentBlue | 0 |
LuminanceAdjustmentGreen | +19 |
LuminanceAdjustmentMagenta | 0 |
LuminanceAdjustmentOrange | 0 |
LuminanceAdjustmentPurple | 0 |
LuminanceAdjustmentRed | 0 |
LuminanceAdjustmentYellow | +38 |
LuminanceSmoothing | 10 |
Make | Canon |
MaxApertureValue | 2.8 |
Megapixels | 0.426 |
MeteringMode | Spot |
Model | Canon EOS-1D Mark II N |
ModifyDate (1) | 2009:10:26 19:37:50+01:00 |
ModifyDate | 2009:10:26 19:37:50 |
Orientation | Horizontal (normal) |
ParametricDarks | +19 |
ParametricHighlights | -36 |
ParametricHighlightSplit | 75 |
ParametricLights | -52 |
ParametricMidtoneSplit | 50 |
ParametricShadows | 0 |
ParametricShadowSplit | 25 |
PostCropVignetteAmount | -19 |
PostCropVignetteFeather | 67 |
PostCropVignetteMidpoint | 62 |
PostCropVignetteRoundness | 0 |
ProfileDescription | Adobe RGB (1998) |
RedHue | 0 |
RedSaturation | 0 |
Saturation | -10 |
SaturationAdjustmentAqua | -45 |
SaturationAdjustmentBlue | -45 |
SaturationAdjustmentGreen | 0 |
SaturationAdjustmentMagenta | 0 |
SaturationAdjustmentOrange | 0 |
SaturationAdjustmentPurple | 0 |
SaturationAdjustmentRed | 0 |
SaturationAdjustmentYellow | -26 |
ScaleFactor35efl | 1.3 |
SceneCaptureType | Standard |
SerialNumber | 428737 |
Shadows | 0 |
ShadowTint | 0 |
SharpenDetail | 10 |
SharpenEdgeMasking | 18 |
SharpenRadius | +1.6 |
Sharpness | 118 |
ShutterSpeed | 1/80 |
ShutterSpeedValue | 1/80 |
Software | Adobe Photoshop CS4 Windows |
SplitToningBalance | 0 |
SplitToningHighlightHue | 0 |
SplitToningHighlightSaturation | 0 |
SplitToningShadowHue | 0 |
SplitToningShadowSaturation | 0 |
Tint | +4 |
ToneCurve | 0, 0, 32, 22, 64, 56, 128, 128, 192, 196, 255, 255 |
ToneCurveName | Medium Contrast |
URL_List | |
Version | 4.5 |
Vibrance | 0 |
VignetteAmount | -17 |
VignetteMidpoint | 31 |
WhiteBalance (2) | Custom |
WhiteBalance | Manual |