Felt | Verdi |
AlreadyApplied | True |
Aperture | 5.6 |
ApertureValue | 5.6 |
BitsPerSample | 8 |
BlueHue | 0 |
BlueSaturation | 0 |
Brightness | +50 |
CameraProfile | Adobe Standard |
Caption-Abstract | Test pŒ rŒfil |
CFAPattern | [Red,Green][Green,Blue] |
ChromaticAberrationB | 0 |
ChromaticAberrationR | 0 |
CircleOfConfusion | 0.020 mm |
Clarity | +50 |
ColorComponents | 3 |
ColorMode | RGB |
ColorNoiseReduction | 25 |
ColorSpace | sRGB |
ColorTemperature | 5500 |
Contrast (2) | +25 |
Contrast | Normal |
ConvertToGrayscale | False |
Copyright | Venche Jensen |
CopyrightFlag | True |
CopyrightNotice | Venche Jensen |
CreateDate (1) | 2009:06:03 12:14:16.15+02:00 |
CreateDate | 2009:06:03 12:14:16 |
CreatorTool | Ver.1.10 |
CropAngle | 0 |
CropBottom | 0.597076 |
CropLeft | 0.103183 |
CropRight | 0.575726 |
CropTop | 0 |
CustomRendered | Normal |
DateTimeDigitized | 2009:06:03 12:14:16.15+02:00 |
DateTimeOriginal (1) | 2009:06:03 12:14:16.15+02:00 |
DateTimeOriginal | 2009:06:03 12:14:16 |
Defringe | 0 |
Description | Test på råfil |
DigitalZoomRatio | 1 |
ExifImageHeight | 840 |
ExifImageWidth | 1001 |
Exposure | +0.05 |
ExposureCompensation | -1/2 |
ExposureMode | Auto |
ExposureProgram | Aperture-priority AE |
ExposureTime | 1/750 |
FillLight | 0 |
Flash | No Flash |
FlashFired | False |
FlashFunction | False |
FlashMode | Unknown |
FlashRedEyeMode | False |
FlashReturn | No return detection |
FNumber | 5.6 |
FocalLength | 200.0 mm |
FocalLength35efl | 200.0 mm (35 mm equivalent: 300.0 mm) |
FocalLengthIn35mmFormat | 300 mm |
Format | image/jpeg |
FOV | 6.9 deg |
GainControl | Low gain up |
GreenHue | 0 |
GreenSaturation | 0 |
HasCrop | True |
HasSettings | True |
HighlightRecovery | 0 |
HueAdjustmentAqua | 0 |
HueAdjustmentBlue | 0 |
HueAdjustmentGreen | 0 |
HueAdjustmentMagenta | 0 |
HueAdjustmentOrange | 0 |
HueAdjustmentPurple | 0 |
HueAdjustmentRed | 0 |
HueAdjustmentYellow | 0 |
HyperfocalDistance | 356.59 m |
ICCProfileName | sRGB IEC61966-2.1 |
ImageDescription | Test på råfil |
ImageHeight | 840 |
ImageNumber | 10822 |
ImageSize | 1001x840 |
ImageWidth | 1001 |
ISO | 400 |
Keywords | Tester D-Lux 4 |
Lens | 70.0-200.0 mm f/2.8 |
LensInfo | 70-200mm f/2.8 |
LightSource | Unknown |
LightValue | 12.5 |
LuminanceAdjustmentAqua | 0 |
LuminanceAdjustmentBlue | 0 |
LuminanceAdjustmentGreen | -42 |
LuminanceAdjustmentMagenta | 0 |
LuminanceAdjustmentOrange | 0 |
LuminanceAdjustmentPurple | 0 |
LuminanceAdjustmentRed | 0 |
LuminanceAdjustmentYellow | -86 |
LuminanceSmoothing | 0 |
Make | NIKON CORPORATION |
Marked | True |
MaxApertureValue | 2.8 |
Megapixels | 0.841 |
MeteringMode | Spot |
Model | NIKON D300 |
ModifyDate (1) | 2009:11:07 01:51:23+01:00 |
ModifyDate | 2009:11:07 01:51:23 |
Orientation | Horizontal (normal) |
ParametricDarks | 0 |
ParametricHighlights | 0 |
ParametricHighlightSplit | 75 |
ParametricLights | 0 |
ParametricMidtoneSplit | 50 |
ParametricShadows | +15 |
ParametricShadowSplit | 25 |
PostCropVignetteAmount | 0 |
ProfileDescription | sRGB IEC61966-2.1 |
Rating | 0 |
RawFileName | _2VJ0498.NEF |
RedHue | 0 |
RedSaturation | 0 |
Rights | Venche Jensen |
Saturation (2) | 0 |
Saturation | Normal |
SaturationAdjustmentAqua | 0 |
SaturationAdjustmentBlue | 0 |
SaturationAdjustmentGreen | +38 |
SaturationAdjustmentMagenta | 0 |
SaturationAdjustmentOrange | +28 |
SaturationAdjustmentPurple | 0 |
SaturationAdjustmentRed | 0 |
SaturationAdjustmentYellow | +51 |
ScaleFactor35efl | 1.5 |
SceneCaptureType | Standard |
SceneType | Directly photographed |
SensingMethod | One-chip color area |
SerialNumber | 4006116 |
Shadows | 5 |
ShadowTint | 0 |
SharpenDetail | 25 |
SharpenEdgeMasking | 0 |
SharpenRadius | +1.0 |
Sharpness (2) | 25 |
Sharpness | Normal |
ShutterSpeed | 1/750 |
ShutterSpeedValue | 1/750 |
Software | Adobe Photoshop CS4 Macintosh |
SplitToningBalance | 0 |
SplitToningHighlightHue | 0 |
SplitToningHighlightSaturation | 0 |
SplitToningShadowHue | 0 |
SplitToningShadowSaturation | 0 |
Subject | Tester D-Lux 4 |
SubjectDistanceRange | Unknown |
Tint | +10 |
ToneCurve | 0, 0, 32, 22, 64, 56, 128, 128, 192, 196, 255, 255 |
ToneCurveName | Medium Contrast |
URL | www.venche.no |
URL_List | |
Version | 5.5 |
Vibrance | +13 |
VignetteAmount | 0 |
WebStatement | www.venche.no |
WhiteBalance (2) | Custom |
WhiteBalance | Auto |