Felt | Verdi |
AlreadyApplied | True |
Aperture | 11.0 |
ApertureValue | 11.0 |
BitsPerSample | 8 |
BlueHue | 0 |
BlueSaturation | 0 |
Brightness | +50 |
By-line | Robin Strand |
CameraProfile | ACR 3.1 |
CFAPattern | [Red,Green][Green,Blue] |
ChromaticAberrationB | 0 |
ChromaticAberrationR | -19 |
CircleOfConfusion | 0.020 mm |
Clarity | +31 |
ColorComponents | 3 |
ColorNoiseReduction | 24 |
ColorTemperature | 4857 |
Contrast (2) | +25 |
Contrast | Low |
ConvertToGrayscale | False |
Copyright | Robin Strand |
CopyrightFlag | True |
CopyrightNotice | Robin Strand |
CreateDate (1) | 2008:01:01 18:47:27.32+01:00 |
CreateDate | 2008:01:01 18:47:27 |
Creator | Robin Strand |
CreatorAddress | Porsveien 23, 5142 Fyllingsdalen |
CreatorTool | Adobe Photoshop Lightroom |
CreatorWorkEmail | robinstrand56@gmail.com |
CreatorWorkTelephone | 004790764724 |
CreatorWorkURL | www.norphoto.no |
CropAngle | -0.485089 |
CropBottom | 0.987413 |
CropHeight | 797 |
CropLeft | 0.003517 |
CropRight | 0.996483 |
CropTop | 0.012587 |
CropUnit | pixels |
CropWidth | 1200 |
CustomRendered | Custom |
DateTimeDigitized | 2008:01:01 18:47:27.32+01:00 |
DateTimeOriginal (1) | 2008:01:01 18:47:27.32+01:00 |
DateTimeOriginal | 2008:01:01 18:47:27 |
Defringe | 0 |
DigitalZoomRatio | 1 |
ExifImageHeight | 797 |
ExifImageWidth | 1200 |
Exposure | +0.50 |
ExposureCompensation | 0 |
ExposureMode | Auto |
ExposureProgram | Aperture-priority AE |
ExposureTime | 9 |
FillLight | 7 |
Flash | No Flash |
FlashFired | False |
FlashFunction | False |
FlashMode | Unknown |
FlashRedEyeMode | False |
FlashReturn | No return detection |
FNumber | 11.0 |
FocalLength | 17.0 mm |
FocalLength35efl | 17.0 mm (35 mm equivalent: 25.0 mm) |
FocalLengthIn35mmFormat | 25 mm |
FOV | 71.5 deg |
GainControl | None |
GradientBasedCorrActive | true |
GradientBasedCorrAmount | 1.000000 |
GradientBasedCorrBrightness | 0.025000 |
GradientBasedCorrClarity | 0.000000 |
GradientBasedCorrContrast | 0.000000 |
GradientBasedCorrExposure (1) | -0.775000 |
GradientBasedCorrExposure | -0.350000 |
GradientBasedCorrHue | 2.000000 |
GradientBasedCorrMaskFullX (1) | 0.495379 |
GradientBasedCorrMaskFullX | 0.000315 |
GradientBasedCorrMaskFullY (1) | -0.002782 |
GradientBasedCorrMaskFullY | 0.074675 |
GradientBasedCorrMaskValue | 1.000000 |
GradientBasedCorrMaskWhat | Mask/Gradient |
GradientBasedCorrMaskZeroX (1) | 0.500000 |
GradientBasedCorrMaskZeroX | 0.268475 |
GradientBasedCorrMaskZeroY (1) | 0.834492 |
GradientBasedCorrMaskZeroY | 0.893444 |
GradientBasedCorrSaturation (1) | 0.225000 |
GradientBasedCorrSaturation (3) | 0.025000 |
GradientBasedCorrSaturation | 0.000000 |
GradientBasedCorrSharpness | 0.000000 |
GradientBasedCorrWhat | Correction |
GreenHue | 0 |
GreenSaturation | 0 |
HasCrop | True |
HasSettings | True |
HighlightRecovery | 21 |
HueAdjustmentAqua | 0 |
HueAdjustmentBlue | 0 |
HueAdjustmentGreen | 0 |
HueAdjustmentMagenta | 0 |
HueAdjustmentOrange | 0 |
HueAdjustmentPurple | 0 |
HueAdjustmentRed | 0 |
HueAdjustmentYellow | 0 |
HyperfocalDistance | 1.29 m |
ImageHeight | 797 |
ImageNumber | 24299 |
ImageSize | 1200x797 |
ImageWidth | 1200 |
ISO | 100 |
Keywords | bergen, fløyen, nattbilder, vestlandet, western norway |
LastKeywordXMP | fløyen, nattbilder |
Lens | 17.0-55.0 mm f/2.8 |
LensInfo | 17-55mm f/2.8 |
LightSource | Unknown |
LightValue | 3.7 |
LuminanceAdjustmentAqua | 0 |
LuminanceAdjustmentBlue | -12 |
LuminanceAdjustmentGreen | 0 |
LuminanceAdjustmentMagenta | 0 |
LuminanceAdjustmentOrange | 0 |
LuminanceAdjustmentPurple | 0 |
LuminanceAdjustmentRed | 0 |
LuminanceAdjustmentYellow | 0 |
LuminanceSmoothing | 0 |
Make | NIKON CORPORATION |
Marked | True |
MaxApertureValue | 2.8 |
Megapixels | 0.956 |
MeteringMode | Multi-segment |
Model | NIKON D2X |
ModifyDate (1) | 2009:11:19 20:51:56+01:00 |
ModifyDate | 2009:11:19 20:51:56 |
ParametricDarks | 0 |
ParametricHighlights | 0 |
ParametricHighlightSplit | 75 |
ParametricLights | 0 |
ParametricMidtoneSplit | 50 |
ParametricShadows | 0 |
ParametricShadowSplit | 25 |
PostCropVignetteAmount | 0 |
ProfileDescription | sRGB IEC61966-2.1 |
Rating | 5 |
RedHue | 0 |
RedSaturation | 0 |
Rights | Robin Strand |
Saturation (2) | +14 |
Saturation | Normal |
SaturationAdjustmentAqua | 0 |
SaturationAdjustmentBlue | 0 |
SaturationAdjustmentGreen | 0 |
SaturationAdjustmentMagenta | 0 |
SaturationAdjustmentOrange | 0 |
SaturationAdjustmentPurple | 0 |
SaturationAdjustmentRed | 0 |
SaturationAdjustmentYellow | 0 |
ScaleFactor35efl | 1.5 |
SceneCaptureType | Standard |
SceneType | Directly photographed |
SensingMethod | One-chip color area |
SerialNumber | 5002754 |
Shadows | 4 |
ShadowTint | 0 |
SharpenDetail | 9 |
SharpenEdgeMasking | 13 |
SharpenRadius | +0.7 |
Sharpness (2) | 25 |
Sharpness | Hard |
ShutterSpeed | 9 |
ShutterSpeedValue | 9 |
Software | Ver.2.00 |
SplitToningBalance | 0 |
SplitToningHighlightHue | 0 |
SplitToningHighlightSaturation | 1 |
SplitToningShadowHue | 0 |
SplitToningShadowSaturation | 0 |
Subject | bergen, fløyen, nattbilder, vestlandet, western norway |
SubjectDistanceRange | Unknown |
Tint | -3 |
ToneCurve | 0, 0, 32, 22, 64, 56, 128, 128, 192, 196, 255, 255 |
ToneCurveName | Medium Contrast |
Version | 5.5 |
Vibrance | +60 |
VignetteAmount | 0 |
WhiteBalance (2) | Custom |
WhiteBalance | Auto |