Felt | Verdi |
AlreadyApplied | True |
Aperture | 22.0 |
ApertureValue | 22.0 |
BitsPerSample | 8 |
BlueHue | -22 |
BlueSaturation | -14 |
Brightness | +54 |
CameraProfile | ACR 3.3 |
ChromaticAberrationB | -12 |
ChromaticAberrationR | -13 |
CircleOfConfusion | 0.030 mm |
ColorComponents | 1 |
ColorMode | RGB |
ColorSpace | sRGB |
ColorTemperature | 6200 |
Contrast | +37 |
ConvertToGrayscale | True |
CopyrightFlag | False |
CreateDate (1) | 2009:12:23 23:08:05+01:00 |
CreateDate | 2009:12:21 19:52:34 |
CreatorTool | Adobe Photoshop CS3 Windows |
CustomRendered | Normal |
DateTimeDigitized | 2009:12:21 19:52:34+01:00 |
DateTimeOriginal (1) | 2009:12:21 19:52:34+01:00 |
DateTimeOriginal | 2009:12:21 19:52:34 |
ExifImageHeight | 900 |
ExifImageWidth | 600 |
Exposure | +0.65 |
ExposureCompensation | 0 |
ExposureMode | Manual |
ExposureProgram | Manual |
ExposureTime | 1/125 |
FillLight | 0 |
Firmware | 1.1.0 |
Flash | Off, Did not fire |
FlashCompensation | 0 |
FlashFired | False |
FlashFunction | False |
FlashMode | Off |
FlashRedEyeMode | False |
FlashReturn | No return detection |
FNumber | 22.0 |
FocalLength | 85.0 mm |
FocalLength35efl | 85.0 mm (35 mm equivalent: 85.2 mm) |
Format | image/jpeg |
FOV | 23.9 deg |
GrayMixerAqua | -33 |
GrayMixerBlue | +18 |
GrayMixerGreen | -46 |
GrayMixerMagenta | +1 |
GrayMixerOrange | +1 |
GrayMixerPurple | +37 |
GrayMixerRed | +22 |
GrayMixerYellow | +10 |
GreenHue | +97 |
GreenSaturation | -8 |
HasCrop | False |
HasSettings | True |
HighlightRecovery | 8 |
HyperfocalDistance | 10.95 m |
ICCProfileName | sRGB IEC61966-2.1 |
ImageHeight | 900 |
ImageNumber | 22 |
ImageSize | 600x900 |
ImageWidth | 600 |
ISO | 100 |
Lens | EF85mm f/1.8 USM |
LensInfo | 85mm f/? |
LightValue | 15.9 |
LuminanceSmoothing | 0 |
Make | Canon |
MaxApertureValue | 1.8 |
Megapixels | 0.540 |
MeteringMode | Multi-segment |
Model | Canon EOS 5D |
ModifyDate (1) | 2009:12:23 23:08:05+01:00 |
ModifyDate | 2009:12:23 23:08:05 |
Orientation | Horizontal (normal) |
ParametricDarks | -39 |
ParametricHighlights | +20 |
ParametricHighlightSplit | 75 |
ParametricLights | -14 |
ParametricMidtoneSplit | 50 |
ParametricShadows | -1 |
ParametricShadowSplit | 25 |
ProfileDescription | sRGB IEC61966-2.1 |
Rating | 0 |
RawFileName | IMG_6872.CR2 |
RedHue | +49 |
RedSaturation | -12 |
ScaleFactor35efl | 1.0 |
SceneCaptureType | Standard |
SerialNumber | 3031204700 |
Shadows | 9 |
ShadowTint | -39 |
Sharpness | 25 |
ShutterSpeed | 1/125 |
ShutterSpeedValue | 1/125 |
SidecarForExtension | CR2 |
Software | Adobe Photoshop CS3 Windows |
SplitToningBalance | -5 |
SplitToningHighlightHue | 0 |
SplitToningHighlightSaturation | 0 |
SplitToningShadowHue | 9 |
SplitToningShadowSaturation | 0 |
TimeZoneOffset | 1 1 |
Tint | -2 |
ToneCurve | 0, 0, 32, 22, 64, 56, 128, 128, 192, 196, 255, 255 |
ToneCurveName | Medium Contrast |
URL_List | |
Version | 4.0 |
VignetteAmount | +27 |
VignetteMidpoint | 50 |
WhiteBalance (2) | Custom |
WhiteBalance | Manual |