Felt | Verdi |
AlreadyApplied | True |
Artist | Jan Erik Arud |
BitsPerSample (1) | 16, 16, 16 |
BitsPerSample | 8 |
BlueHue | 0 |
BlueSaturation | 0 |
Brightness | +71 |
By-line | Jan Erik Arud |
CameraProfile | Adobe Standard |
ChromaticAberrationB | 0 |
ChromaticAberrationR | 0 |
CircleOfConfusion | 0.031 mm |
Clarity | 0 |
ColorComponents | 3 |
ColorMode | RGB |
ColorNoiseReduction | 29 |
ColorSpace | sRGB |
ColorTemperature | 4350 |
Contrast | +70 |
ConvertToGrayscale | False |
Copyright | Jan Erik Arud |
CopyrightFlag | True |
CopyrightNotice | Jan Erik Arud |
CreateDate (1) | 2009:12:28 18:12:57.49+01:00 |
CreateDate | 2009:12:28 18:12:57 |
Creator | Jan Erik Arud |
CreatorWorkEmail | arud@bluezone.no |
CreatorWorkURL | http://www.flickr.com/photos/jarud/ |
CropAngle | 0.561747 |
CropBottom | 0.920069 |
CropLeft | 0.072628 |
CropRight | 0.899447 |
CropTop | 0.079111 |
CustomRendered | Normal |
DateTimeDigitized | 2009:12:28 18:12:57.49+01:00 |
DateTimeOriginal (1) | 2009:12:28 18:12:57.49+01:00 |
DateTimeOriginal | 2009:12:28 18:12:57 |
Defringe | 2 |
ExifImageHeight | 1185 |
ExifImageWidth | 1198 |
Exposure | +1.52 |
ExposureCompensation | 0 |
ExposureMode | Manual |
ExposureProgram | Manual |
ExposureTime | 1/80 |
FillLight | 26 |
Firmware | 1.2.4 |
Flash | Off, Did not fire |
FlashCompensation | 0 |
FlashFired | False |
FlashFunction | False |
FlashMode | Off |
FlashRedEyeMode | False |
FlashReturn | No return detection |
FocalLength | 50.0 mm |
FocalLength35efl | 50.0 mm (35 mm equivalent: 48.8 mm) |
Format | image/jpeg |
FOV | 40.5 deg |
GradientBasedCorrActive | true |
GradientBasedCorrAmount | 1.000000 |
GradientBasedCorrBrightness (1) | -0.175000 |
GradientBasedCorrBrightness | 0.025000 |
GradientBasedCorrClarity | 0.000000 |
GradientBasedCorrContrast (1) | 0.575000 |
GradientBasedCorrContrast | 0.050000 |
GradientBasedCorrExposure (1) | -0.100000 |
GradientBasedCorrExposure | -0.175000 |
GradientBasedCorrHue (1) | 232.000000 |
GradientBasedCorrHue | 51.000000 |
GradientBasedCorrMaskFullX (1) | 0.741739 |
GradientBasedCorrMaskFullX | 0.336458 |
GradientBasedCorrMaskFullY (1) | 0.578743 |
GradientBasedCorrMaskFullY | 0.330512 |
GradientBasedCorrMaskValue | 1.000000 |
GradientBasedCorrMaskWhat | Mask/Gradient |
GradientBasedCorrMaskZeroX (1) | 0.268529 |
GradientBasedCorrMaskZeroX | 0.550268 |
GradientBasedCorrMaskZeroY (1) | 0.396912 |
GradientBasedCorrMaskZeroY | 0.618495 |
GradientBasedCorrSaturation (2) | 0.350000 |
GradientBasedCorrSaturation (3) | -0.149425 |
GradientBasedCorrSaturation | 0.760000 |
GradientBasedCorrSharpness | 0.000000 |
GradientBasedCorrWhat | Correction |
GreenHue | 0 |
GreenSaturation | 0 |
HasCrop | True |
HasSettings | True |
HighlightRecovery | 4 |
HueAdjustmentAqua | 0 |
HueAdjustmentBlue | 0 |
HueAdjustmentGreen | 0 |
HueAdjustmentMagenta | 0 |
HueAdjustmentOrange | 0 |
HueAdjustmentPurple | 0 |
HueAdjustmentRed | 0 |
HueAdjustmentYellow | 0 |
ICCProfileName | sRGB IEC61966-2.1 |
ImageHeight | 1185 |
ImageNumber | 0 |
ImageSize | 1198x1185 |
ImageWidth | 1198 |
ISO | 100 |
Label | Yellow |
LuminanceAdjustmentAqua | 0 |
LuminanceAdjustmentBlue | 0 |
LuminanceAdjustmentGreen | 0 |
LuminanceAdjustmentMagenta | 0 |
LuminanceAdjustmentOrange | 0 |
LuminanceAdjustmentPurple | 0 |
LuminanceAdjustmentRed | 0 |
LuminanceAdjustmentYellow | 0 |
LuminanceSmoothing | 26 |
Make | Canon |
Marked | True |
Megapixels | 1.4 |
MeteringMode | Multi-segment |
Model | Canon EOS 5D Mark II |
ModifyDate (1) | 2009:12:29 21:39+01:00 |
ModifyDate | 2009:12:29 21:39:00 |
Orientation | Horizontal (normal) |
ParametricDarks | -14 |
ParametricHighlights | 0 |
ParametricHighlightSplit | 75 |
ParametricLights | +45 |
ParametricMidtoneSplit | 50 |
ParametricShadows | +34 |
ParametricShadowSplit | 25 |
PhotometricInterpretation | RGB |
PlanarConfiguration | Chunky |
PostCropVignetteAmount | 0 |
ProfileDescription | sRGB IEC61966-2.1 |
Rating | 1 |
RawFileName | IMG_9862.CR2 |
RedHue | 0 |
RedSaturation | 0 |
Rights | Jan Erik Arud |
SamplesPerPixel | 3 |
Saturation | +7 |
SaturationAdjustmentAqua | 0 |
SaturationAdjustmentBlue | 0 |
SaturationAdjustmentGreen | 0 |
SaturationAdjustmentMagenta | 0 |
SaturationAdjustmentOrange | 0 |
SaturationAdjustmentPurple | 0 |
SaturationAdjustmentRed | 0 |
SaturationAdjustmentYellow | 0 |
ScaleFactor35efl | 1.0 |
SceneCaptureType | Standard |
SerialNumber | 1330808505 |
Shadows | 4 |
ShadowTint | 0 |
SharpenDetail | 93 |
SharpenEdgeMasking | 0 |
SharpenRadius | +1.0 |
Sharpness | 77 |
ShutterSpeed | 1/80 |
ShutterSpeedValue | 1/80 |
Software | Adobe Photoshop CS4 Windows |
SplitToningBalance | +67 |
SplitToningHighlightHue | 0 |
SplitToningHighlightSaturation | 0 |
SplitToningShadowHue | 214 |
SplitToningShadowSaturation | 15 |
Tint | 0 |
ToneCurve | 0, 0, 32, 22, 64, 56, 128, 128, 192, 196, 255, 255 |
ToneCurveName | Medium Contrast |
URL_List | |
Version | 5.6 |
Vibrance | +5 |
VignetteAmount | 0 |
WhiteBalance | Auto |