Felt | Verdi |
AlreadyApplied | True |
Aperture | 13.0 |
ApertureValue | 13.0 |
Artist | unknown |
BitsPerSample | 8 |
BlueHue | 0 |
BlueSaturation | 0 |
Brightness | +50 |
By-line | unknown |
CameraProfile | Adobe Standard |
ChromaticAberrationB | +100 |
ChromaticAberrationR | 0 |
CircleOfConfusion | 0.019 mm |
Clarity | -32 |
ColorComponents | 3 |
ColorMode | RGB |
ColorNoiseReduction | 25 |
ColorSpace | Uncalibrated |
ColorTemperature | 5500 |
Contrast | -9 |
ConvertToGrayscale | False |
CreateDate (1) | 2009:05:24 13:46:12+02:00 |
CreateDate | 2009:05:24 13:46:12 |
Creator | unknown |
CropAngle | 0.20703 |
CropBottom | 1 |
CropLeft | 0.003893 |
CropRight | 0.996107 |
CropTop | 0 |
CustomRendered | Normal |
DateTimeDigitized | 2009:05:24 13:46:12+02:00 |
DateTimeOriginal (1) | 2009:05:24 13:46:12+02:00 |
DateTimeOriginal | 2009:05:24 13:46:12 |
Defringe | 1 |
ExifImageHeight | 2578 |
ExifImageWidth | 3867 |
Exposure | -0.55 |
ExposureCompensation | 0 |
ExposureMode | Auto |
ExposureProgram | Program AE |
ExposureTime | 1/160 |
FillLight | 15 |
Firmware | 1.1.0 |
Flash | Off, Did not fire |
FlashCompensation | 0 |
FlashFired | False |
FlashFunction | False |
FlashMode | Off |
FlashRedEyeMode | False |
FlashReturn | No return detection |
FNumber | 13.0 |
FocalLength | 20.0 mm |
FocalLength35efl | 20.0 mm (35 mm equivalent: 32.4 mm) |
Format | image/jpeg |
FOV | 58.2 deg |
GradientBasedCorrActive | true |
GradientBasedCorrAmount | 1.000000 |
GradientBasedCorrBrightness | -0.780000 |
GradientBasedCorrClarity | 0.690000 |
GradientBasedCorrContrast | 0.400000 |
GradientBasedCorrExposure | 0.137500 |
GradientBasedCorrHue (1) | 240.000000 |
GradientBasedCorrHue | 234.000000 |
GradientBasedCorrMaskFullX (1) | 0.288469 |
GradientBasedCorrMaskFullX | 0.307343 |
GradientBasedCorrMaskFullY (1) | 0.020781 |
GradientBasedCorrMaskFullY | 0.574392 |
GradientBasedCorrMaskValue | 1.000000 |
GradientBasedCorrMaskWhat | Mask/Gradient |
GradientBasedCorrMaskZeroX (1) | 0.285218 |
GradientBasedCorrMaskZeroX | 0.303908 |
GradientBasedCorrMaskZeroY (1) | 0.577125 |
GradientBasedCorrMaskZeroY | 1.009608 |
GradientBasedCorrSaturation (1) | 0.530000 |
GradientBasedCorrSaturation (2) | 0.540000 |
GradientBasedCorrSaturation | 0.930000 |
GradientBasedCorrSharpness | 1.000000 |
GradientBasedCorrWhat | Correction |
GreenHue | 0 |
GreenSaturation | 0 |
HasCrop | True |
HasSettings | True |
HighlightRecovery | 0 |
HueAdjustmentAqua | 0 |
HueAdjustmentBlue | 0 |
HueAdjustmentGreen | 0 |
HueAdjustmentMagenta | 0 |
HueAdjustmentOrange | +67 |
HueAdjustmentPurple | 0 |
HueAdjustmentRed | +63 |
HueAdjustmentYellow | 0 |
HyperfocalDistance | 1.66 m |
ICCProfileName | Adobe RGB (1998) |
ImageHeight | 2578 |
ImageNumber | 48 |
ImageSize | 3867x2578 |
ImageWidth | 3867 |
ISO | 100 |
Lens | 10.0-20.0 mm |
LensInfo | 10-20mm f/? |
LightValue | 14.7 |
LuminanceAdjustmentAqua | 0 |
LuminanceAdjustmentBlue | 0 |
LuminanceAdjustmentGreen | 0 |
LuminanceAdjustmentMagenta | 0 |
LuminanceAdjustmentOrange | 0 |
LuminanceAdjustmentPurple | 0 |
LuminanceAdjustmentRed | 0 |
LuminanceAdjustmentYellow | 0 |
LuminanceSmoothing | 73 |
Make | Canon |
MaxApertureValue | 5.6 |
Megapixels | 10.0 |
MeteringMode | Multi-segment |
Model | Canon EOS 400D DIGITAL |
ModifyDate (1) | 2009:12:30 14:47:25+01:00 |
ModifyDate | 2009:12:30 14:47:25 |
Orientation | Horizontal (normal) |
OwnerName | unknown |
ParametricDarks | +82 |
ParametricHighlights | -100 |
ParametricHighlightSplit | 75 |
ParametricLights | -100 |
ParametricMidtoneSplit | 42 |
ParametricShadows | +4 |
ParametricShadowSplit | 25 |
PostCropVignetteAmount | -35 |
PostCropVignetteFeather | 0 |
PostCropVignetteMidpoint | 0 |
PostCropVignetteRoundness | -100 |
ProfileDescription | Adobe RGB (1998) |
Rating | 0 |
RawFileName | IMG_9539.CR2 |
RedHue | 0 |
RedSaturation | 0 |
Saturation | -96 |
SaturationAdjustmentAqua | 0 |
SaturationAdjustmentBlue | 0 |
SaturationAdjustmentGreen | 0 |
SaturationAdjustmentMagenta | 0 |
SaturationAdjustmentOrange | 0 |
SaturationAdjustmentPurple | 0 |
SaturationAdjustmentRed | 0 |
SaturationAdjustmentYellow | 0 |
ScaleFactor35efl | 1.6 |
SceneCaptureType | Standard |
SerialNumber | 1230846588 |
Shadows | 23 |
ShadowTint | 0 |
SharpenDetail | 25 |
SharpenEdgeMasking | 0 |
SharpenRadius | +1.0 |
Sharpness | 55 |
ShutterSpeed | 1/160 |
ShutterSpeedValue | 1/160 |
SidecarForExtension | CR2 |
Software | Adobe Photoshop CS4 Windows |
SplitToningBalance | +13 |
SplitToningHighlightHue | 324 |
SplitToningHighlightSaturation | 12 |
SplitToningShadowHue | 63 |
SplitToningShadowSaturation | 15 |
Tint | +10 |
ToneCurve | 0, 0, 32, 22, 64, 56, 128, 128, 192, 196, 255, 255 |
ToneCurveName | Medium Contrast |
URL_List | |
Version | 5.4 |
Vibrance | +44 |
VignetteAmount | +55 |
VignetteMidpoint | 100 |
WhiteBalance (2) | Daylight |
WhiteBalance | Auto |