Felt | Verdi |
AlreadyApplied | True |
Aperture | 18.0 |
ApertureValue | 18.0 |
BitsPerSample | 8 |
BlueHue | -13 |
BlueSaturation | -10 |
Brightness | +42 |
CameraProfile | Camera Standard |
ChromaticAberrationB | +2 |
ChromaticAberrationR | -3 |
CircleOfConfusion | 0.031 mm |
Clarity | +95 |
ColorComponents | 1 |
ColorMode | RGB |
ColorNoiseReduction | 15 |
ColorSpace | sRGB |
ColorTemperature | 3917 |
Contrast | +13 |
ConvertToGrayscale | True |
CopyrightFlag | False |
CreateDate (1) | 2010:01:05 19:52:19+01:00 |
CreateDate | 2009:03:03 14:16:34 |
CreatorTool | Adobe Photoshop Elements 6.0 Windows |
CustomRendered | Normal |
DateTimeDigitized | 2009:03:03 14:16:34.18+01:00 |
DateTimeOriginal (1) | 2009:03:03 14:16:34.18+01:00 |
DateTimeOriginal | 2009:03:03 14:16:34 |
Defringe | 0 |
ExifImageHeight | 743 |
ExifImageWidth | 1063 |
Exposure | +0.87 |
ExposureCompensation | 0 |
ExposureMode | Auto |
ExposureProgram | Aperture-priority AE |
ExposureTime | 1/320 |
FillLight | 22 |
Firmware | 1.0.6 |
Flash | Off, Did not fire |
FlashCompensation | 0 |
FlashFired | False |
FlashFunction | False |
FlashMode | Off |
FlashRedEyeMode | False |
FlashReturn | No return detection |
FNumber | 18.0 |
FocalLength | 50.0 mm |
FocalLength35efl | 50.0 mm (35 mm equivalent: 48.8 mm) |
Format | image/jpeg |
FOV | 40.5 deg |
GrayMixerAqua | +8 |
GrayMixerBlue | +5 |
GrayMixerGreen | -19 |
GrayMixerMagenta | +6 |
GrayMixerOrange | -1 |
GrayMixerPurple | -9 |
GrayMixerRed | +4 |
GrayMixerYellow | +6 |
GreenHue | -13 |
GreenSaturation | -12 |
HasCrop | False |
HasSettings | True |
HighlightRecovery | 24 |
HyperfocalDistance | 4.51 m |
ICCProfileName | sRGB IEC61966-2.1 |
ImageHeight (1) | 3744 |
ImageHeight | 743 |
ImageNumber | 0 |
ImageSize | 1063x743 |
ImageWidth (1) | 5616 |
ImageWidth | 1063 |
ISO | 500 |
Lens | EF50mm f/1.4 USM |
LensInfo | 50mm f/? |
LightValue | 14.3 |
LuminanceSmoothing | 100 |
Make | Canon |
MaxApertureValue | 1.4 |
Megapixels | 0.790 |
MeteringMode | Center-weighted average |
Model | Canon EOS 5D Mark II |
ModifyDate (1) | 2010:01:05 19:52:19+01:00 |
ModifyDate | 2010:01:05 19:52:19 |
Orientation | Horizontal (normal) |
ParametricDarks | +88 |
ParametricHighlights | -17 |
ParametricHighlightSplit | 75 |
ParametricLights | +75 |
ParametricMidtoneSplit | 50 |
ParametricShadows | +65 |
ParametricShadowSplit | 25 |
PostCropVignetteAmount | -5 |
PostCropVignetteFeather | 48 |
PostCropVignetteMidpoint | 47 |
PostCropVignetteRoundness | -5 |
ProfileDescription | sRGB IEC61966-2.1 |
RedHue | -5 |
RedSaturation | -5 |
ScaleFactor35efl | 1.0 |
SceneCaptureType | Standard |
SerialNumber | 130101597 |
Shadows | 100 |
ShadowTint | -13 |
SharpenDetail | 35 |
SharpenEdgeMasking | 0 |
SharpenRadius | +1.2 |
Sharpness | 61 |
ShutterSpeed | 1/320 |
ShutterSpeedValue | 1/320 |
Software | Adobe Photoshop Elements 6.0 Windows |
SplitToningBalance | -7 |
SplitToningHighlightHue | 0 |
SplitToningHighlightSaturation | 0 |
SplitToningShadowHue | 0 |
SplitToningShadowSaturation | 0 |
Tint | -3 |
ToneCurve | 0, 0, 32, 22, 64, 56, 128, 128, 192, 196, 255, 255 |
ToneCurveName | Medium Contrast |
URL_List | |
Version | 5.5 |
VignetteAmount | -5 |
VignetteMidpoint | 49 |
WhiteBalance (2) | Custom |
WhiteBalance | Auto |