Felt | Verdi |
AlreadyApplied | True |
Aperture | 8.0 |
ApertureValue | 8.0 |
Artist | Morten Prom |
BitsPerSample | 8 |
BlueHue | 0 |
BlueSaturation | 0 |
Brightness | 0 |
By-line | Morten Prom |
CameraProfile | Embedded |
Caption-Abstract | Mystique |
ChromaticAberrationB | 0 |
ChromaticAberrationR | 0 |
CircleOfConfusion | 0.031 mm |
Clarity | +36 |
ColorComponents | 3 |
ColorMode | RGB |
ColorNoiseReduction | 0 |
ColorSpace | sRGB |
Contrast | +62 |
ConvertToGrayscale | False |
Copyright | Copyright Morten Prom 2009 |
CopyrightFlag | True |
CopyrightNotice | Copyright Morten Prom 2009 |
CreateDate (1) | 2009:12:28 12:50:25.20+01:00 |
CreateDate | 2009:12:28 12:50:25 |
Creator | Morten Prom |
CreatorCity | Oslo |
CreatorCountry | Norway |
CreatorRegion | Oslo |
CreatorTool | Adobe Photoshop Lightroom |
CreatorWorkEmail | photo@mortenprom.com |
CreatorWorkURL | http://www.mortenprom.com/ |
CropAngle | 1.24 |
CropBottom | 1 |
CropHeight | 915 |
CropLeft | 0.077461 |
CropRight | 0.969337 |
CropTop | 0 |
CropUnit | pixels |
CropWidth | 1281 |
CustomRendered | Normal |
DateTimeDigitized | 2009:12:28 12:50:25.20+01:00 |
DateTimeOriginal (1) | 2009:12:28 12:50:25.20+01:00 |
DateTimeOriginal | 2009:12:28 12:50:25 |
Defringe | 0 |
Description | Mystique |
ExifImageHeight | 915 |
ExifImageWidth | 1281 |
Exposure | 0.00 |
ExposureCompensation | 0 |
ExposureMode | Manual |
ExposureProgram | Manual |
ExposureTime | 8 |
FillLight | 15 |
Firmware | 1.1.0 |
Flash | Off, Did not fire |
FlashCompensation | 0 |
FlashFired | False |
FlashFunction | False |
FlashMode | Off |
FlashRedEyeMode | False |
FlashReturn | No return detection |
FNumber | 8.0 |
FocalLength | 32.0 mm |
FocalLength35efl | 32.0 mm (35 mm equivalent: 31.2 mm) |
Format | image/jpeg |
FOV | 59.9 deg |
GreenHue | 0 |
GreenSaturation | 0 |
HasCrop | True |
HasSettings | True |
HierarchicalSubject | canon 17-40 f/4L, canon 5D mkII, mortenprom, natural density filter, nd 1000x, nd 3.0, nd1000 |
HighlightRecovery | 55 |
HueAdjustmentAqua | 0 |
HueAdjustmentBlue | 0 |
HueAdjustmentGreen | 0 |
HueAdjustmentMagenta | 0 |
HueAdjustmentOrange | 0 |
HueAdjustmentPurple | 0 |
HueAdjustmentRed | 0 |
HueAdjustmentYellow | 0 |
HyperfocalDistance | 4.16 m |
ICCProfileName | sRGB IEC61966-2.1 |
ImageDescription | Mystique |
ImageHeight | 915 |
ImageNumber | 0 |
ImageSize | 1281x915 |
ImageWidth | 1281 |
IncrementalTemperature | 0 |
IncrementalTint | -3 |
ISO | 400 |
Keywords | canon 17-40 f/4L, canon 5D mkII, mortenprom, natural density filter, nd 1000x, nd 3.0, nd1000 |
Lens | EF17-40mm f/4L USM |
LensInfo | 17-40mm f/? |
LightValue | 1.0 |
LuminanceAdjustmentAqua | 0 |
LuminanceAdjustmentBlue | 0 |
LuminanceAdjustmentGreen | 0 |
LuminanceAdjustmentMagenta | 0 |
LuminanceAdjustmentOrange | 0 |
LuminanceAdjustmentPurple | 0 |
LuminanceAdjustmentRed | 0 |
LuminanceAdjustmentYellow | 0 |
LuminanceSmoothing | 0 |
Make | Canon |
Marked | True |
MaxApertureValue | 4.0 |
Megapixels | 1.2 |
MeteringMode | Multi-segment |
Model | Canon EOS 5D Mark II |
ModifyDate (1) | 2009:12:29 00:50:07+01:00 |
ModifyDate | 2009:12:29 00:50:07 |
ObjectName | Mystique |
Orientation | Horizontal (normal) |
ParametricDarks | 0 |
ParametricHighlights | 0 |
ParametricHighlightSplit | 75 |
ParametricLights | 0 |
ParametricMidtoneSplit | 50 |
ParametricShadows | 0 |
ParametricShadowSplit | 25 |
PostCropVignetteAmount | 0 |
ProfileDescription | sRGB IEC61966-2.1 |
Rating | 5 |
RedHue | 0 |
RedSaturation | 0 |
Rights | Copyright Morten Prom 2009 |
Saturation | +26 |
SaturationAdjustmentAqua | 0 |
SaturationAdjustmentBlue | 0 |
SaturationAdjustmentGreen | 0 |
SaturationAdjustmentMagenta | 0 |
SaturationAdjustmentOrange | 0 |
SaturationAdjustmentPurple | 0 |
SaturationAdjustmentRed | 0 |
SaturationAdjustmentYellow | 0 |
ScaleFactor35efl | 1.0 |
SceneCaptureType | Standard |
SerialNumber | 1120704418 |
Shadows | 4 |
ShadowTint | 0 |
SharpenDetail | 25 |
SharpenEdgeMasking | 0 |
SharpenRadius | +1.0 |
Sharpness | 0 |
ShutterSpeed | 8 |
ShutterSpeedValue | 8 |
Software | Adobe Photoshop CS4 Windows |
SplitToningBalance | 0 |
SplitToningHighlightHue | 0 |
SplitToningHighlightSaturation | 0 |
SplitToningShadowHue | 0 |
SplitToningShadowSaturation | 0 |
Subject | canon 17-40 f/4L, canon 5D mkII, mortenprom, natural density filter, nd 1000x, nd 3.0, nd1000 |
Title | Mystique |
ToneCurve | 0, 0, 255, 255 |
ToneCurveName | Linear |
URL | http://www.mortenprom.com/ |
URL_List | |
UsageTerms | http://www.mortenprom.com/ |
Version | 5.5 |
Vibrance | +52 |
VignetteAmount | 0 |
WebStatement | http://www.mortenprom.com/ |
WhiteBalance (2) | Custom |
WhiteBalance | Auto |