Felt | Verdi |
2009-10-13T13:27:39+02:00 File røros_hus1.tif opened
2009-10-13T13:31:44+02:00 File røros_hus1.tif closed
2009-10-13T13:31:44+02:00 File røros_hus1.tif saved
2009-10-13T13:33:34+02:00 File røros_hus1.tif opened
2009-10-13T13:35:12+02:00 File røros_hus1.tif closed
2009-10-13T13:35:12+02:00 File røros_hus1.tif saved
2010-01-01T20:42:27+01:00 File røros_hus1.tif opened
2010-01-01T21:10:46+01:00 File røros_hus1.tif closed
2010-01-01T21:10:46+01:00 File røros_hus1.tif saved
2010-01-01T21:11:54+01:00 File røros_hus1.tif opened
2010-01-01T21:16:37+01:00 File røros_jan.tif saved
2010-01-04T13:42:58+01:00 File røros_jan.tif opened
2010-01-04T13:45:11+01:00 File røros_jan.tif closed
2010-01-04T13:45:11+01:00 File røros_jan.tif saved
2010-01-08T15:04+01:00 File røros_jan.tif opened
2010-01-08T15:05:12+01:00 File røros.jpg saved
AlreadyApplied | True |
Aperture | 9.0 |
ApertureValue | 9.0 |
Artist | unknown |
BitsPerSample (1) | 16, 16, 16 |
BitsPerSample (2) | 16 16 16 |
BitsPerSample | 8 |
BlueHue | 0 |
BlueSaturation | 0 |
Brightness | +50 |
By-line | unknown |
CameraProfile | Adobe Standard |
ChromaticAberrationB | 0 |
ChromaticAberrationR | 0 |
CircleOfConfusion | 0.019 mm |
Clarity | 0 |
ColorComponents | 3 |
ColorMode | RGB |
ColorNoiseReduction | 25 |
ColorSpace | sRGB |
ColorTemperature | 5900 |
Contrast | +25 |
ConvertToGrayscale | False |
CreateDate (1) | 2009:07:17 12:08:39+02:00 |
CreateDate | 2009:07:17 12:08:39 |
Creator | unknown |
CropAngle | -0.507029 |
CropBottom | 0.876426 |
CropLeft | 0.063738 |
CropRight | 0.941193 |
CropTop | 0.041734 |
CustomRendered | Normal |
DateTimeDigitized | 2009:07:17 12:08:39+02:00 |
DateTimeOriginal (1) | 2009:07:17 12:08:39+02:00 |
DateTimeOriginal | 2009:07:17 12:08:39 |
Defringe | 0 |
ExifImageHeight | 794 |
ExifImageWidth | 815 |
Exposure | +1.45 |
ExposureCompensation | 0 |
ExposureMode | Auto bracket |
ExposureProgram | Aperture-priority AE |
ExposureTime | 1/50 |
FillLight | 0 |
Firmware | 1.0.4 |
Flash | Off, Did not fire |
FlashCompensation | 2 |
FlashFired | False |
FlashFunction | False |
FlashMode | Off |
FlashRedEyeMode | False |
FlashReturn | No return detection |
FNumber | 9.0 |
FocalLength | 33.0 mm |
FocalLength35efl | 33.0 mm (35 mm equivalent: 53.4 mm) |
Format | image/jpeg |
FOV | 37.3 deg |
GreenHue | 0 |
GreenSaturation | 0 |
HasCrop | True |
HasSettings | True |
HighlightRecovery | 0 |
HueAdjustmentAqua | 0 |
HueAdjustmentBlue | 0 |
HueAdjustmentGreen | 0 |
HueAdjustmentMagenta | 0 |
HueAdjustmentOrange | 0 |
HueAdjustmentPurple | 0 |
HueAdjustmentRed | 0 |
HueAdjustmentYellow | 0 |
HyperfocalDistance | 6.52 m |
ICCProfileName | sRGB IEC61966-2.1 |
ImageHeight (1) | 1573 |
ImageHeight | 794 |
ImageNumber | 96 |
ImageSize | 815x794 |
ImageWidth (2) | 1615 |
ImageWidth | 815 |
ISO | 100 |
Label | Review |
Lens | EF-S17-85mm f/4-5.6 IS USM |
LensInfo | 17-85mm f/? |
LightValue | 12.0 |
LuminanceAdjustmentAqua | 0 |
LuminanceAdjustmentBlue | 0 |
LuminanceAdjustmentGreen | 0 |
LuminanceAdjustmentMagenta | 0 |
LuminanceAdjustmentOrange | 0 |
LuminanceAdjustmentPurple | 0 |
LuminanceAdjustmentRed | 0 |
LuminanceAdjustmentYellow | 0 |
LuminanceSmoothing | 0 |
Make | Canon |
MaxApertureValue | 4.0 |
Megapixels | 0.647 |
MeteringMode | Average |
Model | Canon EOS 400D DIGITAL |
ModifyDate (1) | 2010:01:08 15:05:12+01:00 |
ModifyDate | 2010:01:08 15:05:12 |
Orientation | Horizontal (normal) |
OwnerName | unknown |
ParametricDarks | -12 |
ParametricHighlights | -45 |
ParametricHighlightSplit | 75 |
ParametricLights | -18 |
ParametricMidtoneSplit | 50 |
ParametricShadows | -11 |
ParametricShadowSplit | 25 |
PhotometricInterpretation | RGB |
PlanarConfiguration | Chunky |
PostCropVignetteAmount | 0 |
PreservedFileName | _MG_9318.CR2 |
ProfileDescription | sRGB IEC61966-2.1 |
Rating | 0 |
RawFileName | _MG_9318.CR2 |
RedHue | 0 |
RedSaturation | 0 |
SamplesPerPixel | 3 |
Saturation | 0 |
SaturationAdjustmentAqua | 0 |
SaturationAdjustmentBlue | 0 |
SaturationAdjustmentGreen | 0 |
SaturationAdjustmentMagenta | 0 |
SaturationAdjustmentOrange | 0 |
SaturationAdjustmentPurple | 0 |
SaturationAdjustmentRed | 0 |
SaturationAdjustmentYellow | 0 |
ScaleFactor35efl | 1.6 |
SceneCaptureType | Standard |
SerialNumber | 330135969 |
Shadows | 4 |
ShadowTint | 0 |
SharpenDetail | 25 |
SharpenEdgeMasking | 0 |
SharpenRadius | +1.0 |
Sharpness | 25 |
ShutterSpeed | 1/50 |
ShutterSpeedValue | 1/50 |
Software | Adobe Photoshop CS4 Macintosh |
SplitToningBalance | 0 |
SplitToningHighlightHue | 0 |
SplitToningHighlightSaturation | 0 |
SplitToningShadowHue | 0 |
SplitToningShadowSaturation | 0 |
Tint | +10 |
ToneCurve | 0, 0, 32, 22, 64, 56, 128, 128, 192, 196, 255, 255 |
ToneCurveName | Medium Contrast |
URL_List | |
Version | 5.4 |
Vibrance | 0 |
VignetteAmount | 0 |
WhiteBalance (2) | As Shot |
WhiteBalance | Auto |