Felt | Verdi |
AlreadyApplied | True |
Aperture | 6.3 |
ApertureValue | 6.3 |
Artist | Tor Olav Rydlende |
BitsPerSample | 8 |
BlueHue | 0 |
BlueSaturation | 0 |
Brightness | +63 |
By-line | Tor Olav Rydlende |
CameraProfile | Adobe Standard |
Caption-Abstract | 20100110 Husbrann Breland seral. Foto: Tor Olav Rydlende |
ChromaticAberrationB | 0 |
ChromaticAberrationR | 0 |
CircleOfConfusion | 0.030 mm |
City (1) | Breland, seral Kommune, Vest Ag |
City | Breland, Åseral Kommune, Vest Agder, Norway |
Clarity | 0 |
ColorComponents | 1 |
ColorNoiseReduction | 25 |
ColorNoiseReductionDetail | 50 |
ColorTemperature | 6400 |
Contrast | +33 |
ConvertToGrayscale | True |
Country-PrimaryLocationCode | NOR |
CountryCode | NOR |
CreateDate (1) | 2010:01:10 11:54:39.60+01:00 |
CreateDate | 2010:01:10 11:54:39 |
Creator | Tor Olav Rydlende |
CreatorTool | Adobe Photoshop Lightroom |
CropAngle | -2.93462 |
CropBottom | 0.911945 |
CropHeight | 1000 |
CropLeft | 0.081233 |
CropRight | 0.982461 |
CropTop | 0.107509 |
CropUnit | pixels |
CropWidth | 1500 |
CustomRendered | Normal |
DateCreated (1) | 2010:01:10 |
DateCreated | 2010:01:10 11:54:39+01:00 |
DateTimeDigitized | 2010:01:10 11:54:39.60+01:00 |
DateTimeOriginal (1) | 2010:01:10 11:54:39.60+01:00 |
DateTimeOriginal | 2010:01:10 11:54:39 |
Defringe | 0 |
Description | 20100110 Husbrann Breland Åseral. Foto: Tor Olav Rydlende |
DOF | 4.02 m (18.78 - 22.80 m) |
ExifImageHeight | 1500 |
ExifImageWidth | 1000 |
Exposure | 0.00 |
ExposureCompensation | +1/3 |
ExposureMode | Auto |
ExposureProgram | Aperture-priority AE |
ExposureTime | 1/160 |
FillLight | 3 |
Firmware | 1.2.0 |
Flash | Off, Did not fire |
FlashCompensation | 0 |
FlashFired | False |
FlashFunction | False |
FlashMode | Off |
FlashRedEyeMode | False |
FlashReturn | No return detection |
FNumber | 6.3 |
FocalLength | 200.0 mm |
FocalLength35efl | 200.0 mm (35 mm equivalent: 199.8 mm) |
FOV | 10.3 deg |
GrainAmount | 0 |
GrayMixerAqua | -16 |
GrayMixerBlue | +16 |
GrayMixerGreen | -28 |
GrayMixerMagenta | +4 |
GrayMixerOrange | -21 |
GrayMixerPurple | +20 |
GrayMixerRed | -11 |
GrayMixerYellow | -25 |
GreenHue | 0 |
GreenSaturation | 0 |
HasCrop | True |
HasSettings | True |
HighlightRecovery | 14 |
HyperfocalDistance | 211.13 m |
ImageDescription | 20100110 Husbrann Breland Aseral. Foto: Tor Olav Rydlende |
ImageHeight | 1500 |
ImageNumber | 0 |
ImageSize | 1000x1500 |
ImageWidth | 1000 |
ISO | 400 |
Keywords | husbrann brenland Œseral brann |
Lens | EF70-200mm f/2.8L IS USM |
LensID (1) | 224 |
LensID | Canon EF 70-200mm f/2.8L IS USM |
LensInfo | 70-200mm f/? |
LightValue | 10.6 |
Location | Breland |
Make | Canon |
MaxApertureValue | 2.8 |
Megapixels | 1.5 |
MeteringMode | Multi-segment |
Model | Canon EOS-1Ds Mark III |
ModifyDate (1) | 2010:01:11 23:39:48+01:00 |
ModifyDate | 2010:01:11 23:39:48 |
NoiseReductionContrast | 0 |
OwnerName | Tor Olav Rydlende |
ParametricDarks | -15 |
ParametricHighlights | 0 |
ParametricHighlightSplit | 75 |
ParametricLights | 0 |
ParametricMidtoneSplit | 50 |
ParametricShadows | 0 |
ParametricShadowSplit | 25 |
PostCropVignetteAmount | 0 |
ProfileDescription | sRGB IEC61966-2.1 |
Rating | 1 |
RedHue | 0 |
RedSaturation | 0 |
RenderVersion | 5.7 |
ScaleFactor35efl | 1.0 |
SceneCaptureType | Standard |
SerialNumber | 617505 |
Shadows | 5 |
ShadowTint | 0 |
SharpenDetail | 25 |
SharpenEdgeMasking | 0 |
SharpenRadius | +0.5 |
Sharpness | 72 |
ShutterSpeed | 1/160 |
ShutterSpeedValue | 1/160 |
SplitToningBalance | 0 |
SplitToningHighlightHue | 0 |
SplitToningHighlightSaturation | 0 |
SplitToningShadowHue | 0 |
SplitToningShadowSaturation | 0 |
Sub-location | Breland |
Subject | husbrann brenland åseral brann |
SubjectDistance | 20.6 m |
Tint | -7 |
ToneCurve | 0, 0, 32, 22, 64, 56, 128, 128, 192, 196, 255, 255 |
ToneCurveName | Medium Contrast |
Version | 6.0 |
VignetteAmount | 0 |
WhiteBalance (2) | As Shot |
WhiteBalance | Auto |