Felt | Verdi |
AlreadyApplied | True |
Aperture | 5.6 |
ApertureValue | 5.6 |
BitsPerSample | 8 |
BlackClip | 1.567950 |
BlueHue | 0 |
BlueSaturation | +26 |
Brightness | 0 |
CameraProfile | Embedded |
ChromaticAberrationB | 0 |
ChromaticAberrationR | 0 |
Clarity | +30 |
ColorComponents | 3 |
ColorMode | RGB |
ColorNoiseReduction | 0 |
ColorSaturation | 73 |
ColorSpace | sRGB |
ColorTemperature | 1 |
Contrast | +20 |
ConvertToGrayscale | False |
CreateDate | 2009:08:08 21:19:56+02:00 |
DateTimeOriginal (1) | 2009:08:08 21:19:56+02:00 |
DateTimeOriginal | 2009:08:08 21:19:56 |
Defringe | 0 |
ExifImageHeight | 2868 |
ExifImageWidth | 4312 |
Exposure | -0.20 |
ExposureTime | 1/125 |
FillLight | 0 |
FNumber | 5.6 |
FocalLength | 28.0 mm |
FocalLength35efl | 28.0 mm |
Format | image/jpeg |
Gamma | 0.920188 |
GreenHue | 0 |
GreenSaturation | 0 |
HasCrop | False |
HasSettings | True |
HighlightRecovery | 0 |
HighlightsSmoothing | 25 |
HueAdjustmentAqua | 0 |
HueAdjustmentBlue | 0 |
HueAdjustmentGreen | 0 |
HueAdjustmentMagenta | 0 |
HueAdjustmentOrange | 0 |
HueAdjustmentPurple | 0 |
HueAdjustmentRed | 0 |
HueAdjustmentYellow | 0 |
ICCProfileName | sRGB IEC61966-2.1 |
ImageHeight | 2868 |
ImageSize | 4312x2868 |
ImageWidth | 4312 |
IncrementalTemperature | -2 |
IncrementalTint | +1 |
ISO | 220 |
LightValue | 10.8 |
LuminanceAdjustmentAqua | 0 |
LuminanceAdjustmentBlue | 0 |
LuminanceAdjustmentGreen | 0 |
LuminanceAdjustmentMagenta | 0 |
LuminanceAdjustmentOrange | 0 |
LuminanceAdjustmentPurple | 0 |
LuminanceAdjustmentRed | 0 |
LuminanceAdjustmentYellow | 0 |
LuminanceSmoothing | 0 |
Luminosity | -4 |
Megapixels | 12.4 |
Method | Details Enhancer |
Microcontrast | 2 |
Microsmoothing | 2 |
Model | NIKON D2X |
ModifyDate (1) | 2010:01:11 23:50:59+01:00 |
ModifyDate | 2010:01:11 23:50:59 |
Orientation | Horizontal (normal) |
ParametricDarks | -3 |
ParametricHighlights | -14 |
ParametricHighlightSplit | 75 |
ParametricLights | +1 |
ParametricMidtoneSplit | 50 |
ParametricShadows | -13 |
ParametricShadowSplit | 25 |
PostCropVignetteAmount | 0 |
ProfileDescription | sRGB IEC61966-2.1 |
Rating | 0 |
RawFileName | DSC_8800.tif |
RedHue | 0 |
RedSaturation | +11 |
Saturation | +7 |
SaturationAdjustmentAqua | 0 |
SaturationAdjustmentBlue | 0 |
SaturationAdjustmentGreen | 0 |
SaturationAdjustmentMagenta | 0 |
SaturationAdjustmentOrange | 0 |
SaturationAdjustmentPurple | 0 |
SaturationAdjustmentRed | 0 |
SaturationAdjustmentYellow | 0 |
SaturationHighlights | 4 |
SaturationShadows | 0 |
Shadows | 0 |
ShadowsClipping | 10 |
ShadowsSmoothing | 0 |
ShadowTint | 0 |
SharpenDetail | 25 |
SharpenEdgeMasking | 0 |
SharpenRadius | +1.0 |
Sharpness | 0 |
ShutterSpeed | 1/125 |
ShutterSpeedValue | 1/125 |
Smoothing | Very High |
Software | Adobe Photoshop CS4 Windows |
SplitToningBalance | 0 |
SplitToningHighlightHue | 0 |
SplitToningHighlightSaturation | 0 |
SplitToningShadowHue | 0 |
SplitToningShadowSaturation | 0 |
Strength | 90 |
ToneCurve | 0, 0, 255, 255 |
ToneCurveName | Linear |
URL_List | |
Version (1) | 3.1 |
Version | 5.5 |
Vibrance | +15 |
VignetteAmount | 0 |
WhiteBalance | Custom |
WhiteClip | 0.362500 |