Felt | Verdi |
AlreadyApplied | True |
Aperture | 8.0 |
ApertureValue | 8.0 |
Artist | Kaare Gaarder |
BitsPerSample | 8 |
BlueHue | 0 |
BlueSaturation | 0 |
Brightness | +50 |
By-line | Kaare Gaarder |
CameraProfile | Adobe Standard |
ChromaticAberrationB | 0 |
ChromaticAberrationR | 0 |
CircleOfConfusion | 0.019 mm |
Clarity | 0 |
ColorComponents | 3 |
ColorMode | RGB |
ColorNoiseReduction | 25 |
ColorSpace | sRGB |
ColorTemperature | 5250 |
Contrast | +25 |
ConvertToGrayscale | False |
CreateDate (1) | 2010:01:13 09:59:03.54+01:00 |
CreateDate | 2010:01:13 09:59:03 |
Creator | Kaare Gaarder |
CreatorTool | Digital Photo Professional |
CropAngle | 0 |
CropBottom | 0.876776 |
CropHeight | 3 |
CropLeft | 0.014965 |
CropRight | 0.857394 |
CropTop | 0.034346 |
CropUnit | Unknown (3) |
CropWidth | 2 |
CustomRendered | Normal |
DateTimeDigitized | 2010:01:13 09:59:03+01:00 |
DateTimeOriginal (1) | 2010:01:13 09:59:03+01:00 |
DateTimeOriginal | 2010:01:13 09:59:03 |
Defringe | 0 |
ExifImageHeight | 835 |
ExifImageWidth | 1200 |
Exposure | +0.85 |
ExposureCompensation | 0 |
ExposureMode | Auto |
ExposureTime | 1/640 |
FillLight | 0 |
Firmware | 1.1.0 |
Flash | Off, Did not fire |
FlashCompensation | 0 |
FlashFired | False |
FlashFunction | False |
FlashMode | Off |
FlashRedEyeMode | False |
FlashReturn | No return detection |
FNumber | 8.0 |
FocalLength | 400.0 mm |
FocalLength35efl | 400.0 mm (35 mm equivalent: 628.1 mm) |
Format | image/jpeg |
FOV | 3.3 deg |
GradientBasedCorrActive | true |
GradientBasedCorrAmount | 1.000000 |
GradientBasedCorrBrightness | -0.075000 |
GradientBasedCorrClarity | 0.000000 |
GradientBasedCorrContrast | -0.040000 |
GradientBasedCorrExposure | -0.012500 |
GradientBasedCorrHue | 0.000000 |
GradientBasedCorrMaskFullX (1) | 0.393236 |
GradientBasedCorrMaskFullX (2) | 0.420674 |
GradientBasedCorrMaskFullX (3) | 0.858188 |
GradientBasedCorrMaskFullX | 0.144817 |
GradientBasedCorrMaskFullY (1) | 0.036658 |
GradientBasedCorrMaskFullY (2) | 0.877849 |
GradientBasedCorrMaskFullY (3) | 0.447239 |
GradientBasedCorrMaskFullY | 0.377140 |
GradientBasedCorrMaskValue | 1.000000 |
GradientBasedCorrMaskWhat | Mask/Gradient |
GradientBasedCorrMaskZeroX (1) | 0.411775 |
GradientBasedCorrMaskZeroX (2) | 0.420674 |
GradientBasedCorrMaskZeroX (3) | 0.528198 |
GradientBasedCorrMaskZeroX | 0.638689 |
GradientBasedCorrMaskZeroY (1) | 0.272548 |
GradientBasedCorrMaskZeroY (2) | 0.634171 |
GradientBasedCorrMaskZeroY (3) | 0.424986 |
GradientBasedCorrMaskZeroY | 0.414971 |
GradientBasedCorrSaturation (7) | 0.080000 |
GradientBasedCorrSaturation | 0.000000 |
GradientBasedCorrSharpness (1) | 0.010000 |
GradientBasedCorrSharpness | 0.980000 |
GradientBasedCorrWhat | Correction |
GreenHue | 0 |
GreenSaturation | 0 |
HasCrop | True |
HasSettings | True |
HighlightRecovery | 0 |
HueAdjustmentAqua | 0 |
HueAdjustmentBlue | 0 |
HueAdjustmentGreen | 0 |
HueAdjustmentMagenta | 0 |
HueAdjustmentOrange | 0 |
HueAdjustmentPurple | 0 |
HueAdjustmentRed | 0 |
HueAdjustmentYellow | 0 |
HyperfocalDistance | 1045.28 m |
ICCProfileName | sRGB v1.31 (Canon) |
ImageHeight | 835 |
ImageNumber | 0 |
ImageSize | 1200x835 |
ImageWidth | 1200 |
ISO | 640 |
Lens | EF100-400mm f/4.5-5.6L IS USM |
LensInfo | 100-400mm f/? |
LightValue | 12.6 |
LuminanceAdjustmentAqua | 0 |
LuminanceAdjustmentBlue | 0 |
LuminanceAdjustmentGreen | 0 |
LuminanceAdjustmentMagenta | 0 |
LuminanceAdjustmentOrange | 0 |
LuminanceAdjustmentPurple | 0 |
LuminanceAdjustmentRed | 0 |
LuminanceAdjustmentYellow | 0 |
LuminanceSmoothing | 0 |
Make | Canon |
Megapixels | 1.0 |
Model | Canon EOS 7D |
ModifyDate (1) | 2010:01:18 12:14:29+01:00 |
ModifyDate | 2010:01:18 12:14:29 |
Orientation | Horizontal (normal) |
ParametricDarks | 0 |
ParametricHighlights | 0 |
ParametricHighlightSplit | 75 |
ParametricLights | 0 |
ParametricMidtoneSplit | 50 |
ParametricShadows | 0 |
ParametricShadowSplit | 25 |
PostCropVignetteAmount | 0 |
ProfileDescription | sRGB v1.31 (Canon) |
Rating | 0 |
RawFileName | IMG_1109.CR2 |
RedHue | 0 |
RedSaturation | 0 |
RelatedImageHeight | 2541 |
RelatedImageWidth | 3653 |
Saturation | 0 |
SaturationAdjustmentAqua | 0 |
SaturationAdjustmentBlue | 0 |
SaturationAdjustmentGreen | 0 |
SaturationAdjustmentMagenta | 0 |
SaturationAdjustmentOrange | 0 |
SaturationAdjustmentPurple | 0 |
SaturationAdjustmentRed | 0 |
SaturationAdjustmentYellow | 0 |
ScaleFactor35efl | 1.6 |
SceneCaptureType | Standard |
SerialNumber | 280101869 |
Shadows | 5 |
ShadowTint | 0 |
SharpenDetail | 25 |
SharpenEdgeMasking | 0 |
SharpenRadius | +1.0 |
Sharpness | 25 |
ShutterSpeed | 1/640 |
ShutterSpeedValue | 1/640 |
SidecarForExtension | CR2 |
Software | Adobe Photoshop CS4 Windows |
SplitToningBalance | 0 |
SplitToningHighlightHue | 0 |
SplitToningHighlightSaturation | 0 |
SplitToningShadowHue | 0 |
SplitToningShadowSaturation | 0 |
Tint | 0 |
ToneCurve | 0, 0, 32, 22, 64, 56, 128, 128, 192, 196, 255, 255 |
ToneCurveName | Medium Contrast |
URL_List | |
UserComment | |
Version | 5.5 |
Vibrance | -13 |
VignetteAmount | 0 |
WhiteBalance (2) | Custom |
WhiteBalance | Auto |