Felt | Verdi |
AlreadyApplied | True |
Aperture | 4.5 |
ApertureValue | 4.5 |
BitsPerSample | 8 |
BlueHue | 0 |
BlueSaturation | 0 |
Brightness | +61 |
CameraProfile | ACR 4.4 |
CFAPattern | [Green,Blue][Red,Green] |
ChromaticAberrationB | 0 |
ChromaticAberrationR | 0 |
CircleOfConfusion | 0.020 mm |
Clarity | +55 |
ColorComponents | 3 |
ColorNoiseReduction | 25 |
ColorTemperature | 6900 |
Contrast (2) | +59 |
Contrast | High |
ConvertToGrayscale | False |
CreateDate (1) | 2009:03:08 19:13:55.40+01:00 |
CreateDate | 2009:03:08 19:13:55 |
CreatorTool | Adobe Photoshop Lightroom |
CropAngle | 0 |
CropBottom | 0.766062 |
CropHeight | 396 |
CropLeft | 0 |
CropRight | 1 |
CropTop | 0.070866 |
CropUnit | pixels |
CropWidth | 850 |
CustomRendered | Normal |
DateTimeDigitized | 2009:03:08 19:13:55.40+01:00 |
DateTimeOriginal (1) | 2009:03:08 19:13:55.40+01:00 |
DateTimeOriginal | 2009:03:08 19:13:55 |
Defringe | 0 |
DigitalZoomRatio | 1 |
ExifImageHeight | 396 |
ExifImageWidth | 850 |
Exposure | 0.00 |
ExposureCompensation | -2/3 |
ExposureMode | Manual |
ExposureProgram | Manual |
ExposureTime | 1/200 |
FillLight | 13 |
Flash | No Flash |
FlashFired | False |
FlashFunction | False |
FlashMode | Unknown |
FlashRedEyeMode | False |
FlashReturn | No return detection |
FNumber | 4.5 |
FocalLength | 36.0 mm |
FocalLength35efl | 36.0 mm (35 mm equivalent: 54.0 mm) |
FocalLengthIn35mmFormat | 54 mm |
FOV | 36.9 deg |
GainControl | Low gain up |
GreenHue | 0 |
GreenSaturation | 0 |
HasCrop | True |
HasSettings | True |
HighlightRecovery | 32 |
HueAdjustmentAqua | 0 |
HueAdjustmentBlue | 0 |
HueAdjustmentGreen | 0 |
HueAdjustmentMagenta | 0 |
HueAdjustmentOrange | 0 |
HueAdjustmentPurple | 0 |
HueAdjustmentRed | 0 |
HueAdjustmentYellow | 0 |
HyperfocalDistance | 14.38 m |
ImageHeight | 396 |
ImageNumber | 7319 |
ImageSize | 850x396 |
ImageWidth | 850 |
ISO | 400 |
Keywords | Lista, hav, himmel, strand |
Lens | 18.0-200.0 mm f/3.5-5.6 |
LensInfo | 18-200mm f/3.5-5.6 |
LightSource | Unknown |
LightValue | 10.0 |
LuminanceAdjustmentAqua | -55 |
LuminanceAdjustmentBlue | +60 |
LuminanceAdjustmentGreen | 0 |
LuminanceAdjustmentMagenta | -7 |
LuminanceAdjustmentOrange | -5 |
LuminanceAdjustmentPurple | -2 |
LuminanceAdjustmentRed | -7 |
LuminanceAdjustmentYellow | -40 |
LuminanceSmoothing | 0 |
Make | NIKON CORPORATION |
MaxApertureValue | 4.3 |
Megapixels | 0.337 |
MeteringMode | Multi-segment |
Model | NIKON D80 |
ModifyDate (1) | 2010:01:16 19:33:43+01:00 |
ModifyDate | 2010:01:16 19:33:43 |
ParametricDarks | +21 |
ParametricHighlights | +21 |
ParametricHighlightSplit | 75 |
ParametricLights | +45 |
ParametricMidtoneSplit | 50 |
ParametricShadows | -5 |
ParametricShadowSplit | 25 |
PostCropVignetteAmount | 0 |
ProfileDescription | sRGB IEC61966-2.1 |
RedHue | 0 |
RedSaturation | 0 |
Saturation (2) | +10 |
Saturation | Normal |
SaturationAdjustmentAqua | +48 |
SaturationAdjustmentBlue | +29 |
SaturationAdjustmentGreen | 0 |
SaturationAdjustmentMagenta | +7 |
SaturationAdjustmentOrange | +7 |
SaturationAdjustmentPurple | +76 |
SaturationAdjustmentRed | -5 |
SaturationAdjustmentYellow | +74 |
ScaleFactor35efl | 1.5 |
SceneCaptureType | Standard |
SceneType | Directly photographed |
SensingMethod | One-chip color area |
Shadows | 5 |
ShadowTint | 0 |
SharpenDetail | 25 |
SharpenEdgeMasking | 0 |
SharpenRadius | +1.0 |
Sharpness (2) | 25 |
Sharpness | Normal |
ShutterSpeed | 1/200 |
ShutterSpeedValue | 1/200 |
Software | Ver.1.01 |
SplitToningBalance | -21 |
SplitToningHighlightHue | 69 |
SplitToningHighlightSaturation | 8 |
SplitToningShadowHue | 51 |
SplitToningShadowSaturation | 0 |
Subject | Lista, hav, himmel, strand |
SubjectDistanceRange | Unknown |
Tint | -3 |
ToneCurve | 0, 0, 32, 22, 64, 56, 128, 128, 192, 196, 255, 255 |
ToneCurveName | Medium Contrast |
Version | 5.5 |
Vibrance | +29 |
VignetteAmount | 0 |
WhiteBalance (2) | As Shot |
WhiteBalance | Auto |