Felt | Verdi |
AlreadyApplied | True |
Aperture | 11.0 |
ApertureValue | 11.0 |
Artist | Tom Eikrem |
BitsPerSample (1) | 8, 8, 8 |
BitsPerSample (2) | 8 8 8 |
BitsPerSample | 8 |
BlueHue | +11 |
BlueSaturation | -70 |
Brightness | +57 |
By-line | Tom Eikrem |
CameraProfile | Adobe Standard |
ChromaticAberrationB | 0 |
ChromaticAberrationR | 0 |
CircleOfConfusion | 0.019 mm |
Clarity | +50 |
ColorComponents | 1 |
ColorMode | RGB |
ColorNoiseReduction | 25 |
ColorSpace (1) | Unknown (-1) |
ColorSpace | Uncalibrated |
ColorTemperature | 12500 |
Contrast | +39 |
ConvertToGrayscale | False |
Copyright | Tom Eikrem |
CopyrightFlag | False |
CopyrightNotice | Tom Eikrem |
CreateDate (1) | 2010:01:20 02:07:18+01:00 |
CreateDate | 2010:01:14 12:29:54 |
Creator | Tom Eikrem |
CreatorTool | Adobe Photoshop Elements 6.0 Windows |
CreatorWorkTelephone | 004748223077 |
CropAngle | 0 |
CropBottom | 0.906459 |
CropHeight | 2269 |
CropLeft | 0.222552 |
CropRight | 1 |
CropTop | 0.03118 |
CropUnit | pixels |
CropWidth | 3023 |
CustomRendered | Normal |
DateTimeDigitized | 2010:01:14 12:29:54.91+01:00 |
DateTimeOriginal (1) | 2010:01:14 12:29:54.91+01:00 |
DateTimeOriginal | 2010:01:14 12:29:54 |
Defringe | 0 |
DOF | inf (1.39 m - inf) |
ExifImageHeight | 700 |
ExifImageWidth | 525 |
Exposure | +1.05 |
ExposureCompensation | 0 |
ExposureMode | Auto |
ExposureProgram | Aperture-priority AE |
ExposureTime | 1/125 |
FillLight | 0 |
Firmware | 1.1.1 |
Flash | Off, Did not fire |
FlashCompensation | 0 |
FlashFired | False |
FlashFunction | False |
FlashMode | Off |
FlashRedEyeMode | False |
FlashReturn | No return detection |
FNumber | 11.0 |
FocalLength | 17.0 mm |
FocalLength35efl | 17.0 mm (35 mm equivalent: 27.5 mm) |
Format | image/jpeg |
FOV | 66.4 deg |
GreenHue | +11 |
GreenSaturation | +25 |
HasCrop | True |
HasSettings | True |
HighlightRecovery | 65 |
HueAdjustmentAqua | 0 |
HueAdjustmentBlue | 0 |
HueAdjustmentGreen | 0 |
HueAdjustmentMagenta | 0 |
HueAdjustmentOrange | 0 |
HueAdjustmentPurple | 0 |
HueAdjustmentRed | 0 |
HueAdjustmentYellow | 0 |
HyperfocalDistance | 1.42 m |
ICCProfileName | ProPhoto RGB |
ImageHeight (1) | 3023 |
ImageHeight | 700 |
ImageNumber | 0 |
ImageSize | 525x700 |
ImageWidth (2) | 2269 |
ImageWidth | 525 |
ISO | 250 |
Lens | EF-S17-55mm f/2.8 IS USM |
LensID (1) | 240 |
LensID | Canon EF-S 17-55mm f/2.8 IS USM |
LensInfo | 17-55mm f/? |
LightValue | 12.6 |
LuminanceAdjustmentAqua | 0 |
LuminanceAdjustmentBlue | 0 |
LuminanceAdjustmentGreen | 0 |
LuminanceAdjustmentMagenta | 0 |
LuminanceAdjustmentOrange | 0 |
LuminanceAdjustmentPurple | 0 |
LuminanceAdjustmentRed | 0 |
LuminanceAdjustmentYellow | 0 |
LuminanceSmoothing | 0 |
Make | Canon |
MaxApertureValue | 2.8 |
Megapixels | 0.367 |
MeteringMode | Spot |
Model | Canon EOS 40D |
ModifyDate (1) | 2010:01:20 02:07:18+01:00 |
ModifyDate | 2010:01:20 02:07:18 |
Orientation | Horizontal (normal) |
ParametricDarks | -3 |
ParametricHighlights | 0 |
ParametricHighlightSplit | 75 |
ParametricLights | 0 |
ParametricMidtoneSplit | 50 |
ParametricShadows | -14 |
ParametricShadowSplit | 25 |
PhotometricInterpretation | RGB |
PlanarConfiguration | Chunky |
PostCropVignetteAmount | 0 |
ProfileDescription | ProPhoto RGB |
RedHue | +96 |
RedSaturation | +3 |
Rights | Tom Eikrem |
SamplesPerPixel | 3 |
Saturation | -71 |
SaturationAdjustmentAqua | 0 |
SaturationAdjustmentBlue | 0 |
SaturationAdjustmentGreen | 0 |
SaturationAdjustmentMagenta | 0 |
SaturationAdjustmentOrange | 0 |
SaturationAdjustmentPurple | 0 |
SaturationAdjustmentRed | 0 |
SaturationAdjustmentYellow | 0 |
ScaleFactor35efl | 1.6 |
SceneCaptureType | Standard |
SerialNumber | 630332843 |
Shadows | 11 |
ShadowTint | +8 |
SharpenDetail | 38 |
SharpenEdgeMasking | 6 |
SharpenRadius | +1.0 |
Sharpness | 73 |
ShutterSpeed | 1/125 |
ShutterSpeedValue | 1/125 |
Software | Adobe Photoshop Elements 6.0 Windows |
SplitToningBalance | 0 |
SplitToningHighlightHue | 0 |
SplitToningHighlightSaturation | 0 |
SplitToningShadowHue | 0 |
SplitToningShadowSaturation | 0 |
SubjectDistance | 73 m |
Tint | +35 |
ToneCurve | 0, 0, 255, 255 |
ToneCurveName | Linear |
URL_List | |
Version | 5.6 |
Vibrance | 0 |
VignetteAmount | -61 |
VignetteMidpoint | 34 |
WhiteBalance (2) | Custom |
WhiteBalance | Auto |