Felt | Verdi |
AlreadyApplied | True |
Aperture | 5.6 |
ApertureValue | 5.6 |
BitsPerSample | 8 |
BlueHue | 0 |
BlueSaturation | 0 |
Brightness | +50 |
CameraProfile | ACR 4.4 |
ChromaticAberrationB | 0 |
ChromaticAberrationR | 0 |
CircleOfConfusion | 0.019 mm |
Clarity | 0 |
ColorComponents | 1 |
ColorMode | Grayscale |
ColorNoiseReduction | 25 |
ColorSpace | Uncalibrated |
ColorTemperature | 5900 |
Contrast | +25 |
ConvertToGrayscale | True |
CreateDate (1) | 2009:07:25 11:42:05.00+02:00 |
CreateDate | 2009:07:25 11:42:05 |
CustomRendered | Normal |
DateTimeDigitized | 2009:07:25 11:42:05.00+02:00 |
DateTimeOriginal (1) | 2009:07:25 11:42:05.00+02:00 |
DateTimeOriginal | 2009:07:25 11:42:05 |
Defringe | 0 |
ExifImageHeight | 2592 |
ExifImageWidth | 3888 |
Exposure | 0.00 |
ExposureCompensation | 0 |
ExposureMode | Manual |
ExposureProgram | Manual |
ExposureTime | 1/40 |
FillLight | 0 |
Firmware | 1.0.8 |
Flash | Off, Did not fire |
FlashCompensation | 0 |
FlashFired | False |
FlashFunction | False |
FlashMode | Off |
FlashRedEyeMode | False |
FlashReturn | No return detection |
FNumber | 5.6 |
FocalLength | 105.0 mm |
FocalLength35efl | 105.0 mm (35 mm equivalent: 170.0 mm) |
Format | image/jpeg |
FOV | 12.1 deg |
GrayMixerAqua | -17 |
GrayMixerBlue | 0 |
GrayMixerGreen | -15 |
GrayMixerMagenta | +1 |
GrayMixerOrange | -6 |
GrayMixerPurple | +5 |
GrayMixerRed | -3 |
GrayMixerYellow | -7 |
GreenHue | 0 |
GreenSaturation | 0 |
HasCrop | False |
HasSettings | True |
HighlightRecovery | 0 |
HyperfocalDistance | 106.07 m |
ICCProfileName | Gray Gamma 2.2 |
ImageHeight | 2592 |
ImageNumber | 0 |
ImageSize | 3888x2592 |
ImageWidth | 3888 |
ISO | 100 |
Lens | EF24-105mm f/4L IS USM |
LensInfo | 24-105mm f/? |
LightValue | 10.3 |
LuminanceSmoothing | 0 |
Make | Canon |
MaxApertureValue | 4.0 |
Megapixels | 10.1 |
MeteringMode | Spot |
Model | Canon EOS 40D |
ModifyDate (1) | 2010:02:03 19:00:30+01:00 |
ModifyDate | 2010:02:03 19:00:30 |
Orientation | Horizontal (normal) |
ParametricDarks | -48 |
ParametricHighlights | -32 |
ParametricHighlightSplit | 75 |
ParametricLights | -29 |
ParametricMidtoneSplit | 50 |
ParametricShadows | -44 |
ParametricShadowSplit | 25 |
PhotometricInterpretation | BlackIsZero |
PostCropVignetteAmount | 0 |
ProfileDescription | Gray Gamma 2.2 |
Rating | 0 |
RawFileName | løten ku.CR2 |
RedHue | 0 |
RedSaturation | 0 |
SamplesPerPixel | 1 |
ScaleFactor35efl | 1.6 |
SceneCaptureType | Standard |
SerialNumber | 1330718131 |
Shadows | 5 |
ShadowTint | 0 |
SharpenDetail | 25 |
SharpenEdgeMasking | 0 |
SharpenRadius | +1.0 |
Sharpness | 25 |
ShutterSpeed | 1/40 |
ShutterSpeedValue | 1/40 |
SidecarForExtension | CR2 |
Software | Adobe Photoshop CS4 Windows |
SplitToningBalance | 0 |
SplitToningHighlightHue | 0 |
SplitToningHighlightSaturation | 0 |
SplitToningShadowHue | 0 |
SplitToningShadowSaturation | 0 |
Tint | 0 |
ToneCurve | 0, 0, 32, 22, 64, 56, 128, 128, 192, 196, 255, 255 |
ToneCurveName | Medium Contrast |
URL_List | |
Version | 5.0 |
VignetteAmount | 0 |
WhiteBalance (2) | As Shot |
WhiteBalance | Manual |