Felt | Verdi |
AlreadyApplied | True |
Aperture | 8.0 |
ApertureValue | 8.0 |
BitsPerSample | 8 |
BlueHue | 0 |
BlueSaturation | 0 |
Brightness | +50 |
CameraProfile | ACR 4.6 |
CFAPattern | [Green,Blue][Red,Green] |
ChromaticAberrationB | 0 |
ChromaticAberrationR | 0 |
CircleOfConfusion | 0.020 mm |
Clarity | +17 |
ColorComponents | 1 |
ColorMode | Grayscale |
ColorNoiseReduction | 25 |
ColorSpace | Uncalibrated |
ColorTemperature | 5150 |
Contrast (2) | +50 |
Contrast | Normal |
ConvertToGrayscale | True |
CreateDate (1) | 2010:02:03 18:47:33.00+01:00 |
CreateDate | 2010:02:03 18:47:33 |
CreatorTool | Nikon Transfer 1.1 W |
CustomRendered | Custom |
DateTimeDigitized | 2010:02:03 18:47:33.00+01:00 |
DateTimeOriginal (1) | 2010:02:03 18:47:33.00+01:00 |
DateTimeOriginal | 2010:02:03 18:47:33 |
Defringe | 0 |
DigitalZoomRatio | 1 |
ExifImageHeight | 2804 |
ExifImageWidth | 4024 |
Exposure | 0.00 |
ExposureCompensation | 0 |
ExposureMode | Auto |
ExposureProgram | Aperture-priority AE |
ExposureTime | 1/60 |
FillLight | 28 |
Flash | On, Return not detected |
FlashFired | True |
FlashFunction | False |
FlashMode | On |
FlashRedEyeMode | False |
FlashReturn | Return not detected |
FNumber | 8.0 |
FocalLength | 66.0 mm |
FocalLength35efl | 66.0 mm (35 mm equivalent: 99.0 mm) |
FocalLengthIn35mmFormat | 99 mm |
Format | image/jpeg |
FOV | 20.6 deg |
GainControl | None |
GrayMixerAqua | -20 |
GrayMixerBlue | +7 |
GrayMixerGreen | -25 |
GrayMixerMagenta | +6 |
GrayMixerOrange | -15 |
GrayMixerPurple | +15 |
GrayMixerRed | -27 |
GrayMixerYellow | -63 |
GreenHue | 0 |
GreenSaturation | 0 |
HasCrop | False |
HasSettings | True |
HighlightRecovery | 55 |
HyperfocalDistance | 27.18 m |
ICCProfileName | Gray Gamma 2.2 |
ImageHeight | 2804 |
ImageNumber | 1165 |
ImageSize | 4024x2804 |
ImageWidth | 4024 |
ISO | 200 |
Lens | 18.0-105.0 mm f/3.5-5.6 |
LensInfo | 18-105mm f/3.5-5.6 |
LightSource | Unknown |
LightValue | 10.9 |
LuminanceSmoothing | 0 |
Make | NIKON CORPORATION |
MaxApertureValue | 5.3 |
Megapixels | 11.3 |
MeteringMode | Multi-segment |
Model | NIKON D90 |
ModifyDate (1) | 2010:02:05 19:42:50+01:00 |
ModifyDate | 2010:02:05 19:42:50 |
Orientation | Horizontal (normal) |
ParametricDarks | 0 |
ParametricHighlights | 0 |
ParametricHighlightSplit | 75 |
ParametricLights | -11 |
ParametricMidtoneSplit | 50 |
ParametricShadows | -11 |
ParametricShadowSplit | 25 |
PostCropVignetteAmount | -34 |
PostCropVignetteFeather | 50 |
PostCropVignetteMidpoint | 49 |
PostCropVignetteRoundness | +10 |
ProfileDescription | Gray Gamma 2.2 |
Rating | 0 |
RatingPercent | 0 |
RawFileName | DSC_0865.NEF |
RedHue | 0 |
RedSaturation | 0 |
Saturation | Normal |
ScaleFactor35efl | 1.5 |
SceneCaptureType | Standard |
SceneType | Directly photographed |
SensingMethod | One-chip color area |
SerialNumber | 6306229 |
Shadows | 5 |
ShadowTint | 0 |
SharpenDetail | 25 |
SharpenEdgeMasking | 0 |
SharpenRadius | +1.0 |
Sharpness (2) | 25 |
Sharpness | Soft |
ShutterSpeed | 1/60 |
ShutterSpeedValue | 1/60 |
SidecarForExtension | NEF |
Software | Adobe Photoshop CS4 Windows |
SplitToningBalance | 0 |
SplitToningHighlightHue | 0 |
SplitToningHighlightSaturation | 0 |
SplitToningShadowHue | 0 |
SplitToningShadowSaturation | 0 |
SubjectDistanceRange | Unknown |
Tint | -13 |
ToneCurve | 0, 0, 32, 22, 64, 56, 128, 128, 192, 196, 255, 255 |
ToneCurveName | Medium Contrast |
URL_List | |
Version | 5.5 |
VignetteAmount | -93 |
VignetteMidpoint | 17 |
WhiteBalance (2) | As Shot |
WhiteBalance | Auto |