Felt | Verdi |
AlreadyApplied | True |
Aperture | 8.0 |
ApertureValue | 8.0 |
BitsPerSample | 8 |
BlueHue | 0 |
BlueSaturation | 0 |
Brightness | 0 |
CameraProfile | Embedded |
ChromaticAberrationB | 0 |
ChromaticAberrationR | 0 |
Clarity | +74 |
ColorComponents | 1 |
ColorNoiseReduction | 0 |
Contrast (2) | +43 |
Contrast | Normal |
ConvertToGrayscale | True |
CreateDate (1) | 2009:02:01 10:47:46+01:00 |
CreateDate | 2009:02:01 10:47:46 |
CreatorTool | Adobe Photoshop Lightroom |
DateTimeDigitized | 2009:02:01 10:47:46+01:00 |
DateTimeOriginal (1) | 2009:02:01 10:47:46+01:00 |
DateTimeOriginal | 2009:02:01 10:47:46 |
Defringe | 0 |
ExifImageHeight | 337 |
ExifImageWidth | 750 |
Exposure | -0.60 |
ExposureCompensation | +2 |
ExposureMode | Manual |
ExposureProgram | Manual |
ExposureTime | 1/125 |
FillLight | 0 |
Flash | No Flash |
FlashFired | False |
FlashFunction | False |
FlashMode | Unknown |
FlashRedEyeMode | False |
FlashReturn | No return detection |
FNumber | 8.0 |
FocalLength | 17.0 mm |
FocalLength35efl | 17.0 mm |
GrayMixerAqua | -21 |
GrayMixerBlue | +1 |
GrayMixerGreen | -21 |
GrayMixerMagenta | +5 |
GrayMixerOrange | -10 |
GrayMixerPurple | +9 |
GrayMixerRed | -2 |
GrayMixerYellow | -13 |
GreenHue | 0 |
GreenSaturation | 0 |
HasCrop | False |
HasSettings | True |
HighlightRecovery | 31 |
ImageHeight | 337 |
ImageSize | 750x337 |
ImageWidth | 750 |
IncrementalTemperature | +45 |
IncrementalTint | +21 |
ISO | 200 |
LightSource | Fine Weather |
LightValue | 12.0 |
LuminanceSmoothing | 0 |
Make | NIKON CORPORATION |
MaxApertureValue | 2.8 |
Megapixels | 0.253 |
MeteringMode | Multi-segment |
Model | NIKON D300 |
ModifyDate (1) | 2009:04:16 05:23:38+02:00 |
ModifyDate | 2009:04:16 05:23:38 |
ParametricDarks | -36 |
ParametricHighlights | 0 |
ParametricHighlightSplit | 75 |
ParametricLights | -40 |
ParametricMidtoneSplit | 50 |
ParametricShadows | 0 |
ParametricShadowSplit | 25 |
PostCropVignetteAmount | 0 |
ProfileDescription | sRGB IEC61966-2.1 |
RedHue | 0 |
RedSaturation | 0 |
Saturation | High |
SceneType | Directly photographed |
SensingMethod | One-chip color area |
Shadows | 12 |
ShadowTint | 0 |
SharpenDetail | 25 |
SharpenEdgeMasking | 0 |
SharpenRadius | +1.4 |
Sharpness (2) | 59 |
Sharpness | Hard |
ShutterSpeed | 1/125 |
ShutterSpeedValue | 1/125 |
Software | Adobe Photoshop Lightroom |
SplitToningBalance | 0 |
SplitToningHighlightHue | 0 |
SplitToningHighlightSaturation | 0 |
SplitToningShadowHue | 0 |
SplitToningShadowSaturation | 0 |
SubjectDistanceRange | Unknown |
ToneCurve | 0, 0, 255, 255 |
ToneCurveName | Linear |
Version | 5.2 |
VignetteAmount | 0 |
WhiteBalance (2) | Auto |
WhiteBalance | Manual |