Felt | Verdi |
AlreadyApplied | True |
Aperture | 11.0 |
ApertureValue | 11.0 |
Artist | unknown |
BitsPerSample | 8 |
BlueHue | 0 |
BlueSaturation | 0 |
Brightness | +50 |
By-line | unknown |
CameraProfile | Adobe Standard |
ChromaticAberrationB | 0 |
ChromaticAberrationR | 0 |
CircleOfConfusion | 0.030 mm |
Clarity | 0 |
ColorComponents | 1 |
ColorMode | RGB |
ColorNoiseReduction | 25 |
ColorNoiseReductionDetail | 50 |
ColorSpace | sRGB |
ColorTemperature | 4600 |
Contrast | +25 |
ConvertToGrayscale | True |
CopyrightFlag | False |
CreateDate (1) | 2010:02:09 09:53:02+01:00 |
CreateDate | 2008:08:14 16:24:26 |
Creator | unknown |
CreatorTool | Adobe Photoshop Elements 6.0 Windows |
CropAngle | -0.183561 |
CropBottom | 0.995205 |
CropHeight | 2325 |
CropLeft | 0 |
CropRight | 0.99999 |
CropTop | 0.004805 |
CropUnit | pixels |
CropWidth | 3497 |
CustomRendered | Normal |
DateTimeDigitized | 2008:08:14 16:24:26+02:00 |
DateTimeOriginal (1) | 2008:08:14 16:24:26+02:00 |
DateTimeOriginal | 2008:08:14 16:24:26 |
Defringe | 0 |
ExifImageHeight | 620 |
ExifImageWidth | 912 |
Exposure | -0.20 |
ExposureCompensation | -1/3 |
ExposureMode | Auto |
ExposureProgram | Aperture-priority AE |
ExposureTime | 1/200 |
FillLight | 0 |
Firmware | 1.0.2 |
Flash | Off, Did not fire |
FlashCompensation | 0 |
FlashFired | False |
FlashFunction | False |
FlashMode | Off |
FlashRedEyeMode | False |
FlashReturn | No return detection |
FNumber | 11.0 |
FocalLength | 28.0 mm |
FocalLength35efl | 28.0 mm (35 mm equivalent: 28.2 mm) |
Format | image/jpeg |
FOV | 65.1 deg |
GrainAmount | 0 |
GrayMixerAqua | -17 |
GrayMixerBlue | +20 |
GrayMixerGreen | -30 |
GrayMixerMagenta | +9 |
GrayMixerOrange | -22 |
GrayMixerPurple | +25 |
GrayMixerRed | -11 |
GrayMixerYellow | -27 |
GreenHue | 0 |
GreenSaturation | 0 |
HasCrop | True |
HasSettings | True |
HighlightRecovery | 0 |
HyperfocalDistance | 2.39 m |
ICCProfileName | sRGB IEC61966-2.1 |
ImageHeight (1) | 2325 |
ImageHeight | 620 |
ImageNumber | 35 |
ImageSize | 912x620 |
ImageWidth (1) | 3497 |
ImageWidth | 912 |
ISO | 100 |
Lens | 17.0-85.0 mm |
LensID (1) | 65535 |
LensID | Unknown 17-85mm |
LensInfo | 17-85mm f/? |
LightValue | 14.6 |
Make | Canon |
MaxApertureValue | 4.0 |
Megapixels | 0.565 |
MeteringMode | Multi-segment |
Model | Canon EOS 20D |
ModifyDate (1) | 2010:02:09 09:53:02+01:00 |
ModifyDate | 2010:02:09 09:53:02 |
NoiseReductionContrast | 0 |
Orientation | Horizontal (normal) |
OwnerName | unknown |
ParametricDarks | +15 |
ParametricHighlights | 0 |
ParametricHighlightSplit | 75 |
ParametricLights | 0 |
ParametricMidtoneSplit | 50 |
ParametricShadows | -20 |
ParametricShadowSplit | 25 |
PostCropVignetteAmount | 0 |
ProfileDescription | sRGB IEC61966-2.1 |
RedHue | 0 |
RedSaturation | 0 |
RenderVersion | 5.7 |
ScaleFactor35efl | 1.0 |
SceneCaptureType | Standard |
SerialNumber | 330114276 |
Shadows | 43 |
ShadowTint | 0 |
SharpenDetail | 25 |
SharpenEdgeMasking | 0 |
SharpenRadius | +1.0 |
Sharpness | 25 |
ShutterSpeed | 1/200 |
ShutterSpeedValue | 1/200 |
Software | Adobe Photoshop Elements 6.0 Windows |
SplitToningBalance | 0 |
SplitToningHighlightHue | 0 |
SplitToningHighlightSaturation | 0 |
SplitToningShadowHue | 0 |
SplitToningShadowSaturation | 0 |
Tint | +47 |
ToneCurve | 0, 0, 32, 22, 64, 56, 128, 128, 192, 196, 255, 255 |
ToneCurveName | Medium Contrast |
URL_List | |
Version | 6.0 |
VignetteAmount | 0 |
WhiteBalance (2) | As Shot |
WhiteBalance | Auto |