Felt | Verdi |
AlreadyApplied | True |
Aperture | 5.6 |
ApertureValue | 5.6 |
Artist | Kjetil Andre Edstrom |
BitsPerSample | 8 |
BlueHue | 0 |
BlueSaturation | 0 |
Brightness | 0 |
By-line | Kjetil Andre Edstrom |
CameraProfile | Adobe Standard |
ChromaticAberrationB | 0 |
ChromaticAberrationR | 0 |
CircleOfConfusion | 0.019 mm |
Clarity | 0 |
ColorComponents | 3 |
ColorNoiseReduction | 43 |
ColorTemperature | 7500 |
Contrast | +41 |
ConvertToGrayscale | False |
CreateDate (1) | 2010:02:13 18:12:51.84+01:00 |
CreateDate | 2010:02:13 18:12:51 |
Creator | Kjetil Andre Edstrom |
CreatorTool | Adobe Photoshop Lightroom |
CropAngle | 0 |
CropBottom | 1 |
CropHeight | 2596 |
CropLeft | 0 |
CropRight | 0.839465 |
CropTop | 0.180602 |
CropUnit | pixels |
CropWidth | 3989 |
CustomRendered | Normal |
DateTimeDigitized | 2010:02:13 18:12:51.84+01:00 |
DateTimeOriginal (1) | 2010:02:13 18:12:51.84+01:00 |
DateTimeOriginal | 2010:02:13 18:12:51 |
Defringe | 0 |
ExifImageHeight | 2596 |
ExifImageWidth | 3989 |
Exposure | +0.65 |
ExposureCompensation | 0 |
ExposureMode | Auto |
ExposureProgram | Aperture-priority AE |
ExposureTime | 1/200 |
FillLight | 0 |
Firmware | 1.0.9 |
Flash | Off, Did not fire |
FlashCompensation | 0 |
FlashFired | False |
FlashFunction | False |
FlashMode | Off |
FlashRedEyeMode | False |
FlashReturn | No return detection |
FNumber | 5.6 |
FocalLength | 250.0 mm |
FocalLength35efl | 250.0 mm (35 mm equivalent: 397.0 mm) |
FOV | 5.2 deg |
GreenHue | 0 |
GreenSaturation | 0 |
HasCrop | True |
HasSettings | True |
HighlightRecovery | 0 |
HueAdjustmentAqua | +4 |
HueAdjustmentBlue | +13 |
HueAdjustmentGreen | 0 |
HueAdjustmentMagenta | 0 |
HueAdjustmentOrange | -17 |
HueAdjustmentPurple | +19 |
HueAdjustmentRed | -6 |
HueAdjustmentYellow | -6 |
HyperfocalDistance | 589.80 m |
ImageHeight | 2596 |
ImageNumber | 0 |
ImageSize | 3989x2596 |
ImageWidth | 3989 |
ISO | 100 |
Lens | EF-S55-250mm f/4-5.6 IS |
LensInfo | 55-250mm f/? |
LightValue | 12.6 |
LuminanceAdjustmentAqua | -9 |
LuminanceAdjustmentBlue | -21 |
LuminanceAdjustmentGreen | 0 |
LuminanceAdjustmentMagenta | 0 |
LuminanceAdjustmentOrange | 0 |
LuminanceAdjustmentPurple | -4 |
LuminanceAdjustmentRed | 0 |
LuminanceAdjustmentYellow | 0 |
LuminanceSmoothing | 46 |
Make | Canon |
MaxApertureValue | 5.7 |
Megapixels | 10.4 |
MeteringMode | Multi-segment |
Model | Canon EOS 500D |
ModifyDate (1) | 2010:02:14 23:30:02+01:00 |
ModifyDate | 2010:02:14 23:30:02 |
OwnerName | Kjetil Andre Edstrom |
ParametricDarks | +21 |
ParametricHighlights | -53 |
ParametricHighlightSplit | 79 |
ParametricLights | +23 |
ParametricMidtoneSplit | 57 |
ParametricShadows | -32 |
ParametricShadowSplit | 17 |
PostCropVignetteAmount | 0 |
ProfileDescription | sRGB IEC61966-2.1 |
RedHue | 0 |
RedSaturation | 0 |
Saturation | 0 |
SaturationAdjustmentAqua | +9 |
SaturationAdjustmentBlue | +15 |
SaturationAdjustmentGreen | 0 |
SaturationAdjustmentMagenta | 0 |
SaturationAdjustmentOrange | +13 |
SaturationAdjustmentPurple | +13 |
SaturationAdjustmentRed | +15 |
SaturationAdjustmentYellow | +9 |
ScaleFactor35efl | 1.6 |
SceneCaptureType | Standard |
SerialNumber | 530103093 |
Shadows | 18 |
ShadowTint | 0 |
SharpenDetail | 18 |
SharpenEdgeMasking | 0 |
SharpenRadius | +1.0 |
Sharpness | 70 |
ShutterSpeed | 1/200 |
ShutterSpeedValue | 1/200 |
SplitToningBalance | 0 |
SplitToningHighlightHue | 0 |
SplitToningHighlightSaturation | 0 |
SplitToningShadowHue | 0 |
SplitToningShadowSaturation | 0 |
Tint | +10 |
ToneCurve | 0, 0, 255, 255 |
ToneCurveName | Linear |
Version | 5.5 |
Vibrance | 0 |
VignetteAmount | 0 |
WhiteBalance (2) | Shade |
WhiteBalance | Auto |