Felt | Verdi |
AlreadyApplied | True |
Aperture | 8.0 |
ApertureValue | 8.0 |
BitsPerSample | 8 |
BlueHue | 0 |
BlueSaturation | 0 |
Brightness | +50 |
CameraProfile | ACR 4.4 |
ChromaticAberrationB | 0 |
ChromaticAberrationR | 0 |
CircleOfConfusion | 0.030 mm |
Clarity | 0 |
ColorComponents | 1 |
ColorNoiseReduction | 25 |
ColorTemperature | 4750 |
Contrast | +25 |
ConvertToGrayscale | True |
CreateDate (1) | 2009:12:14 19:37:39+01:00 |
CreateDate | 2009:12:14 19:37:39 |
CreatorTool | Adobe Photoshop Lightroom |
CropAngle | 0 |
CropBottom | 1 |
CropHeight | 2912 |
CropLeft | 0.02907 |
CropRight | 1 |
CropTop | 0 |
CropUnit | pixels |
CropWidth | 4241 |
CustomRendered | Normal |
DateTimeDigitized | 2009:12:14 19:37:39+01:00 |
DateTimeOriginal (1) | 2009:12:14 19:37:39+01:00 |
DateTimeOriginal | 2009:12:14 19:37:39 |
Defringe | 0 |
ExifImageHeight | 2912 |
ExifImageWidth | 4241 |
Exposure | 0.00 |
ExposureCompensation | 0 |
ExposureMode | Manual |
ExposureProgram | Manual |
ExposureTime | 1/400 |
FillLight | 0 |
Firmware | 1.1.0 |
Flash | Off, Did not fire |
FlashCompensation | 0 |
FlashFired | False |
FlashFunction | False |
FlashMode | Off |
FlashRedEyeMode | False |
FlashReturn | No return detection |
FNumber | 8.0 |
FocalLength | 105.0 mm |
FocalLength35efl | 105.0 mm (35 mm equivalent: 105.2 mm) |
FOV | 19.4 deg |
GradientBasedCorrActive | true |
GradientBasedCorrAmount | 1.000000 |
GradientBasedCorrBrightness | 0.082353 |
GradientBasedCorrClarity | 0.058824 |
GradientBasedCorrContrast | 0.058824 |
GradientBasedCorrExposure (1) | -0.129412 |
GradientBasedCorrExposure | -0.317647 |
GradientBasedCorrHue | 230.000000 |
GradientBasedCorrMaskFullX (1) | 0.444767 |
GradientBasedCorrMaskFullX | 0.486311 |
GradientBasedCorrMaskFullY (1) | -0.006536 |
GradientBasedCorrMaskFullY | 1.105930 |
GradientBasedCorrMaskValue | 1.000000 |
GradientBasedCorrMaskWhat | Mask/Gradient |
GradientBasedCorrMaskZeroX (1) | 0.441860 |
GradientBasedCorrMaskZeroX | 0.483488 |
GradientBasedCorrMaskZeroY (1) | 0.309368 |
GradientBasedCorrMaskZeroY | 0.752119 |
GradientBasedCorrSaturation | 0.000000 |
GradientBasedCorrSharpness | 0.035294 |
GradientBasedCorrWhat | Correction |
GrayMixerAqua | -20 |
GrayMixerBlue | +4 |
GrayMixerGreen | -22 |
GrayMixerMagenta | +6 |
GrayMixerOrange | -12 |
GrayMixerPurple | +12 |
GrayMixerRed | -3 |
GrayMixerYellow | -15 |
GreenHue | 0 |
GreenSaturation | 0 |
HasCrop | True |
HasSettings | True |
HighlightRecovery | 0 |
HyperfocalDistance | 45.96 m |
ImageHeight | 2912 |
ImageNumber | 23 |
ImageSize | 4241x2912 |
ImageWidth | 4241 |
ISO | 100 |
Lens | EF24-105mm f/4L IS USM |
LensInfo | 24-105mm f/? |
LightValue | 14.6 |
LuminanceSmoothing | 0 |
Make | Canon |
MaxApertureValue | 4.0 |
Megapixels | 12.3 |
MeteringMode | Unknown |
Model | Canon EOS 5D |
ModifyDate (1) | 2010:02:16 20:03:47+01:00 |
ModifyDate | 2010:02:16 20:03:47 |
PaintCorrectionActive | true |
PaintCorrectionAmount | 1.000000 |
PaintCorrectionBrightness | 0.082353 |
PaintCorrectionClarity | 0.058824 |
PaintCorrectionContrast | 0.058824 |
PaintCorrectionExposure | 0.058824 |
PaintCorrectionHue | 230.000000 |
PaintCorrectionMaskCenterWeight | 0.084874 |
PaintCorrectionMaskFlow | 1.000000 |
PaintCorrectionMaskRadius | 0.042403 |
PaintCorrectionMaskValue | 1.000000 |
PaintCorrectionMaskWhat | Mask/Paint |
PaintCorrectionSaturation | 0.000000 |
PaintCorrectionSharpness | 0.035294 |
PaintCorrectionWhat | Correction |
ParametricDarks | -2 |
ParametricHighlights | -68 |
ParametricHighlightSplit | 75 |
ParametricLights | 0 |
ParametricMidtoneSplit | 50 |
ParametricShadows | 0 |
ParametricShadowSplit | 25 |
PostCropVignetteAmount | 0 |
ProfileDescription | sRGB IEC61966-2.1 |
RedHue | 0 |
RedSaturation | 0 |
ScaleFactor35efl | 1.0 |
SceneCaptureType | Standard |
SerialNumber | 2721201972 |
Shadows | 68 |
ShadowTint | 0 |
SharpenDetail | 76 |
SharpenEdgeMasking | 71 |
SharpenRadius | +0.7 |
Sharpness | 104 |
ShutterSpeed | 1/400 |
ShutterSpeedValue | 1/400 |
SplitToningBalance | 0 |
SplitToningHighlightHue | 0 |
SplitToningHighlightSaturation | 0 |
SplitToningShadowHue | 0 |
SplitToningShadowSaturation | 0 |
Tint | +16 |
ToneCurve | 0, 0, 32, 22, 64, 56, 128, 128, 192, 196, 255, 255 |
ToneCurveName | Medium Contrast |
Version | 4.5 |
VignetteAmount | 0 |
WhiteBalance (2) | As Shot |
WhiteBalance | Auto |