Felt | Verdi |
AlreadyApplied | True |
BitsPerSample | 8 |
BlueHue | 0 |
BlueSaturation | 0 |
Brightness | -20 |
By-line | Størker Moe |
CameraProfile | Embedded |
ChromaticAberrationB | 0 |
ChromaticAberrationR | 0 |
CircleOfConfusion | 0.030 mm |
City | Henningsvær |
Clarity | 0 |
ColorComponents | 3 |
ColorNoiseReduction | 0 |
ColorSpace | Unknown (-1) |
Contrast | 0 |
ConvertToGrayscale | False |
Copyright | Storker Moe |
CopyrightNotice | Størker Moe |
Country | Norway |
Country-PrimaryLocationCode | NOR |
Country-PrimaryLocationName | Norway |
CountryCode | NOR |
CreateDate | 2009:07:02 13:30:00 |
Creator | Størker Moe |
CreatorCountry | Norway |
CreatorTool | Adobe Photoshop Lightroom |
CropAngle | 0 |
CropBottom | 0.991856 |
CropHeight | 533 |
CropLeft | 0 |
CropRight | 1 |
CropTop | 0.008144 |
CropUnit | pixels |
CropWidth | 800 |
DateTimeDigitized | 2009:07:02 13:30:00+02:00 |
DateTimeOriginal (1) | 2009:07:02 13:30:00+02:00 |
DateTimeOriginal | 2009:07:02 13:30:00 |
Defringe | 0 |
ExifImageHeight | 533 |
ExifImageWidth | 800 |
Exposure | +0.67 |
FillLight | 10 |
Flash | No Flash |
FlashFired | False |
FlashFunction | False |
FlashMode | Unknown |
FlashRedEyeMode | False |
FlashReturn | No return detection |
FocalLength | 24.0 mm |
FocalLength35efl | 24.0 mm (35 mm equivalent: 24.0 mm) |
FocalLengthIn35mmFormat | 24 mm |
Format | image/tiff |
FOV | 73.7 deg |
GPSAltitude (1) | 0 m |
GPSAltitude | 0 m Above Sea Level |
GPSAltitudeRef | Above Sea Level |
GPSDateStamp | 2009:07:02 |
GPSDateTime | 2009:07:02 11:30:00Z |
GPSLatitude (2) | 68 deg 9' 22.56" |
GPSLatitude | 68 deg 9' 22.56" N |
GPSLatitudeRef | North |
GPSLongitude (2) | 14 deg 12' 28.98" |
GPSLongitude | 14 deg 12' 28.98" E |
GPSLongitudeRef | East |
GPSMapDatum | WGS-84 |
GPSPosition | 68 deg 9' 22.56" N, 14 deg 12' 28.98" E |
GPSSatellites | 0 |
GPSTimeStamp | 11:30:00 |
GPSVersionID | 2.2.0.0 |
GreenHue | 0 |
GreenSaturation | 0 |
HasCrop | True |
HasSettings | True |
HighlightRecovery | 0 |
HueAdjustmentAqua | 0 |
HueAdjustmentBlue | 0 |
HueAdjustmentGreen | 0 |
HueAdjustmentMagenta | 0 |
HueAdjustmentOrange | 0 |
HueAdjustmentPurple | 0 |
HueAdjustmentRed | 0 |
HueAdjustmentYellow | 0 |
ImageHeight | 533 |
ImageSize | 800x533 |
ImageWidth | 800 |
IncrementalTemperature | -5 |
IncrementalTint | +5 |
ISO | 100 |
Location | Henningsvær |
LuminanceAdjustmentAqua | -1 |
LuminanceAdjustmentBlue | -15 |
LuminanceAdjustmentGreen | 0 |
LuminanceAdjustmentMagenta | 0 |
LuminanceAdjustmentOrange | 0 |
LuminanceAdjustmentPurple | 0 |
LuminanceAdjustmentRed | 0 |
LuminanceAdjustmentYellow | 0 |
LuminanceSmoothing | 0 |
Make | Nikon |
MaxApertureValue | 2.8 |
Megapixels | 0.426 |
Model | Nikon Coolscan V / Fuji Reala |
ModifyDate (1) | 2010:02:19 17:28:04+01:00 |
ModifyDate | 2010:02:19 17:28:04 |
ParametricDarks | -20 |
ParametricHighlights | +25 |
ParametricHighlightSplit | 75 |
ParametricLights | +10 |
ParametricMidtoneSplit | 50 |
ParametricShadows | -10 |
ParametricShadowSplit | 25 |
PostCropVignetteAmount | 0 |
ProfileDescription | sRGB IEC61966-2.1 |
Province-State | Nordland |
RedHue | 0 |
RedSaturation | 0 |
Rights | Størker Moe |
Saturation | 0 |
SaturationAdjustmentAqua | +1 |
SaturationAdjustmentBlue | +10 |
SaturationAdjustmentGreen | 0 |
SaturationAdjustmentMagenta | 0 |
SaturationAdjustmentOrange | 0 |
SaturationAdjustmentPurple | 0 |
SaturationAdjustmentRed | 0 |
SaturationAdjustmentYellow | 0 |
ScaleFactor35efl | 1.0 |
Shadows | 0 |
ShadowTint | 0 |
SharpenDetail | 55 |
SharpenEdgeMasking | 25 |
SharpenRadius | +1.0 |
Sharpness | 75 |
Software | Adobe Photoshop CS3 Windows |
SplitToningBalance | 0 |
SplitToningHighlightHue | 0 |
SplitToningHighlightSaturation | 0 |
SplitToningShadowHue | 0 |
SplitToningShadowSaturation | 0 |
State | Nordland |
Sub-location | Henningsvær |
ToneCurve | 0, 0, 32, 22, 64, 56, 128, 128, 192, 196, 255, 255 |
ToneCurveName | Medium Contrast |
UserComment | © Storker Moe |
Version | 5.3 |
Vibrance | 0 |
VignetteAmount | 0 |
WhiteBalance | Custom |