Felt | Verdi |
AlreadyApplied | True |
BitsPerSample | 8 |
BlueHue | 0 |
BlueSaturation | 0 |
Brightness | 0 |
By-line | Størker Moe |
CameraProfile | Embedded |
ChromaticAberrationB | 0 |
ChromaticAberrationR | 0 |
CircleOfConfusion | 0.030 mm |
City | Henningsvær |
Clarity | 0 |
ColorComponents | 3 |
ColorNoiseReduction | 25 |
ColorSpace | Unknown (-1) |
Contrast | +17 |
ConvertToGrayscale | True |
Copyright | Storker Moe |
CopyrightNotice | Størker Moe |
Country | Norway |
Country-PrimaryLocationCode | NOR |
Country-PrimaryLocationName | Norway |
CountryCode | NOR |
CreateDate | 2009:07:02 13:46:00 |
Creator | Størker Moe |
CreatorCountry | Norway |
CreatorTool | Adobe Photoshop Lightroom |
CropAngle | 4.45784 |
CropBottom | 0.852576 |
CropHeight | 800 |
CropLeft | 0.084682 |
CropRight | 0.724136 |
CropTop | 0.073927 |
CropUnit | pixels |
CropWidth | 533 |
DateTimeDigitized | 2009:07:02 13:46:00 |
DateTimeOriginal | 2009:07:02 13:46:00 |
Defringe | 0 |
ExifImageHeight | 800 |
ExifImageWidth | 533 |
Exposure | -0.05 |
FillLight | 20 |
Flash | No Flash |
FlashFired | False |
FlashFunction | False |
FlashMode | Unknown |
FlashRedEyeMode | False |
FlashReturn | No return detection |
FocalLength | 24.0 mm |
FocalLength35efl | 24.0 mm (35 mm equivalent: 24.0 mm) |
FocalLengthIn35mmFormat | 24 mm |
Format | image/tiff |
FOV | 73.7 deg |
GPSAltitude (1) | 5 m |
GPSAltitude | 5 m Above Sea Level |
GPSAltitudeRef | Above Sea Level |
GPSDateStamp | 2009:07:02 |
GPSDateTime | 2009:07:02 13:46:00Z |
GPSLatitude (1) | 68 deg 9' 51.54" N |
GPSLatitude (2) | 68 deg 9' 51.63" |
GPSLatitude | 68 deg 9' 51.63" N |
GPSLatitudeRef | North |
GPSLongitude (1) | 14 deg 12' 54.36" W |
GPSLongitude (2) | 14 deg 12' 55.00" |
GPSLongitude | 14 deg 12' 55.00" E |
GPSLongitudeRef (1) | East |
GPSLongitudeRef | West |
GPSMapDatum | WGS-84 |
GPSPosition | 68 deg 9' 51.63" N, 14 deg 12' 55.00" E |
GPSSatellites | 0 |
GPSTimeStamp | 13:46:00 |
GPSVersionID | 2.2.0.0 |
GrayMixerAqua | -10 |
GrayMixerBlue | +20 |
GrayMixerGreen | -17 |
GrayMixerMagenta | +32 |
GrayMixerOrange | +12 |
GrayMixerPurple | +25 |
GrayMixerRed | +39 |
GrayMixerYellow | -9 |
GreenHue | 0 |
GreenSaturation | 0 |
HasCrop | True |
HasSettings | True |
HighlightRecovery | 40 |
ImageHeight | 800 |
ImageSize | 533x800 |
ImageWidth | 533 |
IncrementalTemperature | +8 |
IncrementalTint | -16 |
ISO | 100 |
Location | Henningsvær |
LuminanceSmoothing | 0 |
Make | Nikon |
MaxApertureValue | 2.8 |
Megapixels | 0.426 |
Model | Nikon Coolscan V / Fuji Reala |
ModifyDate (1) | 2010:02:19 17:30:04+01:00 |
ModifyDate | 2010:02:19 17:30:04 |
ParametricDarks | -17 |
ParametricHighlights | 0 |
ParametricHighlightSplit | 75 |
ParametricLights | +10 |
ParametricMidtoneSplit | 50 |
ParametricShadows | 0 |
ParametricShadowSplit | 25 |
PostCropVignetteAmount | 0 |
ProfileDescription | sRGB IEC61966-2.1 |
Province-State | Nordland |
RedHue | 0 |
RedSaturation | 0 |
Rights | Størker Moe |
ScaleFactor35efl | 1.0 |
Shadows | 0 |
ShadowTint | 0 |
SharpenDetail | 25 |
SharpenEdgeMasking | 0 |
SharpenRadius | +1.0 |
Sharpness | 25 |
Software | Adobe Photoshop CS3 Windows |
SplitToningBalance | 0 |
SplitToningHighlightHue | 51 |
SplitToningHighlightSaturation | 22 |
SplitToningShadowHue | 37 |
SplitToningShadowSaturation | 32 |
State | Nordland |
Sub-location | Henningsvær |
ToneCurve | 0, 0, 255, 255 |
ToneCurveName | Linear |
UserComment | © Storker Moe |
Version | 5.3 |
VignetteAmount | 0 |
WhiteBalance | Custom |