Felt | Verdi |
AlreadyApplied | True |
Aperture | 11.0 |
ApertureValue | 11.0 |
BitsPerSample | 8 |
BlackClip | 0.558550 |
BlueHue | 0 |
BlueSaturation | 0 |
Brightness | 0 |
CameraProfile | Embedded |
ChromaticAberrationB | 0 |
ChromaticAberrationR | 0 |
Clarity | -66 |
ColorComponents | 3 |
ColorMode | RGB |
ColorNoiseReduction | 100 |
ColorSaturation | 69 |
ColorSpace | Uncalibrated |
ColorTemperature | -4 |
Contrast | +9 |
ConvertToGrayscale | False |
CreateDate | 2009:07:31 03:57:06+02:00 |
CreatorTool | Adobe Photoshop CS4 Macintosh |
DateTimeOriginal (1) | 2009:07:31 03:57:06+02:00 |
DateTimeOriginal | 2009:07:31 03:57:06 |
Defringe | 0 |
ExifImageHeight | 597 |
ExifImageWidth | 1000 |
Exposure | 0.00 |
FillLight | 12 |
FNumber | 11.0 |
FocalLength | 58.0 mm |
FocalLength35efl | 58.0 mm |
Format | image/jpeg |
Gamma | 1.180993 |
GreenHue | 0 |
GreenSaturation | +18 |
HasCrop | False |
HasSettings | True |
HighlightRecovery | 50 |
HighlightsSmoothing | 39 |
HueAdjustmentAqua | 0 |
HueAdjustmentBlue | 0 |
HueAdjustmentGreen | +16 |
HueAdjustmentMagenta | 0 |
HueAdjustmentOrange | 0 |
HueAdjustmentPurple | 0 |
HueAdjustmentRed | 0 |
HueAdjustmentYellow | 0 |
ICCProfileName | Adobe RGB (1998) |
ImageHeight | 597 |
ImageSize | 1000x597 |
ImageWidth | 1000 |
IncrementalTemperature | +2 |
IncrementalTint | -6 |
ISO | 800 |
LuminanceAdjustmentAqua | 0 |
LuminanceAdjustmentBlue | 0 |
LuminanceAdjustmentGreen | 0 |
LuminanceAdjustmentMagenta | 0 |
LuminanceAdjustmentOrange | 0 |
LuminanceAdjustmentPurple | 0 |
LuminanceAdjustmentRed | 0 |
LuminanceAdjustmentYellow | 0 |
LuminanceSmoothing | 100 |
Luminosity | 5 |
Megapixels | 0.597 |
Method | Details Enhancer |
Microcontrast | 0 |
Microsmoothing | 5 |
Model | Canon EOS 5D Mark II |
ModifyDate (1) | 2010:02:22 01:04:36+01:00 |
ModifyDate | 2010:02:22 01:04:36 |
Orientation | Horizontal (normal) |
ParametricDarks | +20 |
ParametricHighlights | 0 |
ParametricHighlightSplit | 75 |
ParametricLights | 0 |
ParametricMidtoneSplit | 50 |
ParametricShadows | -15 |
ParametricShadowSplit | 25 |
PostCropVignetteAmount | 0 |
ProfileDescription | Adobe RGB (1998) |
Rating | 0 |
RawFileName | KonkGH.jpg |
RedHue | 0 |
RedSaturation | 0 |
Saturation | -11 |
SaturationAdjustmentAqua | 0 |
SaturationAdjustmentBlue | +21 |
SaturationAdjustmentGreen | +22 |
SaturationAdjustmentMagenta | 0 |
SaturationAdjustmentOrange | -32 |
SaturationAdjustmentPurple | 0 |
SaturationAdjustmentRed | 0 |
SaturationAdjustmentYellow | -14 |
SaturationHighlights | -2 |
SaturationShadows | 4 |
Shadows | 0 |
ShadowsClipping | 18 |
ShadowsSmoothing | 12 |
ShadowTint | 0 |
SharpenDetail | 25 |
SharpenEdgeMasking | 0 |
SharpenRadius | +1.0 |
Sharpness | 0 |
Smoothing | Very High |
Software | Adobe Photoshop CS4 Macintosh |
SplitToningBalance | 0 |
SplitToningHighlightHue | 60 |
SplitToningHighlightSaturation | 10 |
SplitToningShadowHue | 65 |
SplitToningShadowSaturation | 17 |
Strength | 73 |
ToneCurve | 0, 0, 255, 255 |
ToneCurveName | Linear |
URL_List | |
Version (1) | 2.5 |
Version | 5.3 |
Vibrance | 0 |
VignetteAmount | 0 |
WhiteBalance | Custom |
WhiteClip | 0.110750 |