Felt | Verdi |
AlreadyApplied | True |
BitsPerSample | 8 |
BlueHue | 0 |
BlueSaturation | 0 |
Brightness | +25 |
CameraProfile | Embedded |
CFAPattern | [Blue,Green][Green,Red] |
ChromaticAberrationB | 0 |
ChromaticAberrationR | 0 |
Clarity | 0 |
ColorComponents | 3 |
ColorNoiseReduction | 0 |
Contrast (2) | +5 |
Contrast | Normal |
ConvertToGrayscale | False |
CreateDate (1) | 2008:08:18 19:26:36.00+02:00 |
CreateDate | 2008:08:18 19:26:36 |
CreatorTool | Adobe Photoshop Lightroom |
CropAngle | 0 |
CropBottom | 1 |
CropHeight | 2000 |
CropLeft | 0.149384 |
CropRight | 0.809384 |
CropTop | 0 |
CropUnit | pixels |
CropWidth | 1985 |
CustomRendered | Normal |
DateTimeDigitized | 2008:08:18 19:26:36.00+02:00 |
DateTimeOriginal (1) | 2008:08:18 19:26:36.00+02:00 |
DateTimeOriginal | 2008:08:18 19:26:36 |
Defringe | 0 |
DigitalZoomRatio | 1 |
ExifImageHeight | 2000 |
ExifImageWidth | 1985 |
Exposure | 0.00 |
ExposureCompensation | 0 |
ExposureMode | Manual |
ExposureProgram | Manual |
ExposureTime | 1/250 |
FillLight | 14 |
Flash | No Flash |
FlashFired | False |
FlashFunction | False |
FlashMode | Unknown |
FlashRedEyeMode | False |
FlashReturn | No return detection |
GainControl | None |
GreenHue | 0 |
GreenSaturation | 0 |
HasCrop | True |
HasSettings | True |
HighlightRecovery | 100 |
HueAdjustmentAqua | 0 |
HueAdjustmentBlue | 0 |
HueAdjustmentGreen | 0 |
HueAdjustmentMagenta | 0 |
HueAdjustmentOrange | 0 |
HueAdjustmentPurple | 0 |
HueAdjustmentRed | 0 |
HueAdjustmentYellow | 0 |
ImageHeight | 2000 |
ImageNumber | 12206 |
ImageSize | 1985x2000 |
ImageWidth | 1985 |
IncrementalTemperature | +14 |
IncrementalTint | -5 |
ISO | 250 |
Lens | 0.0 mm f/0.0 |
LensInfo | 0mm f/0 |
LightSource | Fine Weather |
LuminanceAdjustmentAqua | 0 |
LuminanceAdjustmentBlue | 0 |
LuminanceAdjustmentGreen | 0 |
LuminanceAdjustmentMagenta | 0 |
LuminanceAdjustmentOrange | 0 |
LuminanceAdjustmentPurple | 0 |
LuminanceAdjustmentRed | 0 |
LuminanceAdjustmentYellow | 0 |
LuminanceSmoothing | 0 |
Make | NIKON CORPORATION |
MaxApertureValue | 1.0 |
Megapixels | 4.0 |
MeteringMode | Center-weighted average |
Model | NIKON D70s |
ModifyDate (1) | 2009:03:06 23:53:30+01:00 |
ModifyDate | 2009:03:06 23:53:30 |
ParametricDarks | -5 |
ParametricHighlights | +100 |
ParametricHighlightSplit | 75 |
ParametricLights | +38 |
ParametricMidtoneSplit | 50 |
ParametricShadows | +10 |
ParametricShadowSplit | 25 |
PostCropVignetteAmount | 0 |
ProfileDescription | Adobe RGB (1998) |
RedHue | 0 |
RedSaturation | 0 |
Saturation (2) | +31 |
Saturation | Normal |
SaturationAdjustmentAqua | 0 |
SaturationAdjustmentBlue | 0 |
SaturationAdjustmentGreen | 0 |
SaturationAdjustmentMagenta | 0 |
SaturationAdjustmentOrange | 0 |
SaturationAdjustmentPurple | 0 |
SaturationAdjustmentRed | 0 |
SaturationAdjustmentYellow | 0 |
SceneCaptureType | Standard |
SceneType | Directly photographed |
SensingMethod | One-chip color area |
Shadows | 11 |
ShadowTint | 0 |
SharpenDetail | 50 |
SharpenEdgeMasking | 7 |
SharpenRadius | +0.5 |
Sharpness (2) | 95 |
Sharpness | Hard |
ShutterSpeed | 1/250 |
ShutterSpeedValue | 1/250 |
Software | Ver.1.00 |
SplitToningBalance | 0 |
SplitToningHighlightHue | 0 |
SplitToningHighlightSaturation | 0 |
SplitToningShadowHue | 0 |
SplitToningShadowSaturation | 0 |
SubjectDistanceRange | Unknown |
ToneCurve | 0, 0, 255, 255 |
ToneCurveName | Linear |
Version | 5.2 |
Vibrance | -69 |
VignetteAmount | 0 |
WhiteBalance (2) | Custom |
WhiteBalance | Manual |