Felt | Verdi |
AlreadyApplied | True |
Aperture | 16.0 |
ApertureValue | 16.0 |
Artist | Christer Hansen Eriksen |
BitsPerSample | 8 |
BlueHue | 0 |
BlueSaturation | 0 |
Brightness | +50 |
By-line | Christer Hansen Eriksen |
CameraProfile | Adobe Standard |
Caption-Abstract | I've recently gotten interested in film photography and have therefore bought some equipment and built a small darkroom for developing the B&W film (no printing, yet). Already I can clearly see that this is something I like. The whole analog-thing brings a very good and pure feeling of satisfaction when things goes as planned (or even not). It's really peaceful and simple, yet sophisticated! |
ChromaticAberrationB | 0 |
ChromaticAberrationR | 0 |
CircleOfConfusion | 0.019 mm |
Clarity | +23 |
ColorComponents | 3 |
ColorNoiseReduction | 25 |
ColorTemperature | 4950 |
Contrast | +25 |
ConvertToGrayscale | False |
Copyright | Chreriksen |
CopyrightFlag | True |
CopyrightNotice | Chreriksen |
CreateDate (1) | 2010:02:24 13:49:13.39+01:00 |
CreateDate | 2010:02:24 13:49:13 |
Creator | Christer Hansen Eriksen |
CreatorTool | Adobe Photoshop Lightroom |
CreatorWorkEmail | chreriksen@me.com |
CreatorWorkURL | flickr.com/chreriksen |
CropAngle | 0 |
CropBottom | 0.84606 |
CropHeight | 2192 |
CropLeft | 0.115222 |
CropRight | 0.884777 |
CropTop | 0.076507 |
CropUnit | pixels |
CropWidth | 3288 |
CustomRendered | Normal |
DateTimeDigitized | 2010:02:24 13:49:13.39+01:00 |
DateTimeOriginal (1) | 2010:02:24 13:49:13.39+01:00 |
DateTimeOriginal | 2010:02:24 13:49:13 |
Defringe | 0 |
Description | I've recently gotten interested in film photography and have therefore bought some equipment and built a small darkroom for developing the B&W film (no printing, yet). Already I can clearly see that this is something I like. The whole analog-thing brings a very good and pure feeling of satisfaction when things goes as planned (or even not). It's really peaceful and simple, yet sophisticated! |
DOF | 0.21 m (0.29 - 0.50 m) |
ExifImageHeight | 2192 |
ExifImageWidth | 3288 |
Exposure | 0.00 |
ExposureCompensation | 0 |
ExposureMode | Auto |
ExposureProgram | Aperture-priority AE |
ExposureTime | 1/15 |
FillLight | 15 |
Firmware | 1.1.0 |
Flash | Off, Did not fire |
FlashCompensation | 0 |
FlashFired | False |
FlashFunction | False |
FlashMode | Off |
FlashRedEyeMode | False |
FlashReturn | No return detection |
FNumber | 16.0 |
FocalLength | 20.0 mm |
FocalLength35efl | 20.0 mm (35 mm equivalent: 32.3 mm) |
FOV | 58.2 deg |
GreenHue | 0 |
GreenSaturation | 0 |
HasCrop | True |
HasSettings | True |
HierarchicalSubject | 135, 35 mm, Analog, Film, Product, Studio, Vintage, camera |
HighlightRecovery | 13 |
HueAdjustmentAqua | 0 |
HueAdjustmentBlue | 0 |
HueAdjustmentGreen | 0 |
HueAdjustmentMagenta | 0 |
HueAdjustmentOrange | 0 |
HueAdjustmentPurple | 0 |
HueAdjustmentRed | 0 |
HueAdjustmentYellow | 0 |
HyperfocalDistance | 1.34 m |
ImageDescription | I've recently gotten interested in film photography and have therefore bought some equipment and built a small darkroom for developing the B&W film (no printing, yet). Already I can clearly see that this is something I like. The whole analog-thing brings a very good and pure feeling of satisfaction when things goes as planned (or even not). It's really peaceful and simple, yet sophisticated! |
ImageHeight | 2192 |
ImageNumber | 0 |
ImageSize | 3288x2192 |
ImageWidth | 3288 |
ISO | 100 |
Keywords | 135, 35 mm, Analog, Film, Product, Studio, Vintage, camera |
Lens | EF-S10-22mm f/3.5-4.5 USM |
LensID (1) | 235 |
LensID | Canon EF-S 10-22mm f/3.5-4.5 USM |
LensInfo | 10-22mm f/? |
LightValue | 11.9 |
LuminanceAdjustmentAqua | 0 |
LuminanceAdjustmentBlue | 0 |
LuminanceAdjustmentGreen | 0 |
LuminanceAdjustmentMagenta | 0 |
LuminanceAdjustmentOrange | 0 |
LuminanceAdjustmentPurple | 0 |
LuminanceAdjustmentRed | 0 |
LuminanceAdjustmentYellow | 0 |
LuminanceSmoothing | 0 |
Make | Canon |
Marked | True |
MaxApertureValue | 4.6 |
Megapixels | 7.2 |
MeteringMode | Multi-segment |
Model | Canon EOS 450D |
ModifyDate (1) | 2010:02:24 15:20:44+01:00 |
ModifyDate | 2010:02:24 15:20:44 |
ObjectName | Argus C3 (Colormatic) |
OwnerName | Christer Hansen Eriksen |
ParametricDarks | 0 |
ParametricHighlights | 0 |
ParametricHighlightSplit | 75 |
ParametricLights | 0 |
ParametricMidtoneSplit | 50 |
ParametricShadows | 0 |
ParametricShadowSplit | 25 |
PostCropVignetteAmount | 0 |
ProfileDescription | sRGB IEC61966-2.1 |
RedHue | 0 |
RedSaturation | 0 |
Rights | Chreriksen |
Saturation | 0 |
SaturationAdjustmentAqua | 0 |
SaturationAdjustmentBlue | 0 |
SaturationAdjustmentGreen | 0 |
SaturationAdjustmentMagenta | 0 |
SaturationAdjustmentOrange | 0 |
SaturationAdjustmentPurple | 0 |
SaturationAdjustmentRed | 0 |
SaturationAdjustmentYellow | 0 |
ScaleFactor35efl | 1.6 |
SceneCaptureType | Standard |
SerialNumber | 1380330704 |
Shadows | 5 |
ShadowTint | 0 |
SharpenDetail | 25 |
SharpenEdgeMasking | 0 |
SharpenRadius | +1.0 |
Sharpness | 25 |
ShutterSpeed | 1/15 |
ShutterSpeedValue | 1/15 |
SplitToningBalance | 0 |
SplitToningHighlightHue | 0 |
SplitToningHighlightSaturation | 0 |
SplitToningShadowHue | 0 |
SplitToningShadowSaturation | 0 |
Subject | 135, 35 mm, Analog, Film, Product, Studio, Vintage, camera |
SubjectDistance | 0.37 m |
Tint | +18 |
Title | Argus C3 (Colormatic) |
ToneCurve | 0, 0, 32, 22, 64, 56, 128, 128, 192, 196, 255, 255 |
ToneCurveName | Medium Contrast |
Version | 5.6 |
Vibrance | 0 |
VignetteAmount | 0 |
WhiteBalance (2) | As Shot |
WhiteBalance | Auto |