Felt | Verdi |
AlreadyApplied | True |
Aperture | 14.0 |
ApertureValue | 14.0 |
BitsPerSample | 8 |
BlueHue | +11 |
BlueSaturation | -21 |
Brightness | 0 |
CameraProfile | Adobe Standard |
ChromaticAberrationB | 0 |
ChromaticAberrationR | 0 |
CircleOfConfusion | 0.031 mm |
Clarity | +50 |
ColorComponents | 3 |
ColorMode | RGB |
ColorNoiseReduction | 25 |
ColorNoiseReductionDetail | 50 |
ColorSpace | sRGB |
ColorTemperature | 5350 |
Contrast | +41 |
ConvertToGrayscale | True |
CopyrightFlag | False |
CreateDate (1) | 2010:03:06 01:05:33+01:00 |
CreateDate | 2009:10:08 13:22:14 |
CreatorTool | Adobe Photoshop Elements 6.0 Windows |
CropAngle | -2.42261 |
CropBottom | 0.929413 |
CropHeight | 3412 |
CropLeft | 0.00836 |
CropRight | 0.858199 |
CropTop | 0.071138 |
CropUnit | pixels |
CropWidth | 4632 |
CustomRendered | Normal |
DateTimeDigitized | 2009:10:08 13:22:14.42+02:00 |
DateTimeOriginal (1) | 2009:10:08 13:22:14.42+02:00 |
DateTimeOriginal | 2009:10:08 13:22:14 |
Defringe | 0 |
DOF | inf (0.93 m - inf) |
ExifImageHeight | 817 |
ExifImageWidth | 600 |
Exposure | +0.95 |
ExposureCompensation | -2/3 |
ExposureMode | Auto |
ExposureProgram | Aperture-priority AE |
ExposureTime | 1/125 |
FillLight | 29 |
Firmware | 1.0.6 |
Flash | Off, Did not fire |
FlashCompensation | 0 |
FlashFired | False |
FlashFunction | False |
FlashMode | Off |
FlashRedEyeMode | False |
FlashReturn | No return detection |
FNumber | 14.0 |
FocalLength | 20.0 mm |
FocalLength35efl | 20.0 mm (35 mm equivalent: 19.5 mm) |
Format | image/jpeg |
FOV | 85.4 deg |
GrainAmount | 0 |
GrayMixerAqua | +2 |
GrayMixerBlue | +19 |
GrayMixerGreen | 0 |
GrayMixerMagenta | +30 |
GrayMixerOrange | +8 |
GrayMixerPurple | +25 |
GrayMixerRed | +34 |
GrayMixerYellow | -12 |
GreenHue | +16 |
GreenSaturation | +51 |
HasCrop | True |
HasSettings | True |
HighlightRecovery | 0 |
HyperfocalDistance | 0.93 m |
ICCProfileName | sRGB IEC61966-2.1 |
ImageHeight (1) | 4632 |
ImageHeight | 817 |
ImageNumber | 0 |
ImageSize | 600x817 |
ImageWidth (1) | 3412 |
ImageWidth | 600 |
ISO | 200 |
Lens | EF20mm f/2.8 USM |
LensID (1) | 154 |
LensID | Canon EF 20mm f/2.8 USM |
LensInfo | 20mm f/? |
LightValue | 13.6 |
Make | Canon |
MaxApertureValue | 2.8 |
Megapixels | 0.490 |
MeteringMode | Spot |
Model | Canon EOS 5D Mark II |
ModifyDate (1) | 2010:03:06 01:05:33+01:00 |
ModifyDate | 2010:03:06 01:05:33 |
NoiseReductionContrast | 0 |
Orientation | Horizontal (normal) |
ParametricDarks | -15 |
ParametricHighlights | +8 |
ParametricHighlightSplit | 75 |
ParametricLights | +15 |
ParametricMidtoneSplit | 50 |
ParametricShadows | -30 |
ParametricShadowSplit | 25 |
PostCropVignetteAmount | 0 |
ProfileDescription | sRGB IEC61966-2.1 |
RedHue | +23 |
RedSaturation | +10 |
RenderVersion | 5.7 |
ScaleFactor35efl | 1.0 |
SceneCaptureType | Standard |
SerialNumber | 130101597 |
Shadows | 0 |
ShadowTint | +4 |
SharpenDetail | 50 |
SharpenEdgeMasking | 0 |
SharpenRadius | +1.0 |
Sharpness | 25 |
ShutterSpeed | 1/125 |
ShutterSpeedValue | 1/125 |
Software | Adobe Photoshop Elements 6.0 Windows |
SplitToningBalance | 0 |
SplitToningHighlightHue | 215 |
SplitToningHighlightSaturation | 32 |
SplitToningShadowHue | 240 |
SplitToningShadowSaturation | 29 |
SubjectDistance | 4294967295 m |
Tint | +3 |
ToneCurve | 0, 0, 32, 22, 64, 56, 128, 128, 192, 196, 255, 255 |
ToneCurveName | Medium Contrast |
URL_List | |
Version | 6.0 |
VignetteAmount | -100 |
VignetteMidpoint | 40 |
WhiteBalance (2) | As Shot |
WhiteBalance | Auto |