Felt | Verdi |
AlreadyApplied | True |
Aperture | 1.0 |
ApertureValue | 1.0 |
ApproximateFNumber | 0.0 |
BaseISO | 160 |
BitsPerSample | 8 |
BlueBalance | 0.531741 |
BlueHue | 0 |
BlueSaturation | 0 |
Brightness | 0 |
CameraProfile | Adobe Standard |
CameraTemperature | 24 C |
ChromaticAberrationB | 0 |
ChromaticAberrationR | 0 |
CircleOfConfusion | 0.030 mm |
Clarity | 0 |
ColorComponents | 3 |
ColorNoiseReduction | 25 |
ColorTemperature | 3000 |
Contrast (1) | 0 |
Contrast | High |
ConvertToGrayscale | False |
CreateDate (1) | 2010:02:27 00:18:58+01:00 |
CreateDate | 2010:02:27 00:18:58 |
CreatorTool | Adobe Photoshop Lightroom |
CropAngle | -0.1 |
CropBottom | 0.997384 |
CropHeight | 852 |
CropLeft | 0 |
CropRight | 0.998542 |
CropTop | 0.002616 |
CropUnit | pixels |
CropWidth | 1280 |
DateTimeDigitized | 2010:02:27 00:18:58+01:00 |
DateTimeOriginal (1) | 2010:02:27 00:18:58+01:00 |
DateTimeOriginal | 2010:02:27 00:18:58 |
Defringe | 0 |
DigitalZoomRatio | 0 |
ExifImageHeight | 852 |
ExifImageWidth | 1280 |
Exposure | +1.15 |
ExposureCompensation | 0 |
ExposureMode | Manual |
ExposureProgram | Aperture-priority AE |
ExposureTime | 1/11 |
ExternalSensorBrightnessValue | -1.60 |
FillLight | 0 |
FirmwareVersion | 1.002 |
Flash | No Flash |
FlashFired | False |
FlashFunction | False |
FlashMode | Unknown |
FlashRedEyeMode | False |
FlashReturn | No return detection |
FNumber | 1.0 |
FocalLength | 50.0 mm |
FocalLength35efl | 50.0 mm (35 mm equivalent: 50.0 mm) |
FocalLengthIn35mmFormat | 50 mm |
FOV | 39.6 deg |
GreenHue | 0 |
GreenSaturation | 0 |
HasCrop | True |
HasSettings | True |
HighlightRecovery | 25 |
HueAdjustmentAqua | 0 |
HueAdjustmentBlue | 0 |
HueAdjustmentGreen | 0 |
HueAdjustmentMagenta | 0 |
HueAdjustmentOrange | 0 |
HueAdjustmentPurple | 0 |
HueAdjustmentRed | 0 |
HueAdjustmentYellow | 0 |
HyperfocalDistance | 83.21 m |
ImageHeight | 852 |
ImageSize | 1280x852 |
ImageWidth | 1280 |
ISO | 200 |
JPEGQuality | Fine |
Lens | Leica Noctilux-M 50mm f/1 |
LensID (1) | 31 |
LensID | Noctilux-M 50mm f/1 |
LensType | Noctilux-M 50mm f/1 |
LightSource | Unknown |
LightValue | 2.5 |
LuminanceAdjustmentAqua | 0 |
LuminanceAdjustmentBlue | 0 |
LuminanceAdjustmentGreen | 0 |
LuminanceAdjustmentMagenta | 0 |
LuminanceAdjustmentOrange | 0 |
LuminanceAdjustmentPurple | 0 |
LuminanceAdjustmentRed | 0 |
LuminanceAdjustmentYellow | 0 |
LuminanceSmoothing | 0 |
Make | Leica Camera AG |
MakerNoteSafety | Safe |
MaxApertureValue | 1.0 |
MeasuredLV | 1.50 |
Megapixels | 1.1 |
MeteringMode | Center-weighted average |
Model | M9 Digital Camera |
ModifyDate (1) | 2010:03:14 22:04:47+01:00 |
ModifyDate | 2010:03:14 22:04:47 |
ParametricDarks | -43 |
ParametricHighlights | +75 |
ParametricHighlightSplit | 75 |
ParametricLights | +15 |
ParametricMidtoneSplit | 50 |
ParametricShadows | -30 |
ParametricShadowSplit | 25 |
PostCropVignetteAmount | 0 |
ProfileDescription | sRGB IEC61966-2.1 |
RedBalance | 0.615246 |
RedHue | 0 |
RedSaturation | 0 |
Saturation (1) | 0 |
Saturation | Black & White |
SaturationAdjustmentAqua | +50 |
SaturationAdjustmentBlue | +58 |
SaturationAdjustmentGreen | +10 |
SaturationAdjustmentMagenta | 0 |
SaturationAdjustmentOrange | +13 |
SaturationAdjustmentPurple | +23 |
SaturationAdjustmentRed | 0 |
SaturationAdjustmentYellow | +23 |
ScaleFactor35efl | 1.0 |
SceneCaptureType | Standard |
SceneType | Directly photographed |
SensorBitDepth | 14 |
SensorHeight | 3516 |
SensorWidth | 5270 |
SerialNumber | ******* |
Shadows | 14 |
ShadowTint | 0 |
SharpenDetail | 25 |
SharpenEdgeMasking | 0 |
Sharpening | Normal |
SharpenRadius | +1.0 |
Sharpness | 25 |
ShutterSpeed | 1/11 |
ShutterSpeedValue | 1/11 |
Software | 1.002 |
SplitToningBalance | 0 |
SplitToningHighlightHue | 0 |
SplitToningHighlightSaturation | 0 |
SplitToningShadowHue | 0 |
SplitToningShadowSaturation | 0 |
Tint | +3 |
ToneCurve | 0, 0, 32, 22, 64, 56, 128, 128, 192, 196, 255, 255 |
ToneCurveName | Medium Contrast |
UserProfile | Morten 1 |
Version | 5.6 |
Vibrance | 0 |
VignetteAmount | 0 |
WB_RGBLevels | 0.6152459632 1 0.5317408802 |
WhiteBalance (3) | As Shot |
WhiteBalance | Auto |