Felt | Verdi |
AlreadyApplied | True |
Aperture | 11.0 |
ApertureValue | 11.0 |
BitsPerSample | 8 |
BlueHue | -8 |
BlueSaturation | +18 |
Brightness | +50 |
CameraProfile | ACR 4.6 |
ChromaticAberrationB | 0 |
ChromaticAberrationR | 0 |
CircleOfConfusion | 0.019 mm |
Clarity | +100 |
ColorComponents | 3 |
ColorMode | RGB |
ColorNoiseReduction | 25 |
ColorSpace (1) | Unknown (-1) |
ColorSpace | Uncalibrated |
ColorTemperature | 6500 |
Contrast | +61 |
ConvertToGrayscale | False |
CopyrightFlag | False |
CreateDate (1) | 2009:12:14 16:28:42+01:00 |
CreateDate | 2009:12:14 12:53:44 |
CreatorTool | Adobe Photoshop CS3 Windows |
CustomRendered | Normal |
DateTimeDigitized | 2009:12:14 12:53:44.03+01:00 |
DateTimeOriginal (1) | 2009:12:14 12:53:44.03+01:00 |
DateTimeOriginal | 2009:12:14 12:53:44 |
Defringe | 0 |
DerivedFrom | |
ExifImageHeight | 2592 |
ExifImageWidth | 3888 |
Exposure | +0.70 |
ExposureCompensation | 0 |
ExposureMode | Manual |
ExposureProgram | Manual |
ExposureTime | 1/100 |
FillLight | 0 |
Firmware | 1.0.5 |
Flash | Off, Did not fire |
FlashCompensation | 0 |
FlashFired | False |
FlashFunction | False |
FlashMode | Off |
FlashRedEyeMode | False |
FlashReturn | No return detection |
FNumber | 11.0 |
FocalLength | 28.0 mm |
FocalLength35efl | 28.0 mm (35 mm equivalent: 45.3 mm) |
Format | image/jpeg |
FOV | 43.3 deg |
GreenHue | +7 |
GreenSaturation | +8 |
HasCrop | False |
HasSettings | True |
HighlightRecovery | 89 |
HueAdjustmentAqua | 0 |
HueAdjustmentBlue | +49 |
HueAdjustmentGreen | 0 |
HueAdjustmentMagenta | 0 |
HueAdjustmentOrange | -33 |
HueAdjustmentPurple | +2 |
HueAdjustmentRed | -100 |
HueAdjustmentYellow | +42 |
HyperfocalDistance | 3.84 m |
ICCProfileName | ProPhoto RGB |
ImageHeight | 2592 |
ImageNumber | 0 |
ImageSize | 3888x2592 |
ImageWidth | 3888 |
ISO | 400 |
Lens | EF-S18-55mm f/3.5-5.6 IS |
LensInfo | 18-55mm f/? |
LightValue | 11.6 |
LuminanceAdjustmentAqua | 0 |
LuminanceAdjustmentBlue | -100 |
LuminanceAdjustmentGreen | 0 |
LuminanceAdjustmentMagenta | 0 |
LuminanceAdjustmentOrange | -67 |
LuminanceAdjustmentPurple | +3 |
LuminanceAdjustmentRed | -100 |
LuminanceAdjustmentYellow | +39 |
LuminanceSmoothing | 0 |
Make | Canon |
MaxApertureValue | 4.0 |
Megapixels | 10.1 |
MeteringMode | Center-weighted average |
Model | Canon EOS 1000D |
ModifyDate (1) | 2009:12:14 16:28:42+01:00 |
ModifyDate | 2009:12:14 16:28:42 |
Orientation | Horizontal (normal) |
ParametricDarks | +1 |
ParametricHighlights | +100 |
ParametricHighlightSplit | 75 |
ParametricLights | -42 |
ParametricMidtoneSplit | 50 |
ParametricShadows | -65 |
ParametricShadowSplit | 25 |
PostCropVignetteAmount | 0 |
ProfileDescription | ProPhoto RGB |
Rating | 0 |
RawFileName | IMG_0393.CR2 |
RedHue | -5 |
RedSaturation | -19 |
Saturation | 0 |
SaturationAdjustmentAqua | +3 |
SaturationAdjustmentBlue | +47 |
SaturationAdjustmentGreen | 0 |
SaturationAdjustmentMagenta | 0 |
SaturationAdjustmentOrange | +10 |
SaturationAdjustmentPurple | 0 |
SaturationAdjustmentRed | +73 |
SaturationAdjustmentYellow | -24 |
ScaleFactor35efl | 1.6 |
SceneCaptureType | Standard |
SerialNumber | 780213684 |
Shadows | 10 |
ShadowTint | 0 |
SharpenDetail | 56 |
SharpenEdgeMasking | 40 |
SharpenRadius | +1.1 |
Sharpness | 82 |
ShutterSpeed | 1/100 |
ShutterSpeedValue | 1/100 |
SidecarForExtension | CR2 |
Software | Adobe Photoshop CS3 Windows |
SplitToningBalance | 0 |
SplitToningHighlightHue | 0 |
SplitToningHighlightSaturation | 21 |
SplitToningShadowHue | 132 |
SplitToningShadowSaturation | 8 |
Tint | +1 |
ToneCurve | 0, 0, 32, 22, 64, 56, 128, 128, 192, 196, 255, 255 |
ToneCurveName | Medium Contrast |
URL_List | |
Version | 4.6 |
Vibrance | +31 |
VignetteAmount | -100 |
VignetteMidpoint | 50 |
WhiteBalance (2) | As Shot |
WhiteBalance | Manual |