Felt | Verdi |
AlreadyApplied | True |
Aperture | 8.0 |
ApertureValue | 8.0 |
Artist | Aasmund Mosseng |
BitsPerSample | 8 |
BlueHue | 0 |
BlueSaturation | 0 |
Brightness | +50 |
By-line | Aasmund Mosseng |
CameraProfile | Adobe Standard |
CFAPattern | [Red,Green][Green,Blue] |
ChromaticAberrationB | 0 |
ChromaticAberrationR | 0 |
CircleOfConfusion | 0.030 mm |
Clarity | +31 |
ColorComponents | 3 |
ColorMode | RGB |
ColorNoiseReduction | 25 |
ColorSpace | sRGB |
ColorTemperature | 6900 |
Contrast (2) | +45 |
Contrast | Normal |
ConvertToGrayscale | True |
Copyright | Aasmund Mosseng |
CopyrightNotice | Aasmund Mosseng |
CreateDate (1) | 2010:03:12 14:50:57.99+01:00 |
CreateDate | 2010:03:12 14:50:57 |
Creator | Aasmund Mosseng |
CreatorTool | Ver.1.02 |
CropAngle | 0 |
CropBottom | 0.976982 |
CropLeft | 0.001704 |
CropRight | 0.930153 |
CropTop | 0.005115 |
CustomRendered | Custom |
DateTimeDigitized | 2010:03:12 14:50:57.99+01:00 |
DateTimeOriginal (1) | 2010:03:12 14:50:57.99+01:00 |
DateTimeOriginal | 2010:03:12 14:50:57 |
Defringe | 0 |
DigitalZoomRatio | 1 |
ExifImageHeight | 861 |
ExifImageWidth | 600 |
Exposure | -3.60 |
ExposureCompensation | +2/3 |
ExposureMode | Auto |
ExposureProgram | Aperture-priority AE |
ExposureTime | 1/125 |
FillLight | 0 |
Flash | No Flash |
FlashFired | False |
FlashFunction | False |
FlashMode | Unknown |
FlashRedEyeMode | False |
FlashReturn | No return detection |
FNumber | 8.0 |
FocalLength | 105.0 mm |
FocalLength35efl | 105.0 mm (35 mm equivalent: 105.0 mm) |
FocalLengthIn35mmFormat | 105 mm |
Format | image/jpeg |
FOV | 19.5 deg |
GainControl | None |
GrayMixerAqua | -10 |
GrayMixerBlue | +25 |
GrayMixerGreen | -26 |
GrayMixerMagenta | -5 |
GrayMixerOrange | -35 |
GrayMixerPurple | 0 |
GrayMixerRed | -11 |
GrayMixerYellow | -38 |
GreenHue | 0 |
GreenSaturation | 0 |
HasCrop | True |
HasSettings | True |
HighlightRecovery | 19 |
HyperfocalDistance | 45.87 m |
ICCProfileName | sRGB IEC61966-2.1 |
ImageHeight | 861 |
ImageNumber | 1023 |
ImageSize | 600x861 |
ImageWidth | 600 |
ISO | 200 |
Lens | 105.0 mm f/2.0 |
LensInfo | 105mm f/2 |
LightSource | Unknown |
LightValue | 12.0 |
LuminanceSmoothing | 0 |
Make | NIKON CORPORATION |
MaxApertureValue | 2.0 |
Megapixels | 0.517 |
MeteringMode | Multi-segment |
Model | NIKON D700 |
ModifyDate (1) | 2010:03:13 09:11:56+01:00 |
ModifyDate | 2010:03:13 09:11:56 |
Orientation | Horizontal (normal) |
ParametricDarks | -38 |
ParametricHighlights | +75 |
ParametricHighlightSplit | 75 |
ParametricLights | +8 |
ParametricMidtoneSplit | 50 |
ParametricShadows | -67 |
ParametricShadowSplit | 25 |
PostCropVignetteAmount | 0 |
ProfileDescription | sRGB IEC61966-2.1 |
Rating | 0 |
RawFileName | _DSC0979.NEF |
RedHue | 0 |
RedSaturation | 0 |
Rights | Aasmund Mosseng |
Saturation | Low |
ScaleFactor35efl | 1.0 |
SceneCaptureType | Standard |
SceneType | Directly photographed |
SensingMethod | One-chip color area |
SerialNumber | 2222541 |
Shadows | 10 |
ShadowTint | 0 |
SharpenDetail | 25 |
SharpenEdgeMasking | 0 |
SharpenRadius | +1.0 |
Sharpness (2) | 25 |
Sharpness | Normal |
ShutterSpeed | 1/125 |
ShutterSpeedValue | 1/125 |
SidecarForExtension | NEF |
Software | Adobe Photoshop CS4 Windows |
SplitToningBalance | +19 |
SplitToningHighlightHue | 15 |
SplitToningHighlightSaturation | 9 |
SplitToningShadowHue | 236 |
SplitToningShadowSaturation | 9 |
SubjectDistanceRange | Unknown |
Tint | +8 |
ToneCurve | 0, 0, 32, 22, 64, 56, 128, 128, 192, 196, 255, 255 |
ToneCurveName | Medium Contrast |
URL_List | |
UserComment | (c)Aasmund Mosseng+4792224928 |
Version | 5.5 |
VignetteAmount | 0 |
WhiteBalance (2) | Custom |
WhiteBalance | Auto |