Felt | Verdi |
AlreadyApplied | True |
Aperture | 7.1 |
ApertureValue | 7.1 |
Artist | wenche@roro.no |
BitsPerSample | 8 |
BlueHue | 0 |
BlueSaturation | 0 |
Brightness | -5 |
By-line | wenche@roro.no |
CameraProfile | Adobe Standard |
CFAPattern | [Red,Green][Green,Blue] |
ChromaticAberrationB | 0 |
ChromaticAberrationR | 0 |
CircleOfConfusion | 0.030 mm |
Clarity | -17 |
ColorComponents | 1 |
ColorMode | RGB |
ColorNoiseReduction | 25 |
ColorSpace | sRGB |
ColorTemperature | 5500 |
Contrast (2) | +88 |
Contrast | Normal |
ConvertToGrayscale | True |
Copyright | Venche Jensen 2010 |
CopyrightNotice | Venche Jensen 2010 |
CreateDate (1) | 2010:03:25 13:03:19.33+01:00 |
CreateDate | 2010:03:25 13:03:19 |
Creator | wenche@roro.no, Venche Jensen |
CreatorTool | Ver.2.02 |
CropAngle | -0.771372 |
CropBottom | 0.923307 |
CropLeft | 0.390864 |
CropRight | 0.703215 |
CropTop | 0.328961 |
CustomRendered | Normal |
DateTimeDigitized | 2010:03:25 13:03:19.33+01:00 |
DateTimeOriginal (1) | 2010:03:25 13:03:19.33+01:00 |
DateTimeOriginal | 2010:03:25 13:03:19 |
Defringe | 0 |
DigitalZoomRatio | 1 |
DOF | 0.29 m (1.20 - 1.49 m) |
ExifImageHeight | 840 |
ExifImageWidth | 645 |
Exposure | +1.25 |
ExposureCompensation | -2/3 |
ExposureMode | Auto |
ExposureProgram | Aperture-priority AE |
ExposureTime | 1/60 |
FillLight | 0 |
Flash | On, Return detected |
FlashFired | True |
FlashFunction | False |
FlashMode | On |
FlashRedEyeMode | False |
FlashReturn | Return detected |
FNumber | 7.1 |
FocalLength | 50.0 mm |
FocalLength35efl | 50.0 mm (35 mm equivalent: 50.0 mm) |
FocalLengthIn35mmFormat | 50 mm |
Format | image/jpeg |
FOV | 39.6 deg |
GainControl | None |
GrayMixerAqua | -18 |
GrayMixerBlue | +9 |
GrayMixerGreen | -27 |
GrayMixerMagenta | +3 |
GrayMixerOrange | -21 |
GrayMixerPurple | +15 |
GrayMixerRed | -10 |
GrayMixerYellow | -67 |
GreenHue | 0 |
GreenSaturation | 0 |
HasCrop | True |
HasSettings | True |
HighlightRecovery | 9 |
HyperfocalDistance | 11.72 m |
ICCProfileName | sRGB IEC61966-2.1 |
ImageHeight (1) | 1701 |
ImageHeight | 840 |
ImageNumber | 24131 |
ImageSize | 645x840 |
ImageWidth (1) | 1306 |
ImageWidth | 645 |
ISO | 200 |
Lens | 50.0 mm f/1.4 |
LensID (1) | 67 |
LensID | AF Nikkor 50mm f/1.4D |
LensInfo | 50mm f/1.4 |
LightSource | Unknown |
LightValue | 10.6 |
LuminanceSmoothing | 0 |
Make | NIKON CORPORATION |
MaxApertureValue | 1.4 |
Megapixels | 0.542 |
MeteringMode | Multi-segment |
Model | NIKON D3 |
ModifyDate (1) | 2010:03:27 14:42:23+01:00 |
ModifyDate | 2010:03:27 14:42:23 |
Orientation | Horizontal (normal) |
ParametricDarks | 0 |
ParametricHighlights | 0 |
ParametricHighlightSplit | 75 |
ParametricLights | 0 |
ParametricMidtoneSplit | 50 |
ParametricShadows | 0 |
ParametricShadowSplit | 25 |
PostCropVignetteAmount | 0 |
ProfileDescription | sRGB IEC61966-2.1 |
Rating | 0 |
RawFileName | _VEJ3685.NEF |
RedHue | 0 |
RedSaturation | 0 |
Rights | Venche Jensen 2010 |
Saturation | Normal |
ScaleFactor35efl | 1.0 |
SceneCaptureType | Standard |
SceneType | Directly photographed |
SensingMethod | One-chip color area |
SerialNumber | 2037256 |
Shadows | 12 |
ShadowTint | 0 |
SharpenDetail | 25 |
SharpenEdgeMasking | 0 |
SharpenRadius | +1.0 |
Sharpness (2) | 25 |
Sharpness | Normal |
ShutterSpeed | 1/60 |
ShutterSpeedValue | 1/60 |
Software | Adobe Photoshop CS4 Macintosh |
SplitToningBalance | 0 |
SplitToningHighlightHue | 0 |
SplitToningHighlightSaturation | 0 |
SplitToningShadowHue | 0 |
SplitToningShadowSaturation | 0 |
SubjectDistance | 1.33 m |
SubjectDistanceRange | Unknown |
Tint | 0 |
ToneCurve | 0, 0, 32, 22, 64, 56, 128, 128, 192, 196, 255, 255 |
ToneCurveName | Medium Contrast |
URL_List | |
Version | 5.6 |
VignetteAmount | 0 |
WhiteBalance (2) | Flash |
WhiteBalance | Manual |