Felt | Verdi |
AlreadyApplied | True |
Aperture | 22.0 |
ApertureValue | 22.0 |
BitsPerSample | 8 |
BlueHue | +1 |
BlueSaturation | -73 |
Brightness | +1 |
CameraProfile | ACR 4.4 |
ChromaticAberrationB | 0 |
ChromaticAberrationR | 0 |
CircleOfConfusion | 0.020 mm |
Clarity | -25 |
ColorComponents | 3 |
ColorNoiseReduction | 25 |
ColorTemperature | 3765 |
Contrast (2) | -46 |
Contrast | Normal |
ConvertToGrayscale | False |
CreateDate (1) | 2010:03:31 13:57:17+02:00 |
CreateDate | 2010:03:31 13:57:17 |
CreatorTool | Adobe Photoshop Lightroom |
CropAngle | 0 |
CropBottom | 0.871528 |
CropHeight | 2705 |
CropLeft | 0.032295 |
CropRight | 0.953864 |
CropTop | 0 |
CropUnit | pixels |
CropWidth | 4306 |
CustomRendered | Normal |
DateTimeDigitized | 2010:03:31 13:57:17+02:00 |
DateTimeOriginal (1) | 2010:03:31 13:57:17+02:00 |
DateTimeOriginal | 2010:03:31 13:57:17 |
Defringe | 0 |
ExifImageHeight | 2705 |
ExifImageWidth | 4306 |
Exposure | -3.69 |
ExposureCompensation | 0 |
ExposureMode | Auto |
ExposureProgram | Not Defined |
ExposureTime | 0.5 |
FillLight | 100 |
Flash | Off, Did not fire |
FlashFired | False |
FlashFunction | False |
FlashMode | Off |
FlashRedEyeMode | False |
FlashReturn | No return detection |
FNumber | 22.0 |
FocalLength | 70.0 mm |
FocalLength35efl | 70.0 mm (35 mm equivalent: 105.0 mm) |
FocalLengthIn35mmFormat | 105 mm |
FOV | 19.5 deg |
GreenHue | 0 |
GreenSaturation | 0 |
HasCrop | True |
HasSettings | True |
HighlightRecovery | 100 |
HueAdjustmentAqua | 0 |
HueAdjustmentBlue | 0 |
HueAdjustmentGreen | 0 |
HueAdjustmentMagenta | 0 |
HueAdjustmentOrange | 0 |
HueAdjustmentPurple | -19 |
HueAdjustmentRed | 0 |
HueAdjustmentYellow | 0 |
HyperfocalDistance | 11.12 m |
ImageHeight | 2705 |
ImageSize | 4306x2705 |
ImageWidth | 4306 |
ISO | 100 |
Lens | Tamron 35-90mm F4 AF or various SIGMA models |
LensID (1) | 3 44 |
LensID | Sigma 17-70mm F2.8-4.5 DC Macro or Tamron 35-90mm F4-5.6 AF |
LightValue | 9.9 |
LuminanceAdjustmentAqua | 0 |
LuminanceAdjustmentBlue | 0 |
LuminanceAdjustmentGreen | 0 |
LuminanceAdjustmentMagenta | 0 |
LuminanceAdjustmentOrange | 0 |
LuminanceAdjustmentPurple | +16 |
LuminanceAdjustmentRed | 0 |
LuminanceAdjustmentYellow | 0 |
LuminanceSmoothing | 0 |
Make | PENTAX |
Megapixels | 11.6 |
MeteringMode | Multi-segment |
Model | PENTAX K20D |
ModifyDate (1) | 2010:03:31 16:27:45+02:00 |
ModifyDate | 2010:03:31 16:27:45 |
ParametricDarks | 0 |
ParametricHighlights | -1 |
ParametricHighlightSplit | 75 |
ParametricLights | 0 |
ParametricMidtoneSplit | 50 |
ParametricShadows | 0 |
ParametricShadowSplit | 25 |
PostCropVignetteAmount | 0 |
ProfileDescription | ProPhoto RGB |
RedHue | 0 |
RedSaturation | 0 |
Saturation (2) | +24 |
Saturation | Normal |
SaturationAdjustmentAqua | 0 |
SaturationAdjustmentBlue | +29 |
SaturationAdjustmentGreen | 0 |
SaturationAdjustmentMagenta | 0 |
SaturationAdjustmentOrange | 0 |
SaturationAdjustmentPurple | +85 |
SaturationAdjustmentRed | 0 |
SaturationAdjustmentYellow | 0 |
ScaleFactor35efl | 1.5 |
SceneCaptureType | Standard |
SensingMethod | One-chip color area |
Shadows | 0 |
ShadowTint | +25 |
SharpenDetail | 25 |
SharpenEdgeMasking | 0 |
SharpenRadius | +1.0 |
Sharpness (2) | 25 |
Sharpness | Soft |
ShutterSpeed | 0.5 |
ShutterSpeedValue | 0.5 |
Software | K20D Ver 1.01 |
SplitToningBalance | -1 |
SplitToningHighlightHue | 231 |
SplitToningHighlightSaturation | 21 |
SplitToningShadowHue | 0 |
SplitToningShadowSaturation | 5 |
SubjectDistanceRange | Distant |
Tint | +31 |
ToneCurve | 0, 0, 32, 22, 64, 56, 128, 128, 192, 196, 255, 255 |
ToneCurveName | Medium Contrast |
Version | 4.5 |
Vibrance | +18 |
VignetteAmount | 0 |
WhiteBalance (2) | Custom |
WhiteBalance | Auto |