Felt | Verdi |
AlreadyApplied | True |
Aperture | 7.1 |
ApertureValue | 7.1 |
BitsPerSample | 8 |
BlueHue | 0 |
BlueSaturation | 0 |
Brightness | +59 |
CameraProfile | ACR 2.4 |
ChromaticAberrationB | 0 |
ChromaticAberrationR | 0 |
CircleOfConfusion | 0.030 mm |
Clarity | 0 |
ColorComponents | 1 |
ColorNoiseReduction | 25 |
ColorTemperature | 4213 |
Contrast | +9 |
ConvertToGrayscale | False |
CreateDate (1) | 2009:12:16 12:58:26+01:00 |
CreateDate | 2009:12:16 12:58:26 |
CreatorTool | Adobe Photoshop Lightroom |
CropAngle | 0 |
CropBottom | 0.734205 |
CropHeight | 2138 |
CropLeft | 0 |
CropRight | 1 |
CropTop | 0 |
CropUnit | pixels |
CropWidth | 4368 |
CustomRendered | Normal |
DateTimeDigitized | 2009:12:16 12:58:26+01:00 |
DateTimeOriginal (1) | 2009:12:16 12:58:26+01:00 |
DateTimeOriginal | 2009:12:16 12:58:26 |
Defringe | 0 |
ExifImageHeight | 2138 |
ExifImageWidth | 4368 |
Exposure | +1.15 |
ExposureCompensation | -2/3 |
ExposureMode | Auto |
ExposureProgram | Aperture-priority AE |
ExposureTime | 1/2000 |
FillLight | 0 |
Firmware | 1.1.0 |
Flash | Off, Did not fire |
FlashCompensation | 0 |
FlashFired | False |
FlashFunction | False |
FlashMode | Off |
FlashRedEyeMode | False |
FlashReturn | No return detection |
FNumber | 7.1 |
FocalLength | 24.0 mm |
FocalLength35efl | 24.0 mm (35 mm equivalent: 24.0 mm) |
FOV | 73.6 deg |
GradientBasedCorrActive | true |
GradientBasedCorrAmount | 1.000000 |
GradientBasedCorrBrightness (1) | 0.058824 |
GradientBasedCorrBrightness (2) | 0.000000 |
GradientBasedCorrBrightness | 0.082353 |
GradientBasedCorrClarity (1) | 0.000000 |
GradientBasedCorrClarity | 0.058824 |
GradientBasedCorrContrast (1) | 0.552941 |
GradientBasedCorrContrast (2) | 0.000000 |
GradientBasedCorrContrast | 0.058824 |
GradientBasedCorrExposure (1) | -0.717647 |
GradientBasedCorrExposure (2) | -0.200000 |
GradientBasedCorrExposure | -0.270588 |
GradientBasedCorrHue | 230.000000 |
GradientBasedCorrMaskFullX (1) | 0.473837 |
GradientBasedCorrMaskFullX (2) | 0.439580 |
GradientBasedCorrMaskFullX | 0.447674 |
GradientBasedCorrMaskFullY (1) | -0.002179 |
GradientBasedCorrMaskFullY (2) | -0.016157 |
GradientBasedCorrMaskFullY | 0.734205 |
GradientBasedCorrMaskValue | 1.000000 |
GradientBasedCorrMaskWhat | Mask/Gradient |
GradientBasedCorrMaskZeroX (1) | 0.475291 |
GradientBasedCorrMaskZeroX (2) | 0.437707 |
GradientBasedCorrMaskZeroX | 0.446221 |
GradientBasedCorrMaskZeroY (1) | 0.538126 |
GradientBasedCorrMaskZeroY (2) | 0.101115 |
GradientBasedCorrMaskZeroY | 0.642702 |
GradientBasedCorrSaturation | 0.000000 |
GradientBasedCorrSharpness | 0.035294 |
GradientBasedCorrWhat | Correction |
GreenHue | 0 |
GreenSaturation | 0 |
HasCrop | True |
HasSettings | True |
HighlightRecovery | 0 |
HueAdjustmentAqua | 0 |
HueAdjustmentBlue | 0 |
HueAdjustmentGreen | 0 |
HueAdjustmentMagenta | 0 |
HueAdjustmentOrange | 0 |
HueAdjustmentPurple | 0 |
HueAdjustmentRed | 0 |
HueAdjustmentYellow | 0 |
HyperfocalDistance | 2.71 m |
ImageHeight | 2138 |
ImageNumber | 6 |
ImageSize | 4368x2138 |
ImageWidth | 4368 |
ISO | 200 |
Lens | EF24-105mm f/4L IS USM |
LensInfo | 24-105mm f/? |
LightValue | 15.6 |
LuminanceAdjustmentAqua | 0 |
LuminanceAdjustmentBlue | 0 |
LuminanceAdjustmentGreen | 0 |
LuminanceAdjustmentMagenta | 0 |
LuminanceAdjustmentOrange | 0 |
LuminanceAdjustmentPurple | 0 |
LuminanceAdjustmentRed | 0 |
LuminanceAdjustmentYellow | 0 |
LuminanceSmoothing | 0 |
Make | Canon |
MaxApertureValue | 4.0 |
Megapixels | 9.3 |
MeteringMode | Unknown |
Model | Canon EOS 5D |
ModifyDate (1) | 2010:04:04 19:39:39+02:00 |
ModifyDate | 2010:04:04 19:39:39 |
PaintCorrectionActive | true |
PaintCorrectionAmount | 1.000000 |
PaintCorrectionBrightness | 0.082353 |
PaintCorrectionClarity | 0.058824 |
PaintCorrectionContrast | 0.058824 |
PaintCorrectionExposure | 0.058824 |
PaintCorrectionHue | 230.000000 |
PaintCorrectionMaskCenterWeight | 0.084874 |
PaintCorrectionMaskFlow | 1.000000 |
PaintCorrectionMaskRadius | 0.006879 |
PaintCorrectionMaskValue | 1.000000 |
PaintCorrectionMaskWhat | Mask/Paint |
PaintCorrectionSaturation | 0.000000 |
PaintCorrectionSharpness | 0.035294 |
PaintCorrectionWhat | Correction |
ParametricDarks | -3 |
ParametricHighlights | 0 |
ParametricHighlightSplit | 75 |
ParametricLights | 0 |
ParametricMidtoneSplit | 50 |
ParametricShadows | -14 |
ParametricShadowSplit | 25 |
PostCropVignetteAmount | 0 |
ProfileDescription | sRGB IEC61966-2.1 |
RedHue | 0 |
RedSaturation | 0 |
Saturation | -100 |
SaturationAdjustmentAqua | 0 |
SaturationAdjustmentBlue | 0 |
SaturationAdjustmentGreen | 0 |
SaturationAdjustmentMagenta | 0 |
SaturationAdjustmentOrange | 0 |
SaturationAdjustmentPurple | 0 |
SaturationAdjustmentRed | 0 |
SaturationAdjustmentYellow | 0 |
ScaleFactor35efl | 1.0 |
SceneCaptureType | Standard |
SerialNumber | 2721201972 |
Shadows | 28 |
ShadowTint | 0 |
SharpenDetail | 50 |
SharpenEdgeMasking | 0 |
SharpenRadius | +1.0 |
Sharpness | 25 |
ShutterSpeed | 1/2000 |
ShutterSpeedValue | 1/2000 |
SplitToningBalance | 0 |
SplitToningHighlightHue | 0 |
SplitToningHighlightSaturation | 0 |
SplitToningShadowHue | 0 |
SplitToningShadowSaturation | 0 |
Tint | -74 |
ToneCurve | 0, 0, 255, 255 |
ToneCurveName | Linear |
Version | 4.5 |
Vibrance | 0 |
VignetteAmount | 0 |
WhiteBalance (2) | Custom |
WhiteBalance | Auto |