Felt | Verdi |
AlreadyApplied | True |
Aperture | 9.0 |
ApertureValue | 9.0 |
Artist | Per Einar Gunnarsen |
BitsPerSample (1) | 8, 8, 8 |
BitsPerSample | 8 |
BlueHue | 0 |
BlueSaturation | 0 |
Brightness | +50 |
BrightnessValue | 8.37 |
By-line | Per Einar Gunnarsen |
CameraProfile | ACR 4.6 |
Caption-Abstract | Fra Rossnes området
ChromaticAberrationB | 0 |
ChromaticAberrationR | 0 |
CircleOfConfusion | 0.030 mm |
Clarity | +18 |
ColorComponents | 3 |
ColorMode | RGB |
ColorNoiseReduction | 100 |
ColorSpace | Uncalibrated |
ColorTemperature | 5150 |
Contrast (2) | +30 |
Contrast | Normal |
ConvertToGrayscale | False |
Copyright | Per Einar Gunnarsen or P.Gunnarsen |
CopyrightNotice | Per Einar Gunnarsen or P.Gunnarsen |
Country | Norway |
Country-PrimaryLocationName | Norway |
CountryCode | NO |
CreateDate (1) | 2009:07:10 14:38:19+02:00 |
CreateDate | 2009:07:08 19:58:13 |
Creator | Per Einar Gunnarsen |
CreatorAddress | Mathopsveien 70 |
CreatorCity | Bergen |
CreatorCountry | Norway |
CreatorPostalCode | 5173 |
CreatorRegion | Loddefjord |
CreatorTool | Adobe Photoshop CS3 Windows |
CreatorWorkEmail | pegunnar@broadpark.no |
CreatorWorkTelephone | 0047 99447277 |
CreatorWorkURL | http://www.redbubble.com/people/piddien |
CropAngle | 0 |
CropBottom | 0.85968 |
CropLeft | 0.093602 |
CropRight | 0.86019 |
CropTop | 0 |
CustomRendered | Normal |
DateTimeDigitized | 2009:07:08 19:58:13+02:00 |
DateTimeOriginal (1) | 2009:07:08 19:58:13+02:00 |
DateTimeOriginal | 2009:07:08 19:58:13 |
Defringe | 0 |
Description | Fra Rossnes området
ExifImageHeight | 957 |
ExifImageWidth | 1280 |
Exposure | +0.55 |
ExposureCompensation | -1 |
ExposureMode | Manual |
ExposureProgram | Manual |
ExposureTime | 1/1600 |
FillLight | 10 |
Flash | Off, Did not fire |
FlashFired | False |
FlashFunction | False |
FlashMode | Off |
FlashRedEyeMode | False |
FlashReturn | No return detection |
FNumber | 9.0 |
FocalLength | 200.0 mm |
FocalLength35efl | 200.0 mm (35 mm equivalent: 200.0 mm) |
FocalLengthIn35mmFormat | 200 mm |
Format | image/jpeg |
FOV | 10.3 deg |
GreenHue | 0 |
GreenSaturation | 0 |
HasCrop | True |
HasSettings | True |
HighlightRecovery | 0 |
http://rossneswildlife.blogspot.com |
HueAdjustmentAqua | 0 |
HueAdjustmentBlue | 0 |
HueAdjustmentGreen | 0 |
HueAdjustmentMagenta | 0 |
HueAdjustmentOrange | 0 |
HueAdjustmentPurple | 0 |
HueAdjustmentRed | 0 |
HueAdjustmentYellow | 0 |
HyperfocalDistance | 147.92 m |
ICCProfileName | Adobe RGB (1998) |
ImageDescription | SONY DSC |
ImageHeight | 957 |
ImageSize | 1280x957 |
ImageWidth | 1280 |
ISO | 250 |
LightSource | Unknown |
LightValue | 15.7 |
LuminanceAdjustmentAqua | 0 |
LuminanceAdjustmentBlue | 0 |
LuminanceAdjustmentGreen | 0 |
LuminanceAdjustmentMagenta | 0 |
LuminanceAdjustmentOrange | 0 |
LuminanceAdjustmentPurple | 0 |
LuminanceAdjustmentRed | 0 |
LuminanceAdjustmentYellow | 0 |
LuminanceSmoothing | 100 |
Make | SONY |
MaxApertureValue | 4.0 |
Megapixels | 1.2 |
MeteringMode | Center-weighted average |
Model | DSLR-A900 |
ModifyDate (1) | 2010:04:07 15:46:09+02:00 |
ModifyDate | 2010:04:07 15:46:09 |
Orientation | Horizontal (normal) |
ParametricDarks | 0 |
ParametricHighlights | +13 |
ParametricHighlightSplit | 75 |
ParametricLights | +59 |
ParametricMidtoneSplit | 50 |
ParametricShadows | +13 |
ParametricShadowSplit | 25 |
PhotometricInterpretation | RGB |
PostCropVignetteAmount | 0 |
ProfileDescription | Adobe RGB (1998) |
Rating | 4 |
RawFileName | DSC02492.ARW |
RedHue | 0 |
RedSaturation | 0 |
Rights | Per Einar Gunnarsen or P.Gunnarsen |
SamplesPerPixel | 3 |
Saturation (2) | 0 |
Saturation | High |
SaturationAdjustmentAqua | 0 |
SaturationAdjustmentBlue | 0 |
SaturationAdjustmentGreen | 0 |
SaturationAdjustmentMagenta | 0 |
SaturationAdjustmentOrange | 0 |
SaturationAdjustmentPurple | 0 |
SaturationAdjustmentRed | 0 |
SaturationAdjustmentYellow | 0 |
ScaleFactor35efl | 1.0 |
SceneCaptureType | Standard |
SceneType | Directly photographed |
Shadows | 5 |
ShadowTint | 0 |
SharpenDetail | 48 |
SharpenEdgeMasking | 0 |
SharpenRadius | +2.1 |
Sharpness (2) | 121 |
Sharpness | Hard |
ShutterSpeed | 1/1600 |
ShutterSpeedValue | 1/1600 |
SidecarForExtension | ARW |
Software | Adobe Photoshop CS4 Windows |
SplitToningBalance | 0 |
SplitToningHighlightHue | 0 |
SplitToningHighlightSaturation | 0 |
SplitToningShadowHue | 0 |
SplitToningShadowSaturation | 0 |
Tint | +2 |
ToneCurve | 0, 0, 32, 22, 64, 56, 128, 128, 192, 196, 255, 255 |
ToneCurveName | Medium Contrast |
URL | http://fotomanisk.com |
URL_List | |
UsageTerms | make a phonecall to owner |
Version | 4.6 |
Vibrance | 0 |
VignetteAmount | 0 |
WebStatement | http://fotomanisk.com |
WhiteBalance (2) | As Shot |
WhiteBalance | Auto |