Felt | Verdi |
AlreadyApplied | True |
Aperture | 1.4 |
ApertureValue | 1.4 |
Artist | Kjell Martin Nordby |
BitsPerSample | 8 |
BlueHue | 0 |
BlueSaturation | 0 |
Brightness | +50 |
By-line | Kjell Martin Nordby |
CameraProfile | Adobe Standard |
ChromaticAberrationB | -1 |
ChromaticAberrationR | +18 |
CircleOfConfusion | 0.019 mm |
Clarity | +28 |
ColorComponents | 3 |
ColorMode | RGB |
ColorNoiseReduction | 45 |
ColorSpace | Uncalibrated |
ColorTemperature | 5050 |
Contrast | +30 |
ConvertToGrayscale | False |
Copyright | Kjell Martin Nordby |
CopyrightNotice | Kjell Martin Nordby |
CreateDate (1) | 2010:03:28 11:26:40.00+02:00 |
CreateDate | 2010:03:28 11:26:40 |
Creator | Kjell Martin Nordby |
CustomRendered | Normal |
DateTimeDigitized | 2010:03:28 11:26:40.00+02:00 |
DateTimeOriginal (1) | 2010:03:28 11:26:40.00+02:00 |
DateTimeOriginal | 2010:03:28 11:26:40 |
Defringe | 0 |
ExifImageHeight | 1079 |
ExifImageWidth | 1472 |
Exposure | 0.00 |
ExposureCompensation | +1/3 |
ExposureMode | Auto |
ExposureProgram | Aperture-priority AE |
ExposureTime | 1/2500 |
FillLight | 0 |
Firmware | 1.0.8 |
Flash | Off, Did not fire |
FlashCompensation | 0 |
FlashFired | False |
FlashFunction | False |
FlashMode | Off |
FlashRedEyeMode | False |
FlashReturn | No return detection |
FNumber | 1.4 |
FocalLength | 50.0 mm |
FocalLength35efl | 50.0 mm (35 mm equivalent: 80.9 mm) |
Format | image/jpeg |
FOV | 25.1 deg |
GreenHue | 0 |
GreenSaturation | 0 |
HasCrop | False |
HasSettings | True |
HierarchicalSubject | År|2010, Årstid|Vår, Dyr|Ekorn, People|Roar Kruse, Places|Treskog |
HighlightRecovery | 0 |
HueAdjustmentAqua | 0 |
HueAdjustmentBlue | 0 |
HueAdjustmentGreen | 0 |
HueAdjustmentMagenta | 0 |
HueAdjustmentOrange | 0 |
HueAdjustmentPurple | 0 |
HueAdjustmentRed | 0 |
HueAdjustmentYellow | 0 |
HyperfocalDistance | 96.21 m |
ICCProfileName | Adobe RGB (1998) |
ImageHeight | 1079 |
ImageNumber | 0 |
ImageSize | 1472x1079 |
ImageWidth | 1472 |
ISO | 100 |
Keywords | 2010, Ekorn, Roar Kruse, Treskog, VŒr |
Lens | EF50mm f/1.4 USM |
LensInfo | 50mm f/? |
LightValue | 12.3 |
LuminanceAdjustmentAqua | 0 |
LuminanceAdjustmentBlue | 0 |
LuminanceAdjustmentGreen | -30 |
LuminanceAdjustmentMagenta | 0 |
LuminanceAdjustmentOrange | 0 |
LuminanceAdjustmentPurple | 0 |
LuminanceAdjustmentRed | 0 |
LuminanceAdjustmentYellow | 0 |
LuminanceSmoothing | 30 |
Make | Canon |
MaxApertureValue | 1.4 |
Megapixels | 1.6 |
MeteringMode | Multi-segment |
Model | Canon EOS 40D |
ModifyDate (1) | 2010:04:08 21:30:54+02:00 |
ModifyDate | 2010:04:08 21:30:54 |
Orientation | Horizontal (normal) |
ParametricDarks | 0 |
ParametricHighlights | 0 |
ParametricHighlightSplit | 75 |
ParametricLights | 0 |
ParametricMidtoneSplit | 50 |
ParametricShadows | 0 |
ParametricShadowSplit | 25 |
PostCropVignetteAmount | 0 |
ProfileDescription | Adobe RGB (1998) |
Rating | 0 |
RawFileName | _MG_0237.dng |
RedHue | 0 |
RedSaturation | 0 |
Rights | Kjell Martin Nordby |
Saturation | 0 |
SaturationAdjustmentAqua | 0 |
SaturationAdjustmentBlue | 0 |
SaturationAdjustmentGreen | -50 |
SaturationAdjustmentMagenta | 0 |
SaturationAdjustmentOrange | 0 |
SaturationAdjustmentPurple | 0 |
SaturationAdjustmentRed | -21 |
SaturationAdjustmentYellow | 0 |
ScaleFactor35efl | 1.6 |
SceneCaptureType | Standard |
SerialNumber | 1831002782 |
Shadows | 5 |
ShadowTint | 0 |
SharpenDetail | 63 |
SharpenEdgeMasking | 0 |
SharpenRadius | +1.1 |
Sharpness | 45 |
ShutterSpeed | 1/2500 |
ShutterSpeedValue | 1/2500 |
Software | Adobe Photoshop CS4 Macintosh |
SplitToningBalance | 0 |
SplitToningHighlightHue | 0 |
SplitToningHighlightSaturation | 0 |
SplitToningShadowHue | 0 |
SplitToningShadowSaturation | 0 |
Subject | 2010, Ekorn, Roar Kruse, Treskog, Vår |
Tint | -8 |
ToneCurve | 0, 0, 32, 22, 64, 56, 128, 128, 192, 196, 255, 255 |
ToneCurveName | Medium Contrast |
URL_List | |
Version | 5.5 |
Vibrance | 0 |
VignetteAmount | 0 |
WhiteBalance (2) | Custom |
WhiteBalance | Auto |