Felt | Verdi |
AlreadyApplied | True |
Aperture | 4.8 |
ApertureValue | 4.8 |
Artist | Truls Erik Nilsen |
BitsPerSample | 8 |
BlueHue | 0 |
BlueSaturation | 0 |
Brightness | +50 |
By-line | Truls Erik Nilsen |
CameraProfile | Adobe Standard |
CFAPattern | [Red,Green][Green,Blue] |
ChromaticAberrationB | 0 |
ChromaticAberrationR | 0 |
CircleOfConfusion | 0.030 mm |
Clarity | +38 |
ColorComponents | 3 |
ColorMode | RGB |
ColorNoiseReduction | 25 |
ColorSpace | Uncalibrated |
ColorTemperature | 5700 |
Contrast (2) | +25 |
Contrast | Normal |
ConvertToGrayscale | False |
Copyright | Truls Erik Nilsen (C) 2008 |
CopyrightFlag | True |
CopyrightNotice | Truls Erik Nilsen (C) 2008 |
CreateDate (1) | 2010:03:14 13:43:34.33+01:00 |
CreateDate | 2010:03:14 13:43:34 |
Creator | Truls Erik Nilsen |
CreatorAddress | Jacobine Ryes vei 25 |
CreatorCity | Oslo |
CreatorCountry | Norway |
CreatorPostalCode | 0987 |
CreatorTool | Ver.1.02 |
CreatorWorkEmail | t-erini@online.no |
CreatorWorkTelephone | 0047 91517816 |
CropAngle | 0 |
CropBottom | 0.996499 |
CropLeft | 0.051949 |
CropRight | 0.922279 |
CropTop | 0.126169 |
CustomRendered | Normal |
DateTimeDigitized | 2010:03:14 13:43:34.33+01:00 |
DateTimeOriginal (1) | 2010:03:14 13:43:34.33+01:00 |
DateTimeOriginal | 2010:03:14 13:43:34 |
Defringe | 0 |
DigitalZoomRatio | 1 |
DOF | 0.12 m (7.02 - 7.14 m) |
ExifImageHeight | 665 |
ExifImageWidth | 1000 |
Exposure | 0.00 |
ExposureCompensation | -2/3 |
ExposureMode | Auto |
ExposureProgram | Aperture-priority AE |
ExposureTime | 1/250 |
FillLight | 0 |
Flash | No Flash |
FlashFired | False |
FlashFunction | False |
FlashMode | Unknown |
FlashRedEyeMode | False |
FlashReturn | No return detection |
FNumber | 4.8 |
FocalLength | 340.0 mm |
FocalLength35efl | 340.0 mm (35 mm equivalent: 340.0 mm) |
FocalLengthIn35mmFormat | 340 mm |
Format | image/jpeg |
FOV | 6.1 deg |
GainControl | None |
GreenHue | 0 |
GreenSaturation | 0 |
HasCrop | True |
HasSettings | True |
HierarchicalSubject | And, Fugl |
HighlightRecovery | 94 |
HueAdjustmentAqua | 0 |
HueAdjustmentBlue | 0 |
HueAdjustmentGreen | 0 |
HueAdjustmentMagenta | 0 |
HueAdjustmentOrange | 0 |
HueAdjustmentPurple | 0 |
HueAdjustmentRed | 0 |
HueAdjustmentYellow | 0 |
HyperfocalDistance | 801.54 m |
ICCProfileName | Adobe RGB (1998) |
ImageHeight | 665 |
ImageNumber | 4717 |
ImageSize | 1000x665 |
ImageWidth | 1000 |
ISO | 200 |
Keywords | And, Fugl |
Lens | 70.0-200.0 mm f/2.8 |
LensID (1) | 119 |
LensID | AF-S VR Zoom-Nikkor 70-200mm f/2.8G IF-ED |
LensInfo | 70-200mm f/2.8 |
LightSource | Unknown |
LightValue | 11.5 |
LuminanceAdjustmentAqua | 0 |
LuminanceAdjustmentBlue | 0 |
LuminanceAdjustmentGreen | 0 |
LuminanceAdjustmentMagenta | 0 |
LuminanceAdjustmentOrange | +8 |
LuminanceAdjustmentPurple | 0 |
LuminanceAdjustmentRed | +5 |
LuminanceAdjustmentYellow | 0 |
LuminanceSmoothing | 0 |
Make | NIKON CORPORATION |
Marked | True |
MaxApertureValue | 4.8 |
Megapixels | 0.665 |
MeteringMode | Spot |
Model | NIKON D700 |
ModifyDate (1) | 2010:04:13 19:39:54+02:00 |
ModifyDate | 2010:04:13 19:39:54 |
Orientation | Horizontal (normal) |
ParametricDarks | 0 |
ParametricHighlights | 0 |
ParametricHighlightSplit | 75 |
ParametricLights | 0 |
ParametricMidtoneSplit | 50 |
ParametricShadows | 0 |
ParametricShadowSplit | 25 |
PostCropVignetteAmount | 0 |
ProfileDescription | Adobe RGB (1998) |
Rating | 0 |
RawFileName | Akers-4402.NEF |
RedHue | 0 |
RedSaturation | 0 |
Rights | Truls Erik Nilsen (C) 2008 |
Saturation (2) | 0 |
Saturation | Normal |
SaturationAdjustmentAqua | 0 |
SaturationAdjustmentBlue | 0 |
SaturationAdjustmentGreen | 0 |
SaturationAdjustmentMagenta | 0 |
SaturationAdjustmentOrange | +66 |
SaturationAdjustmentPurple | 0 |
SaturationAdjustmentRed | +38 |
SaturationAdjustmentYellow | +1 |
ScaleFactor35efl | 1.0 |
SceneCaptureType | Standard |
SceneType | Directly photographed |
SensingMethod | One-chip color area |
SerialNumber | 2115432 |
Shadows | 13 |
ShadowTint | 0 |
SharpenDetail | 25 |
SharpenEdgeMasking | 0 |
SharpenRadius | +1.0 |
Sharpness (2) | 80 |
Sharpness | Hard |
ShutterSpeed | 1/250 |
ShutterSpeedValue | 1/250 |
Software | Adobe Photoshop CS4 Windows |
SplitToningBalance | 0 |
SplitToningHighlightHue | 0 |
SplitToningHighlightSaturation | 0 |
SplitToningShadowHue | 0 |
SplitToningShadowSaturation | 0 |
Subject | And, Fugl |
SubjectDistance | 7.08 m |
SubjectDistanceRange | Unknown |
Tint | -3 |
ToneCurve | 0, 0, 32, 22, 64, 56, 128, 128, 192, 196, 255, 255 |
ToneCurveName | Medium Contrast |
URL_List | |
UsageTerms | No usage authorized with prior written permission |
Version | 5.6 |
Vibrance | +19 |
VignetteAmount | 0 |
WhiteBalance (2) | As Shot |
WhiteBalance | Auto |