Felt | Verdi |
AlreadyApplied | True |
Aperture | 8.0 |
ApertureValue | 8.0 |
BitsPerSample | 8 |
BlueHue | -100 |
BlueSaturation | +5 |
Brightness | +5 |
CameraProfile | Adobe Standard |
ChromaticAberrationB | 0 |
ChromaticAberrationR | 0 |
CircleOfConfusion | 0.030 mm |
Clarity | +26 |
ColorComponents | 3 |
ColorNoiseReduction | 25 |
ColorNoiseReductionDetail | 50 |
ColorTemperature | 4800 |
Contrast | +53 |
ConvertToGrayscale | False |
CreateDate (1) | 2010:04:18 19:06:58+02:00 |
CreateDate | 2010:04:18 19:06:58 |
CreatorTool | Adobe Photoshop Lightroom |
CropAngle | -1.05019 |
CropBottom | 0.737595 |
CropHeight | 683 |
CropLeft | 0.067961 |
CropRight | 0.809563 |
CropTop | 0.025097 |
CropUnit | pixels |
CropWidth | 1024 |
CustomRendered | Normal |
DateTimeDigitized | 2010:04:18 19:06:58+02:00 |
DateTimeOriginal (1) | 2010:04:18 19:06:58+02:00 |
DateTimeOriginal | 2010:04:18 19:06:58 |
Defringe | 0 |
ExifImageHeight | 683 |
ExifImageWidth | 1024 |
Exposure | +0.77 |
ExposureCompensation | -1/3 |
ExposureMode | Auto |
ExposureProgram | Aperture-priority AE |
ExposureTime | 1/500 |
FillLight | 0 |
Firmware | 1.1.1 |
Flash | Off, Did not fire |
FlashCompensation | 0 |
FlashFired | False |
FlashFunction | False |
FlashMode | Off |
FlashRedEyeMode | False |
FlashReturn | No return detection |
FNumber | 8.0 |
FocalLength | 109.0 mm |
FocalLength35efl | 109.0 mm (35 mm equivalent: 109.2 mm) |
FOV | 18.7 deg |
GrainAmount | 0 |
GreenHue | +43 |
GreenSaturation | +100 |
HasCrop | True |
HasSettings | True |
HighlightRecovery | 14 |
HueAdjustmentAqua | 0 |
HueAdjustmentBlue | 0 |
HueAdjustmentGreen | 0 |
HueAdjustmentMagenta | 0 |
HueAdjustmentOrange | 0 |
HueAdjustmentPurple | 0 |
HueAdjustmentRed | 0 |
HueAdjustmentYellow | 0 |
HyperfocalDistance | 49.53 m |
ImageHeight | 683 |
ImageNumber | 5 |
ImageSize | 1024x683 |
ImageWidth | 1024 |
ISO | 100 |
Keywords | Solastranden, kiting, windkite |
Lens | EF70-200mm f/4L USM |
LensID (1) | 186 |
LensID | Canon EF 70-200mm f/4L USM |
LensInfo | 70-200mm f/? |
LightValue | 15.0 |
LuminanceAdjustmentAqua | 0 |
LuminanceAdjustmentBlue | 0 |
LuminanceAdjustmentGreen | 0 |
LuminanceAdjustmentMagenta | 0 |
LuminanceAdjustmentOrange | 0 |
LuminanceAdjustmentPurple | 0 |
LuminanceAdjustmentRed | 0 |
LuminanceAdjustmentYellow | 0 |
LuminanceNoiseReductionContrast | 0 |
LuminanceNoiseReductionDetail | 50 |
LuminanceSmoothing | 39 |
Make | Canon |
MaxApertureValue | 4.0 |
Megapixels | 0.699 |
MeteringMode | Multi-segment |
Model | Canon EOS 5D |
ModifyDate (1) | 2010:04:21 22:44:39+02:00 |
ModifyDate | 2010:04:21 22:44:39 |
ParametricDarks | 0 |
ParametricHighlights | 0 |
ParametricHighlightSplit | 75 |
ParametricLights | 0 |
ParametricMidtoneSplit | 50 |
ParametricShadows | 0 |
ParametricShadowSplit | 25 |
PostCropVignetteAmount | 0 |
ProcessVersion | 5.7 |
ProfileDescription | sRGB IEC61966-2.1 |
RedHue | +100 |
RedSaturation | -25 |
Saturation | 0 |
SaturationAdjustmentAqua | 0 |
SaturationAdjustmentBlue | 0 |
SaturationAdjustmentGreen | 0 |
SaturationAdjustmentMagenta | 0 |
SaturationAdjustmentOrange | +68 |
SaturationAdjustmentPurple | 0 |
SaturationAdjustmentRed | +3 |
SaturationAdjustmentYellow | +11 |
ScaleFactor35efl | 1.0 |
SceneCaptureType | Standard |
SerialNumber | 530201369 |
Shadows | 3 |
ShadowTint | -56 |
SharpenDetail | 50 |
SharpenEdgeMasking | 0 |
SharpenRadius | +0.8 |
Sharpness | 40 |
ShutterSpeed | 1/500 |
ShutterSpeedValue | 1/500 |
SplitToningBalance | 0 |
SplitToningHighlightHue | 0 |
SplitToningHighlightSaturation | 0 |
SplitToningShadowHue | 0 |
SplitToningShadowSaturation | 0 |
Subject | Solastranden, kiting, windkite |
Tint | +1 |
ToneCurve | 0, 0, 32, 22, 72, 53, 128, 128, 182, 199, 255, 255 |
ToneCurveName | Custom |
Version | 6.0 |
Vibrance | -100 |
VignetteAmount | -87 |
VignetteMidpoint | 33 |
WhiteBalance (2) | As Shot |
WhiteBalance | Auto |