Felt | Verdi |
AlreadyApplied | True |
Aperture | 5.6 |
ApertureValue | 5.6 |
BitsPerSample | 8 |
BlueHue | 0 |
BlueSaturation | 0 |
Brightness | 0 |
CameraProfile | Embedded |
CFAPattern | [Green,Blue][Red,Green] |
ChromaticAberrationB | 0 |
ChromaticAberrationR | 0 |
CircleOfConfusion | 0.020 mm |
Clarity | 0 |
ColorComponents | 3 |
ColorNoiseReduction | 0 |
Contrast (2) | 0 |
Contrast | Normal |
ConvertToGrayscale | False |
CreateDate (1) | 2010:04:22 20:25:09.00+02:00 |
CreateDate | 2010:04:22 20:25:09 |
CreatorTool | Adobe Photoshop Lightroom |
CropAngle | 0 |
CropBottom | 0.644195 |
CropHeight | 976 |
CropLeft | 0.324627 |
CropRight | 0.685323 |
CropTop | 0.301498 |
CropUnit | pixels |
CropWidth | 1547 |
CustomRendered | Normal |
DateTimeDigitized | 2010:04:22 20:25:09.00+02:00 |
DateTimeOriginal (1) | 2010:04:22 20:25:09.00+02:00 |
DateTimeOriginal | 2010:04:22 20:25:09 |
Defringe | 0 |
DigitalZoomRatio | 1 |
DOF | 0.003 m (0.378 - 0.382 m) |
ExifImageHeight | 976 |
ExifImageWidth | 1547 |
Exposure | 0.00 |
ExposureCompensation | 0 |
ExposureMode | Auto |
ExposureProgram | Program AE |
ExposureTime | 1/30 |
FillLight | 0 |
Flash | No Flash |
FlashFired | False |
FlashFunction | False |
FlashMode | Unknown |
FlashRedEyeMode | False |
FlashReturn | No return detection |
FNumber | 5.6 |
FocalLength | 85.0 mm |
FocalLength35efl | 85.0 mm (35 mm equivalent: 127.0 mm) |
FocalLengthIn35mmFormat | 127 mm |
FOV | 16.1 deg |
GainControl | None |
GreenHue | 0 |
GreenSaturation | 0 |
HasCrop | True |
HasSettings | True |
HighlightRecovery | 0 |
HueAdjustmentAqua | 0 |
HueAdjustmentBlue | 0 |
HueAdjustmentGreen | 0 |
HueAdjustmentMagenta | 0 |
HueAdjustmentOrange | 0 |
HueAdjustmentPurple | 0 |
HueAdjustmentRed | 0 |
HueAdjustmentYellow | 0 |
HyperfocalDistance | 64.16 m |
ImageHeight | 976 |
ImageNumber | 328 |
ImageSize | 1547x976 |
ImageWidth | 1547 |
IncrementalTemperature | 0 |
IncrementalTint | 0 |
ISO | 200 |
Lens | 16.0-85.0 mm f/3.5-5.6 |
LensID (1) | 153 |
LensID | AF-S DX VR Zoom-Nikkor 16-85mm f/3.5-5.6G ED |
LensInfo | 16-85mm f/3.5-5.6 |
LightSource | Unknown |
LightValue | 8.9 |
LuminanceAdjustmentAqua | 0 |
LuminanceAdjustmentBlue | 0 |
LuminanceAdjustmentGreen | 0 |
LuminanceAdjustmentMagenta | 0 |
LuminanceAdjustmentOrange | 0 |
LuminanceAdjustmentPurple | 0 |
LuminanceAdjustmentRed | 0 |
LuminanceAdjustmentYellow | 0 |
LuminanceSmoothing | 0 |
Make | NIKON CORPORATION |
MaxApertureValue | 5.7 |
Megapixels | 1.5 |
MeteringMode | Multi-segment |
Model | NIKON D90 |
ModifyDate (1) | 2010:04:23 20:21:39+02:00 |
ModifyDate | 2010:04:23 20:21:39 |
ParametricDarks | +19 |
ParametricHighlights | +66 |
ParametricHighlightSplit | 75 |
ParametricLights | -100 |
ParametricMidtoneSplit | 50 |
ParametricShadows | -95 |
ParametricShadowSplit | 25 |
PostCropVignetteAmount | 0 |
ProfileDescription | sRGB IEC61966-2.1 |
RedHue | 0 |
RedSaturation | 0 |
Saturation (2) | 0 |
Saturation | Normal |
SaturationAdjustmentAqua | 0 |
SaturationAdjustmentBlue | 0 |
SaturationAdjustmentGreen | 0 |
SaturationAdjustmentMagenta | 0 |
SaturationAdjustmentOrange | 0 |
SaturationAdjustmentPurple | 0 |
SaturationAdjustmentRed | 0 |
SaturationAdjustmentYellow | 0 |
ScaleFactor35efl | 1.5 |
SceneCaptureType | Standard |
SceneType | Directly photographed |
SensingMethod | One-chip color area |
SerialNumber | 6326115 |
Shadows | 0 |
ShadowTint | 0 |
SharpenDetail | 50 |
SharpenEdgeMasking | 0 |
SharpenRadius | +1.3 |
Sharpness (2) | 45 |
Sharpness | Normal |
ShutterSpeed | 1/30 |
ShutterSpeedValue | 1/30 |
Software | Ver.1.00 |
SplitToningBalance | -69 |
SplitToningHighlightHue | 0 |
SplitToningHighlightSaturation | 0 |
SplitToningShadowHue | 0 |
SplitToningShadowSaturation | 0 |
SubjectDistance | 0.38 m |
SubjectDistanceRange | Unknown |
ToneCurve | 0, 0, 255, 255 |
ToneCurveName | Linear |
Version | 5.6 |
Vibrance | 0 |
VignetteAmount | -100 |
VignetteMidpoint | 56 |
WhiteBalance (2) | As Shot |
WhiteBalance | Auto |