Felt | Verdi |
AlreadyApplied | True |
Aperture | 1.4 |
ApertureValue | 1.4 |
BitsPerSample | 8 |
BlueHue | 0 |
BlueSaturation | 0 |
Brightness | +25 |
CameraProfile | Adobe Standard |
ChromaticAberrationB | 0 |
ChromaticAberrationR | 0 |
CircleOfConfusion | 0.019 mm |
Clarity | 0 |
ColorComponents | 1 |
ColorNoiseReduction | 61 |
ColorTemperature | 6650 |
Contrast | +46 |
ConvertToGrayscale | True |
CreateDate (1) | 2009:12:12 08:47:21.19+01:00 |
CreateDate | 2009:12:12 08:47:21 |
CreatorTool | Adobe Photoshop Lightroom |
CropAngle | 0 |
CropBottom | 1 |
CropHeight | 566 |
CropLeft | 0 |
CropRight | 1 |
CropTop | 0.171569 |
CropUnit | pixels |
CropWidth | 1024 |
CustomRendered | Normal |
DateTimeDigitized | 2009:12:12 08:47:21.19+01:00 |
DateTimeOriginal (1) | 2009:12:12 08:47:21.19+01:00 |
DateTimeOriginal | 2009:12:12 08:47:21 |
Defringe | 0 |
ExifImageHeight | 566 |
ExifImageWidth | 1024 |
Exposure | +0.29 |
ExposureCompensation | 0 |
ExposureMode | Manual |
ExposureProgram | Manual |
ExposureTime | 1/160 |
FillLight | 0 |
Firmware | 1.1.0 |
Flash | Off, Did not fire |
FlashCompensation | 0 |
FlashFired | False |
FlashFunction | False |
FlashMode | Off |
FlashRedEyeMode | False |
FlashReturn | No return detection |
FNumber | 1.4 |
FocalLength | 50.0 mm |
FocalLength35efl | 50.0 mm (35 mm equivalent: 78.5 mm) |
FOV | 25.8 deg |
GrayMixerAqua | -17 |
GrayMixerBlue | -74 |
GrayMixerGreen | -28 |
GrayMixerMagenta | -2 |
GrayMixerOrange | -21 |
GrayMixerPurple | -52 |
GrayMixerRed | -12 |
GrayMixerYellow | -19 |
GreenHue | 0 |
GreenSaturation | 0 |
HasCrop | True |
HasSettings | True |
HighlightRecovery | 0 |
HyperfocalDistance | 93.33 m |
ImageHeight | 566 |
ImageNumber | 0 |
ImageSize | 1024x566 |
ImageWidth | 1024 |
ISO | 640 |
Keywords | 2009, Sarpsborg, industri, svarthvit |
Lens | EF50mm f/1.4 USM |
LensID (1) | 198 |
LensID | Canon EF 50mm f/1.4 USM |
LensInfo | 50mm f/? |
LightValue | 5.6 |
LuminanceSmoothing | 87 |
Make | Canon |
MaxApertureValue | 1.4 |
Megapixels | 0.580 |
MeteringMode | Multi-segment |
Model | Canon EOS 7D |
ModifyDate (1) | 2010:04:25 16:20:39+02:00 |
ModifyDate | 2010:04:25 16:20:39 |
ObjectName | Sarpsborg - en stille vinter morgen |
ParametricDarks | 0 |
ParametricHighlights | +52 |
ParametricHighlightSplit | 75 |
ParametricLights | -40 |
ParametricMidtoneSplit | 50 |
ParametricShadows | 0 |
ParametricShadowSplit | 25 |
PostCropVignetteAmount | 0 |
ProfileDescription | Adobe RGB (1998) |
Rating | 3 |
RedHue | 0 |
RedSaturation | 0 |
ScaleFactor35efl | 1.6 |
SceneCaptureType | Standard |
SerialNumber | 260102030 |
Shadows | 5 |
ShadowTint | 0 |
SharpenDetail | 25 |
SharpenEdgeMasking | 0 |
SharpenRadius | +1.0 |
Sharpness | 75 |
ShutterSpeed | 1/160 |
ShutterSpeedValue | 1/160 |
SplitToningBalance | 0 |
SplitToningHighlightHue | 0 |
SplitToningHighlightSaturation | 0 |
SplitToningShadowHue | 0 |
SplitToningShadowSaturation | 0 |
Subject | 2009, Sarpsborg, industri, svarthvit |
Tint | -3 |
Title | Sarpsborg - en stille vinter morgen |
ToneCurve | 0, 0, 32, 22, 64, 56, 128, 128, 192, 196, 255, 255 |
ToneCurveName | Medium Contrast |
Version | 5.6.1 |
VignetteAmount | 0 |
WhiteBalance (2) | As Shot |
WhiteBalance | Auto |