Felt | Verdi |
AlreadyApplied | True |
Aperture | 4.0 |
ApertureValue | 4.0 |
Artist | Photographer:Edvard Eilertsen |
BitsPerSample | 8 |
BlueHue | 0 |
BlueSaturation | 0 |
Brightness | +50 |
By-line | Photographer:Edvard Eilertsen |
CameraProfile | Adobe Standard |
ChromaticAberrationB | 0 |
ChromaticAberrationR | 0 |
CircleOfConfusion | 0.031 mm |
Clarity | +40 |
ColorComponents | 3 |
ColorMode | RGB |
ColorNoiseReduction | 40 |
ColorSpace | Uncalibrated |
ColorTemperature | 8300 |
Contrast | +25 |
ConvertToGrayscale | False |
Copyright | Edvard Eilertsen |
CopyrightNotice | Edvard Eilertsen |
CreateDate (1) | 2009:10:27 19:48:06.66+01:00 |
CreateDate | 2009:10:27 19:48:06 |
Creator | Photographer:Edvard Eilertsen, Edvard Eilertsen |
CustomRendered | Normal |
DateTimeDigitized | 2009:10:27 19:48:06.66+01:00 |
DateTimeOriginal (1) | 2009:10:27 19:48:06.66+01:00 |
DateTimeOriginal | 2009:10:27 19:48:06 |
Defringe | 0 |
ExifImageHeight | 5616 |
ExifImageWidth | 3744 |
Exposure | +0.35 |
ExposureCompensation | 0 |
ExposureMode | Auto |
ExposureProgram | Aperture-priority AE |
ExposureTime | 1/30 |
FillLight | 11 |
Firmware | 1.1.0 |
Flash | Off, Did not fire |
FlashCompensation | 0 |
FlashFired | False |
FlashFunction | False |
FlashMode | Off |
FlashRedEyeMode | False |
FlashReturn | No return detection |
FNumber | 4.0 |
FocalLength | 17.0 mm |
FocalLength35efl | 17.0 mm (35 mm equivalent: 16.6 mm) |
Format | image/jpeg |
FOV | 94.7 deg |
GradientBasedCorrActive | true |
GradientBasedCorrAmount | 1.000000 |
GradientBasedCorrBrightness | 0.125000 |
GradientBasedCorrClarity | 0.110000 |
GradientBasedCorrContrast | 0.000000 |
GradientBasedCorrExposure | -0.412500 |
GradientBasedCorrHue | 0.000000 |
GradientBasedCorrMaskFullX | 1.001425 |
GradientBasedCorrMaskFullY | 0.493590 |
GradientBasedCorrMaskValue | 1.000000 |
GradientBasedCorrMaskWhat | Mask/Gradient |
GradientBasedCorrMaskZeroX | 0.623932 |
GradientBasedCorrMaskZeroY | 0.493590 |
GradientBasedCorrSaturation (1) | 0.050000 |
GradientBasedCorrSaturation | 0.000000 |
GradientBasedCorrSharpness | 0.000000 |
GradientBasedCorrWhat | Correction |
GreenHue | 0 |
GreenSaturation | 0 |
HasCrop | False |
HasSettings | True |
HighlightRecovery | 0 |
HueAdjustmentAqua | +50 |
HueAdjustmentBlue | -3 |
HueAdjustmentGreen | 0 |
HueAdjustmentMagenta | 0 |
HueAdjustmentOrange | 0 |
HueAdjustmentPurple | -3 |
HueAdjustmentRed | -2 |
HueAdjustmentYellow | 0 |
HyperfocalDistance | 2.35 m |
ICCProfileName | Adobe RGB (1998) |
ImageHeight | 5616 |
ImageNumber | 0 |
ImageSize | 3744x5616 |
ImageWidth | 3744 |
ISO | 2000 |
Lens | EF17-40mm f/4L USM |
LensInfo | 17-40mm f/? |
LightValue | 4.6 |
LuminanceAdjustmentAqua | -11 |
LuminanceAdjustmentBlue | +19 |
LuminanceAdjustmentGreen | 0 |
LuminanceAdjustmentMagenta | 0 |
LuminanceAdjustmentOrange | 0 |
LuminanceAdjustmentPurple | +4 |
LuminanceAdjustmentRed | 0 |
LuminanceAdjustmentYellow | +49 |
LuminanceSmoothing | 40 |
Make | Canon |
MaxApertureValue | 4.0 |
Megapixels | 21.0 |
MeteringMode | Multi-segment |
Model | Canon EOS 5D Mark II |
ModifyDate (1) | 2010:04:26 08:00:53+02:00 |
ModifyDate | 2010:04:26 08:00:53 |
Orientation | Horizontal (normal) |
OwnerName | Edvard Eilertsen |
ParametricDarks | 0 |
ParametricHighlights | 0 |
ParametricHighlightSplit | 75 |
ParametricLights | 0 |
ParametricMidtoneSplit | 50 |
ParametricShadows | 0 |
ParametricShadowSplit | 25 |
PostCropVignetteAmount | 0 |
ProfileDescription | Adobe RGB (1998) |
Rating | 0 |
RawFileName | _MG_1735.CR2 |
RedHue | 0 |
RedSaturation | 0 |
Rights | Edvard Eilertsen |
Saturation | -11 |
SaturationAdjustmentAqua | 0 |
SaturationAdjustmentBlue | +36 |
SaturationAdjustmentGreen | 0 |
SaturationAdjustmentMagenta | 0 |
SaturationAdjustmentOrange | 0 |
SaturationAdjustmentPurple | 0 |
SaturationAdjustmentRed | 0 |
SaturationAdjustmentYellow | 0 |
ScaleFactor35efl | 1.0 |
SceneCaptureType | Standard |
SerialNumber | 130100632 |
Shadows | 8 |
ShadowTint | 0 |
SharpenDetail | 25 |
SharpenEdgeMasking | 0 |
SharpenRadius | +0.7 |
Sharpness | 23 |
ShutterSpeed | 1/30 |
ShutterSpeedValue | 1/30 |
SidecarForExtension | CR2 |
Software | Adobe Photoshop CS4 Windows |
SplitToningBalance | 0 |
SplitToningHighlightHue | 0 |
SplitToningHighlightSaturation | 0 |
SplitToningShadowHue | 0 |
SplitToningShadowSaturation | 0 |
Tint | -1 |
ToneCurve | 0, 0, 32, 16, 64, 50, 128, 128, 192, 202, 255, 255 |
ToneCurveName | Strong Contrast |
URL_List | |
Version | 5.3 |
Vibrance | +7 |
VignetteAmount | +64 |
VignetteMidpoint | 50 |
WhiteBalance (2) | Custom |
WhiteBalance | Manual |