Felt | Verdi |
AlreadyApplied | True |
Aperture | 11.0 |
ApertureValue | 11.0 |
BitsPerSample | 8 |
BlackClip | 5.000000 |
BlueHue | 0 |
BlueSaturation | -2 |
Brightness | 0 |
CameraProfile | Embedded |
ChromaticAberrationB | 0 |
ChromaticAberrationR | 0 |
Clarity | +100 |
ColorComponents | 3 |
ColorNoiseReduction | 93 |
ColorSaturation | 84 |
ColorTemperature | 5 |
Contrast | -16 |
ConvertToGrayscale | False |
CreateDate | 2010:04:27 18:58:23+02:00 |
CreatorTool | Adobe Photoshop Lightroom |
DateTimeOriginal (1) | 2010:04:27 18:58:23+02:00 |
DateTimeOriginal | 2010:04:27 18:58:23 |
Defringe | 0 |
ExifImageHeight | 2868 |
ExifImageWidth | 4320 |
Exposure | 0.00 |
ExposureTime | 1/45 |
FillLight | 0 |
FNumber | 11.0 |
FocalLength | 14.0 mm |
FocalLength35efl | 14.0 mm |
Gamma | 2.000000 |
GreenHue | +100 |
GreenSaturation | -88 |
HasCrop | False |
HasSettings | True |
HighlightRecovery | 0 |
HighlightsSmoothing | 100 |
HueAdjustmentAqua | 0 |
HueAdjustmentBlue | 0 |
HueAdjustmentGreen | 0 |
HueAdjustmentMagenta | 0 |
HueAdjustmentOrange | 0 |
HueAdjustmentPurple | 0 |
HueAdjustmentRed | -5 |
HueAdjustmentYellow | 0 |
ImageHeight | 2868 |
ImageSize | 4320x2868 |
ImageWidth | 4320 |
IncrementalTemperature | 0 |
IncrementalTint | -33 |
ISO | 200 |
LightValue | 11.4 |
LuminanceAdjustmentAqua | 0 |
LuminanceAdjustmentBlue | 0 |
LuminanceAdjustmentGreen | 0 |
LuminanceAdjustmentMagenta | 0 |
LuminanceAdjustmentOrange | 0 |
LuminanceAdjustmentPurple | 0 |
LuminanceAdjustmentRed | -7 |
LuminanceAdjustmentYellow | 0 |
LuminanceSmoothing | 89 |
Luminosity | 10 |
Megapixels | 12.4 |
Method | Details Enhancer |
Microcontrast | 10 |
Microsmoothing | 30 |
Model | NIKON D300 |
ModifyDate (1) | 2010:04:27 23:06:54+02:00 |
ModifyDate | 2010:04:27 23:06:54 |
ParametricDarks | +60 |
ParametricHighlights | +100 |
ParametricHighlightSplit | 75 |
ParametricLights | +21 |
ParametricMidtoneSplit | 50 |
ParametricShadows | +60 |
ParametricShadowSplit | 25 |
PostCropVignetteAmount | 0 |
ProfileDescription | sRGB IEC61966-2.1 |
RedHue | +71 |
RedSaturation | +88 |
Saturation | 0 |
SaturationAdjustmentAqua | 0 |
SaturationAdjustmentBlue | 0 |
SaturationAdjustmentGreen | 0 |
SaturationAdjustmentMagenta | 0 |
SaturationAdjustmentOrange | -5 |
SaturationAdjustmentPurple | 0 |
SaturationAdjustmentRed | 0 |
SaturationAdjustmentYellow | -5 |
SaturationHighlights | -7 |
SaturationShadows | 10 |
Shadows | 0 |
ShadowsClipping | 20 |
ShadowsSmoothing | 95 |
ShadowTint | +7 |
SharpenDetail | 98 |
SharpenEdgeMasking | 0 |
SharpenRadius | +1.0 |
Sharpness | 150 |
ShutterSpeed | 1/45 |
ShutterSpeedValue | 1/45 |
Smoothing | Very Low |
SplitToningBalance | +2 |
SplitToningHighlightHue | 43 |
SplitToningHighlightSaturation | 63 |
SplitToningShadowHue | 30 |
SplitToningShadowSaturation | 24 |
Strength | 95 |
ToneCurve | 0, 0, 32, 16, 64, 50, 128, 128, 192, 202, 255, 255 |
ToneCurveName | Strong Contrast |
Version (1) | 2.5 |
Version | 5.3 |
Vibrance | 0 |
VignetteAmount | 0 |
WhiteBalance | Custom |
WhiteClip | 4.842800 |