Felt | Verdi |
AlreadyApplied | True |
Aperture | 3.5 |
ApertureValue | 3.5 |
Artist | Aasmund Mosseng |
BitsPerSample | 8 |
BlueHue | 0 |
BlueSaturation | 0 |
Brightness | +50 |
By-line | Aasmund Mosseng |
CameraProfile | Adobe Standard |
CFAPattern | [Red,Green][Green,Blue] |
ChromaticAberrationB | 0 |
ChromaticAberrationR | 0 |
CircleOfConfusion | 0.030 mm |
Clarity | -40 |
ColorComponents | 3 |
ColorMode | RGB |
ColorNoiseReduction | 25 |
ColorSpace | sRGB |
ColorTemperature | 7650 |
Contrast (2) | +44 |
Contrast | Normal |
ConvertToGrayscale | True |
Copyright | Aasmund Mosseng |
CopyrightNotice | Aasmund Mosseng |
CreateDate (1) | 2010:04:25 12:41:45.92+02:00 |
CreateDate | 2010:04:25 12:41:45 |
Creator | Aasmund Mosseng |
CreatorTool | Ver.1.02 |
CropAngle | 0 |
CropBottom | 0.879795 |
CropLeft | 0.308348 |
CropRight | 0.993186 |
CropTop | 0.214834 |
CustomRendered | Normal |
DateTimeDigitized | 2010:04:25 12:41:45.92+02:00 |
DateTimeOriginal (1) | 2010:04:25 12:41:45.92+02:00 |
DateTimeOriginal | 2010:04:25 12:41:45 |
Defringe | 0 |
DigitalZoomRatio | 1 |
ExifImageHeight | 874 |
ExifImageWidth | 565 |
Exposure | -0.50 |
ExposureCompensation | 0 |
ExposureMode | Auto |
ExposureProgram | Aperture-priority AE |
ExposureTime | 1/50 |
FillLight | 0 |
Flash | No Flash |
FlashFired | False |
FlashFunction | False |
FlashMode | Unknown |
FlashRedEyeMode | False |
FlashReturn | No return detection |
FNumber | 3.5 |
FocalLength | 105.0 mm |
FocalLength35efl | 105.0 mm (35 mm equivalent: 105.0 mm) |
FocalLengthIn35mmFormat | 105 mm |
Format | image/jpeg |
FOV | 19.5 deg |
GainControl | Low gain up |
GrayMixerAqua | -13 |
GrayMixerBlue | -7 |
GrayMixerGreen | -8 |
GrayMixerMagenta | -3 |
GrayMixerOrange | -18 |
GrayMixerPurple | -6 |
GrayMixerRed | -24 |
GrayMixerYellow | -5 |
GreenHue | 0 |
GreenSaturation | 0 |
HasCrop | True |
HasSettings | True |
HighlightRecovery | 35 |
HyperfocalDistance | 104.84 m |
ICCProfileName | sRGB IEC61966-2.1 |
ImageHeight | 874 |
ImageNumber | 1465 |
ImageSize | 565x874 |
ImageWidth | 565 |
ISO | 800 |
Lens | 105.0 mm f/2.0 |
LensInfo | 105mm f/2 |
LightSource | Cloudy |
LightValue | 6.3 |
LuminanceSmoothing | 0 |
Make | NIKON CORPORATION |
MaxApertureValue | 2.0 |
Megapixels | 0.494 |
MeteringMode | Spot |
Model | NIKON D700 |
ModifyDate (1) | 2010:04:29 22:41:49+02:00 |
ModifyDate | 2010:04:29 22:41:49 |
Orientation | Horizontal (normal) |
ParametricDarks | +8 |
ParametricHighlights | -23 |
ParametricHighlightSplit | 75 |
ParametricLights | -20 |
ParametricMidtoneSplit | 50 |
ParametricShadows | -15 |
ParametricShadowSplit | 25 |
PostCropVignetteAmount | 0 |
ProfileDescription | sRGB IEC61966-2.1 |
Rating | 0 |
RawFileName | _DSC1432.NEF |
RedHue | 0 |
RedSaturation | 0 |
Rights | Aasmund Mosseng |
Saturation | Normal |
ScaleFactor35efl | 1.0 |
SceneCaptureType | Standard |
SceneType | Directly photographed |
SensingMethod | One-chip color area |
SerialNumber | 2222541 |
Shadows | 6 |
ShadowTint | 0 |
SharpenDetail | 25 |
SharpenEdgeMasking | 0 |
SharpenRadius | +1.0 |
Sharpness (2) | 25 |
Sharpness | Normal |
ShutterSpeed | 1/50 |
ShutterSpeedValue | 1/50 |
SidecarForExtension | NEF |
Software | Adobe Photoshop CS4 Windows |
SplitToningBalance | +11 |
SplitToningHighlightHue | 14 |
SplitToningHighlightSaturation | 9 |
SplitToningShadowHue | 237 |
SplitToningShadowSaturation | 9 |
SubjectDistanceRange | Unknown |
Tint | -1 |
ToneCurve | 0, 0, 32, 22, 64, 56, 128, 128, 192, 196, 255, 255 |
ToneCurveName | Medium Contrast |
URL_List | |
UserComment | (c)Aasmund Mosseng+4792224928 |
Version | 5.5 |
VignetteAmount | 0 |
WhiteBalance (2) | Custom |
WhiteBalance | Manual |