Felt | Verdi |
AlreadyApplied | True |
Aperture | 14.0 |
ApertureValue | 14.0 |
BitsPerSample (1) | 16, 16, 16 |
BitsPerSample (2) | 16 16 16 |
BitsPerSample | 8 |
BlueHue | 0 |
BlueSaturation | 0 |
Brightness | +50 |
CameraProfile | Adobe Standard |
ChromaticAberrationB | 0 |
ChromaticAberrationR | 0 |
CircleOfConfusion | 0.019 mm |
Clarity | +29 |
ColorComponents | 3 |
ColorMode | RGB |
ColorNoiseReduction | 40 |
ColorSpace | sRGB |
ColorTemperature | 5929 |
Contrast | +59 |
ConvertToGrayscale | False |
CreateDate (1) | 2010:04:28 19:33:49.10+02:00 |
CreateDate | 2010:04:28 19:33:49 |
CreatorTool | Adobe Photoshop Lightroom |
CropAngle | 0 |
CropBottom | 0.963235 |
CropHeight | 3329 |
CropLeft | 0.02451 |
CropRight | 0.931373 |
CropTop | 0 |
CropUnit | pixels |
CropWidth | 4701 |
CustomRendered | Normal |
DateTimeDigitized | 2010:04:28 19:33:49.10+02:00 |
DateTimeOriginal (1) | 2010:04:28 19:33:49.10+02:00 |
DateTimeOriginal | 2010:04:28 19:33:49 |
Defringe | 0 |
DOF | 2.85 m (5.91 - 8.76 m) |
ExifImageHeight | 725 |
ExifImageWidth | 1024 |
Exposure | +0.76 |
ExposureCompensation | -2/3 |
ExposureMode | Auto |
ExposureProgram | Aperture-priority AE |
ExposureTime | 1/6 |
FillLight | 0 |
Firmware | 1.1.0 |
Flash | Off, Did not fire |
FlashCompensation | 0 |
FlashFired | False |
FlashFunction | False |
FlashMode | Off |
FlashRedEyeMode | False |
FlashReturn | No return detection |
FNumber | 14.0 |
FocalLength | 98.0 mm |
FocalLength35efl | 98.0 mm (35 mm equivalent: 153.9 mm) |
Format | image/jpeg |
FOV | 13.3 deg |
GreenHue | 0 |
GreenSaturation | 0 |
HasCrop | True |
HasSettings | True |
HighlightRecovery | 0 |
HueAdjustmentAqua | 0 |
HueAdjustmentBlue | 0 |
HueAdjustmentGreen | 0 |
HueAdjustmentMagenta | 0 |
HueAdjustmentOrange | 0 |
HueAdjustmentPurple | 0 |
HueAdjustmentRed | 0 |
HueAdjustmentYellow | 0 |
HyperfocalDistance | 35.85 m |
ICCProfileName | sRGB IEC61966-2.1 |
ImageHeight (2) | 3329 |
ImageHeight | 725 |
ImageNumber | 0 |
ImageSize | 1024x725 |
ImageWidth (1) | 4701 |
ImageWidth | 1024 |
ISO | 100 |
Lens | EF70-200mm f/2.8L IS II USM +1.4x |
LensID (1) | 252 |
LensID | Canon EF 70-200mm f/2.8L IS II USM + 1.4x or Canon EF 70-200mm f/2.8L IS III USM + 1.4x |
LensInfo | 98-280mm f/? |
LightValue | 10.2 |
LuminanceAdjustmentAqua | +7 |
LuminanceAdjustmentBlue | +7 |
LuminanceAdjustmentGreen | -7 |
LuminanceAdjustmentMagenta | +5 |
LuminanceAdjustmentOrange | -14 |
LuminanceAdjustmentPurple | +10 |
LuminanceAdjustmentRed | -12 |
LuminanceAdjustmentYellow | +7 |
LuminanceSmoothing | 40 |
Make | Canon |
MaxApertureValue | 4.0 |
Megapixels | 0.742 |
MeteringMode | Multi-segment |
Model | Canon EOS 7D |
ModifyDate (1) | 2010:05:03 11:38:37+02:00 |
ModifyDate | 2010:05:03 11:38:37 |
Orientation | Horizontal (normal) |
ParametricDarks | -5 |
ParametricHighlights | +64 |
ParametricHighlightSplit | 75 |
ParametricLights | +52 |
ParametricMidtoneSplit | 50 |
ParametricShadows | -10 |
ParametricShadowSplit | 25 |
PhotometricInterpretation | RGB |
PlanarConfiguration | Chunky |
PostCropVignetteAmount | 0 |
ProfileDescription | sRGB IEC61966-2.1 |
RedHue | 0 |
RedSaturation | 0 |
SamplesPerPixel | 3 |
Saturation | 0 |
SaturationAdjustmentAqua | 0 |
SaturationAdjustmentBlue | 0 |
SaturationAdjustmentGreen | 0 |
SaturationAdjustmentMagenta | 0 |
SaturationAdjustmentOrange | 0 |
SaturationAdjustmentPurple | 0 |
SaturationAdjustmentRed | 0 |
SaturationAdjustmentYellow | 0 |
ScaleFactor35efl | 1.6 |
SceneCaptureType | Standard |
SerialNumber | 380434165 |
Shadows | 6 |
ShadowTint | 0 |
SharpenDetail | 25 |
SharpenEdgeMasking | 0 |
SharpenRadius | +1.0 |
Sharpness | 61 |
ShutterSpeed | 1/6 |
ShutterSpeedValue | 1/6 |
Software | Adobe Photoshop CS4 Windows |
SplitToningBalance | 0 |
SplitToningHighlightHue | 0 |
SplitToningHighlightSaturation | 0 |
SplitToningShadowHue | 0 |
SplitToningShadowSaturation | 0 |
SubjectDistance | 7.06 m |
Tint | +11 |
ToneCurve | 0, 0, 32, 22, 64, 56, 128, 128, 192, 196, 255, 255 |
ToneCurveName | Medium Contrast |
URL_List | |
Version | 5.7 |
Vibrance | +19 |
VignetteAmount | 0 |
WhiteBalance (2) | Custom |
WhiteBalance | Auto |