Felt | Verdi |
AlreadyApplied | True |
Aperture | 3.2 |
ApertureValue | 3.2 |
BitsPerSample | 8 |
BlueHue | 0 |
BlueSaturation | 0 |
Brightness | +50 |
CameraProfile | Adobe Standard |
ChromaticAberrationB | 0 |
ChromaticAberrationR | 0 |
CircleOfConfusion | 0.019 mm |
Clarity | +17 |
ColorComponents | 1 |
ColorNoiseReduction | 25 |
ColorTemperature | 2850 |
Contrast | +25 |
ConvertToGrayscale | True |
CreateDate (1) | 2009:10:10 19:45:29.08+02:00 |
CreateDate | 2009:10:10 19:45:29 |
CreatorTool | Adobe Photoshop Lightroom |
CropAngle | -0.531318 |
CropBottom | 0.986281 |
CropHeight | 3125 |
CropLeft | 0.003811 |
CropRight | 0.996189 |
CropTop | 0.013719 |
CropUnit | pixels |
CropWidth | 4687 |
CustomRendered | Normal |
DateTimeDigitized | 2009:10:10 19:45:29.08+02:00 |
DateTimeOriginal (1) | 2009:10:10 19:45:29.08+02:00 |
DateTimeOriginal | 2009:10:10 19:45:29 |
Defringe | 0 |
ExifImageHeight | 3125 |
ExifImageWidth | 4687 |
Exposure | 0.00 |
ExposureCompensation | 0 |
ExposureMode | Auto |
ExposureProgram | Aperture-priority AE |
ExposureTime | 1/125 |
FillLight | 25 |
Firmware | 1.0.3 |
Flash | Off, Did not fire |
FlashCompensation | 0 |
FlashFired | False |
FlashFunction | False |
FlashMode | Off |
FlashRedEyeMode | False |
FlashReturn | No return detection |
FNumber | 3.2 |
FocalLength | 50.0 mm |
FocalLength35efl | 50.0 mm (35 mm equivalent: 79.2 mm) |
FOV | 25.6 deg |
GrayMixerAqua | -21 |
GrayMixerBlue | +2 |
GrayMixerGreen | -21 |
GrayMixerMagenta | +7 |
GrayMixerOrange | -9 |
GrayMixerPurple | +11 |
GrayMixerRed | 0 |
GrayMixerYellow | -12 |
GreenHue | 0 |
GreenSaturation | 0 |
HasCrop | True |
HasSettings | True |
HighlightRecovery | 0 |
HyperfocalDistance | 41.20 m |
ImageHeight | 3125 |
ImageNumber | 0 |
ImageSize | 4687x3125 |
ImageWidth | 4687 |
ISO | 400 |
Lens | EF50mm f/1.4 USM |
LensInfo | 50mm f/? |
LightValue | 8.3 |
LuminanceSmoothing | 0 |
Make | Canon |
MaxApertureValue | 1.4 |
Megapixels | 14.6 |
MeteringMode | Multi-segment |
Model | Canon EOS 50D |
ModifyDate (1) | 2010:04:20 16:56:46+02:00 |
ModifyDate | 2010:04:20 16:56:46 |
ParametricDarks | 0 |
ParametricHighlights | 0 |
ParametricHighlightSplit | 75 |
ParametricLights | 0 |
ParametricMidtoneSplit | 50 |
ParametricShadows | 0 |
ParametricShadowSplit | 25 |
PostCropVignetteAmount | 0 |
ProfileDescription | Adobe RGB (1998) |
RedHue | 0 |
RedSaturation | 0 |
ScaleFactor35efl | 1.6 |
SceneCaptureType | Standard |
SerialNumber | 430353607 |
Shadows | 5 |
ShadowTint | 0 |
SharpenDetail | 25 |
SharpenEdgeMasking | 0 |
SharpenRadius | +1.0 |
Sharpness | 25 |
ShutterSpeed | 1/125 |
ShutterSpeedValue | 1/125 |
SplitToningBalance | 0 |
SplitToningHighlightHue | 0 |
SplitToningHighlightSaturation | 0 |
SplitToningShadowHue | 0 |
SplitToningShadowSaturation | 0 |
Tint | 0 |
ToneCurve | 0, 0, 32, 22, 64, 56, 128, 128, 192, 196, 255, 255 |
ToneCurveName | Medium Contrast |
Version | 5.4 |
VignetteAmount | 0 |
WhiteBalance (2) | Tungsten |
WhiteBalance | Auto |