Felt | Verdi |
AlreadyApplied | True |
Aperture | 11.0 |
ApertureValue | 11.0 |
BitsPerSample | 8 |
BlueHue | 0 |
BlueSaturation | 0 |
Brightness | 0 |
CameraProfile | Embedded |
ChromaticAberrationB | 0 |
ChromaticAberrationR | 0 |
Clarity | +100 |
ColorComponents | 3 |
ColorMode | RGB |
ColorNoiseReduction | 0 |
ColorSpace | sRGB |
Contrast | +41 |
ConvertToGrayscale | True |
CreateDate | 2010:04:11 06:38:16+02:00 |
CreatorTool | Adobe Photoshop CS4 Macintosh |
DateTimeOriginal (1) | 2010:04:11 06:38:16+02:00 |
DateTimeOriginal | 2010:04:11 06:38:16 |
Defringe | 0 |
ExifImageHeight | 666 |
ExifImageWidth | 1000 |
Exposure | 0.00 |
FillLight | 18 |
FNumber | 11.0 |
FocalLength | 24.0 mm |
FocalLength35efl | 24.0 mm |
Format | image/jpeg |
GrayMixerAqua | 0 |
GrayMixerBlue | -52 |
GrayMixerGreen | -25 |
GrayMixerMagenta | -23 |
GrayMixerOrange | -13 |
GrayMixerPurple | -68 |
GrayMixerRed | +14 |
GrayMixerYellow | -21 |
GreenHue | 0 |
GreenSaturation | 0 |
HasCrop | False |
HasSettings | True |
HighlightRecovery | 0 |
ICCProfileName | sRGB IEC61966-2.1 |
ImageHeight | 666 |
ImageSize | 1000x666 |
ImageWidth | 1000 |
IncrementalTemperature | -5 |
IncrementalTint | -1 |
ISO | 100 |
LuminanceSmoothing | 0 |
Megapixels | 0.666 |
Model | Canon EOS 5D Mark II |
ModifyDate (1) | 2010:05:04 17:37:38+02:00 |
ModifyDate | 2010:05:04 17:37:38 |
Orientation | Horizontal (normal) |
ParametricDarks | 0 |
ParametricHighlights | 0 |
ParametricHighlightSplit | 75 |
ParametricLights | 0 |
ParametricMidtoneSplit | 50 |
ParametricShadows | 0 |
ParametricShadowSplit | 25 |
PostCropVignetteAmount | 0 |
ProfileDescription | sRGB IEC61966-2.1 |
Rating | 0 |
RawFileName | IMG_1399And9more_tonemapped.jpg |
RedHue | 0 |
RedSaturation | 0 |
Shadows | 0 |
ShadowTint | 0 |
SharpenDetail | 25 |
SharpenEdgeMasking | 22 |
SharpenRadius | +1.2 |
Sharpness | 94 |
Software | Adobe Photoshop CS4 Macintosh |
SplitToningBalance | 0 |
SplitToningHighlightHue | 0 |
SplitToningHighlightSaturation | 0 |
SplitToningShadowHue | 0 |
SplitToningShadowSaturation | 0 |
ToneCurve | 0, 0, 255, 255 |
ToneCurveName | Linear |
URL_List | |
Version | 5.4 |
VignetteAmount | -18 |
VignetteMidpoint | 50 |
WhiteBalance | Custom |