Felt | Verdi |
AlreadyApplied | True |
Aperture | 11.0 |
ApertureValue | 11.0 |
BitsPerSample | 8 |
BlueHue | +100 |
BlueSaturation | +100 |
Brightness | +50 |
CameraProfile | ACR 3.4 |
ChromaticAberrationB | 0 |
ChromaticAberrationR | -2 |
Clarity | 0 |
ColorComponents | 3 |
ColorNoiseReduction | 69 |
Contrast | +100 |
ConvertToGrayscale | False |
CreateDate | 2010:02:14 18:01:16+01:00 |
CreatorTool | Adobe Photoshop Lightroom |
DateTimeOriginal (1) | 2010:02:14 18:01:16+01:00 |
DateTimeOriginal | 2010:02:14 18:01:16 |
Defringe | 0 |
ExifImageHeight | 2856 |
ExifImageWidth | 4290 |
Exposure | +0.24 |
ExposureTime | 4 |
FillLight | 20 |
FNumber | 11.0 |
FocalLength | 10.0 mm |
FocalLength35efl | 10.0 mm |
GradientBasedCorrActive | true |
GradientBasedCorrAmount | 1.000000 |
GradientBasedCorrBrightness | 0.000000 |
GradientBasedCorrClarity (1) | 0.000000 |
GradientBasedCorrClarity (2) | -0.198000 |
GradientBasedCorrClarity (4) | -0.300000 |
GradientBasedCorrClarity (5) | -0.200000 |
GradientBasedCorrClarity | -0.097000 |
GradientBasedCorrContrast | 0.000000 |
GradientBasedCorrExposure (1) | -0.125000 |
GradientBasedCorrExposure (3) | -0.060000 |
GradientBasedCorrExposure (5) | -0.106000 |
GradientBasedCorrExposure (6) | -0.235000 |
GradientBasedCorrExposure (7) | -0.063500 |
GradientBasedCorrExposure | -0.062500 |
GradientBasedCorrHue (1) | 53.000000 |
GradientBasedCorrHue (2) | 236.000000 |
GradientBasedCorrHue (5) | 0.000000 |
GradientBasedCorrHue (6) | 241.000000 |
GradientBasedCorrHue | 234.000000 |
GradientBasedCorrMaskFullX (1) | 0.488708 |
GradientBasedCorrMaskFullX (2) | 0.509111 |
GradientBasedCorrMaskFullX (3) | 0.906000 |
GradientBasedCorrMaskFullX (4) | 0.089466 |
GradientBasedCorrMaskFullX (5) | 0.718990 |
GradientBasedCorrMaskFullX (6) | 0.518390 |
GradientBasedCorrMaskFullX (7) | 0.783249 |
GradientBasedCorrMaskFullX | 0.277449 |
GradientBasedCorrMaskFullY (1) | 0.483439 |
GradientBasedCorrMaskFullY (2) | 0.845365 |
GradientBasedCorrMaskFullY (3) | 0.497008 |
GradientBasedCorrMaskFullY (4) | 0.508893 |
GradientBasedCorrMaskFullY (5) | 0.220618 |
GradientBasedCorrMaskFullY (6) | 0.223612 |
GradientBasedCorrMaskFullY (7) | 0.766025 |
GradientBasedCorrMaskFullY | 0.758908 |
GradientBasedCorrMaskValue | 1.000000 |
GradientBasedCorrMaskWhat | Mask/Gradient |
GradientBasedCorrMaskZeroX (1) | 0.486364 |
GradientBasedCorrMaskZeroX (2) | 0.509111 |
GradientBasedCorrMaskZeroX (3) | 0.639592 |
GradientBasedCorrMaskZeroX (4) | 0.361708 |
GradientBasedCorrMaskZeroX (5) | 0.615150 |
GradientBasedCorrMaskZeroX (6) | 0.513734 |
GradientBasedCorrMaskZeroX (7) | 0.768187 |
GradientBasedCorrMaskZeroX | 0.309426 |
GradientBasedCorrMaskZeroY (1) | 0.586261 |
GradientBasedCorrMaskZeroY (2) | 0.562438 |
GradientBasedCorrMaskZeroY (3) | 0.497008 |
GradientBasedCorrMaskZeroY (4) | 0.504807 |
GradientBasedCorrMaskZeroY (5) | 0.447704 |
GradientBasedCorrMaskZeroY (6) | 0.475984 |
GradientBasedCorrMaskZeroY (7) | 0.509217 |
GradientBasedCorrMaskZeroY | 0.507684 |
GradientBasedCorrSaturation (1) | 0.355000 |
GradientBasedCorrSaturation (10) | 0.000000 |
GradientBasedCorrSaturation (11) | 0.253000 |
GradientBasedCorrSaturation (12) | 0.990000 |
GradientBasedCorrSaturation (13) | 0.097000 |
GradientBasedCorrSaturation (15) | 0.100000 |
GradientBasedCorrSaturation (2) | 0.720000 |
GradientBasedCorrSaturation (4) | 0.230000 |
GradientBasedCorrSaturation (5) | 0.250000 |
GradientBasedCorrSaturation | 0.210000 |
GradientBasedCorrSharpness | 0.000000 |
GradientBasedCorrWhat | Correction |
GreenHue | -100 |
GreenSaturation | -100 |
HasCrop | False |
HasSettings | True |
HighlightRecovery | 100 |
HueAdjustmentAqua | 0 |
HueAdjustmentBlue | 0 |
HueAdjustmentGreen | 0 |
HueAdjustmentMagenta | 0 |
HueAdjustmentOrange | +29 |
HueAdjustmentPurple | 0 |
HueAdjustmentRed | +81 |
HueAdjustmentYellow | +5 |
ImageHeight | 2856 |
ImageSize | 4290x2856 |
ImageWidth | 4290 |
IncrementalTemperature | -2 |
IncrementalTint | -11 |
ISO | 100 |
LightValue | 4.9 |
LuminanceAdjustmentAqua | -100 |
LuminanceAdjustmentBlue | 0 |
LuminanceAdjustmentGreen | +100 |
LuminanceAdjustmentMagenta | 0 |
LuminanceAdjustmentOrange | +100 |
LuminanceAdjustmentPurple | 0 |
LuminanceAdjustmentRed | +100 |
LuminanceAdjustmentYellow | +95 |
LuminanceSmoothing | 32 |
Megapixels | 12.3 |
Model | Canon EOS 450D |
ModifyDate (1) | 2010:02:14 22:20:49+01:00 |
ModifyDate | 2010:02:14 22:20:49 |
ParametricDarks | +11 |
ParametricHighlights | 0 |
ParametricHighlightSplit | 75 |
ParametricLights | +39 |
ParametricMidtoneSplit | 50 |
ParametricShadows | 0 |
ParametricShadowSplit | 25 |
PostCropVignetteAmount | 0 |
ProfileDescription | sRGB IEC61966-2.1 |
RedHue | +100 |
RedSaturation | -69 |
Saturation | -100 |
SaturationAdjustmentAqua | -100 |
SaturationAdjustmentBlue | -100 |
SaturationAdjustmentGreen | -100 |
SaturationAdjustmentMagenta | -100 |
SaturationAdjustmentOrange | -100 |
SaturationAdjustmentPurple | -100 |
SaturationAdjustmentRed | -100 |
SaturationAdjustmentYellow | -100 |
Shadows | 27 |
ShadowTint | +100 |
SharpenDetail | 62 |
SharpenEdgeMasking | 0 |
SharpenRadius | +2.0 |
Sharpness | 48 |
ShutterSpeed | 4 |
ShutterSpeedValue | 4 |
SplitToningBalance | 0 |
SplitToningHighlightHue | 47 |
SplitToningHighlightSaturation | 10 |
SplitToningShadowHue | 231 |
SplitToningShadowSaturation | 10 |
ToneCurve | 0, 0, 32, 22, 64, 56, 128, 128, 192, 196, 255, 255 |
ToneCurveName | Medium Contrast |
Version | 5.6 |
Vibrance | -100 |
VignetteAmount | +26 |
VignetteMidpoint | 67 |
WhiteBalance | Custom |