Felt | Verdi |
AlreadyApplied | True |
Aperture | 8.0 |
ApertureValue | 8.0 |
BitsPerSample | 8 |
BlueHue | 0 |
BlueSaturation | 0 |
Brightness | +50 |
By-line | Størker Moe |
CameraProfile | Camera Standard |
CFAPattern | [Red,Green][Green,Blue] |
ChromaticAberrationB | 0 |
ChromaticAberrationR | 0 |
CircleOfConfusion | 0.020 mm |
City | Trondheim |
Clarity | +30 |
ColorComponents | 3 |
ColorNoiseReduction | 25 |
ColorTemperature | 5450 |
Contrast (2) | +25 |
Contrast | Normal |
ConvertToGrayscale | False |
Copyright | Storker Moe |
CopyrightNotice | Størker Moe |
Country | Norway |
Country-PrimaryLocationName | Norway |
CreateDate (1) | 2010:05:08 13:15:08.51 |
CreateDate | 2010:05:08 13:15:08 |
Creator | Størker Moe |
CreatorCountry | Norway |
CreatorTool | Adobe Photoshop Lightroom |
CropAngle | -0.275226 |
CropBottom | 0.815744 |
CropHeight | 512 |
CropLeft | 0.008002 |
CropRight | 0.996098 |
CropTop | 0.080808 |
CropUnit | pixels |
CropWidth | 1024 |
CustomRendered | Normal |
DateCreated (1) | 2010:05:08 |
DateCreated | 2010:05:08 13:15:08.51 |
DateTimeDigitized | 2010:05:08 13:15:08+02:00 |
DateTimeOriginal (1) | 2010:05:08 13:15:08+02:00 |
DateTimeOriginal | 2010:05:08 13:15:08 |
Defringe | 0 |
DigitalZoomRatio | 1 |
DOF | inf (105.46 m - inf) |
ExifImageHeight | 512 |
ExifImageWidth | 1024 |
Exposure | +1.00 |
ExposureCompensation | +1/3 |
ExposureMode | Auto |
ExposureProgram | Aperture-priority AE |
ExposureTime | 1/400 |
FillLight | 0 |
Flash | No Flash |
FlashFired | False |
FlashFunction | False |
FlashMode | Unknown |
FlashRedEyeMode | False |
FlashReturn | No return detection |
FNumber | 8.0 |
FocalLength | 130.0 mm |
FocalLength35efl | 130.0 mm (35 mm equivalent: 195.0 mm) |
FocalLengthIn35mmFormat | 195 mm |
FOV | 10.5 deg |
GainControl | None |
GPSAltitude (2) | 180 m |
GPSAltitude | 180 m Above Sea Level |
GPSAltitudeRef | Above Sea Level |
GPSDateStamp | 2010:05:08 |
GPSDateTime | 2010:05:08 11:15:08Z |
GPSDestLatitude (1) | 63 deg 24' 29.45" N |
GPSDestLatitude | |
GPSDestLatitudeRef | North |
GPSDestLongitude (1) | 10 deg 28' 35.53" E |
GPSDestLongitude | |
GPSDestLongitudeRef | East |
GPSImgDirection | 345.56 |
GPSImgDirectionRef | True North |
GPSLatitude (1) | 63 deg 24' 17.30" N |
GPSLatitude | |
GPSLatitudeRef | North |
GPSLongitude (1) | 10 deg 28' 42.52" E |
GPSLongitude | |
GPSLongitudeRef | East |
GPSMapDatum | WGS-84 |
GPSTimeStamp | 11:15:08 |
GPSVersionID | 2.2.0.0 |
GreenHue | 0 |
GreenSaturation | 0 |
HasCrop | True |
HasSettings | True |
HighlightRecovery | 0 |
HueAdjustmentAqua | 0 |
HueAdjustmentBlue | 0 |
HueAdjustmentGreen | 0 |
HueAdjustmentMagenta | 0 |
HueAdjustmentOrange | 0 |
HueAdjustmentPurple | 0 |
HueAdjustmentRed | 0 |
HueAdjustmentYellow | 0 |
HyperfocalDistance | 105.46 m |
ImageHeight | 512 |
ImageNumber | 4901 |
ImageSize | 1024x512 |
ImageWidth | 1024 |
ISO | 200 |
Keywords | Friluft/Natur, Landskap, Natur, Vår |
Lens | 80.0-400.0 mm f/4.5-5.6 |
LensID (1) | 101 |
LensID | AF VR Zoom-Nikkor 80-400mm f/4.5-5.6D ED |
LensInfo | 80-400mm f/4.5-5.6 |
LightSource | Unknown |
LightValue | 13.6 |
Location | Stokkan |
LuminanceAdjustmentAqua | -1 |
LuminanceAdjustmentBlue | -15 |
LuminanceAdjustmentGreen | 0 |
LuminanceAdjustmentMagenta | 0 |
LuminanceAdjustmentOrange | 0 |
LuminanceAdjustmentPurple | 0 |
LuminanceAdjustmentRed | 0 |
LuminanceAdjustmentYellow | 0 |
LuminanceSmoothing | 0 |
Make | NIKON CORPORATION |
MaxApertureValue | 4.9 |
Megapixels | 0.524 |
MeteringMode | Multi-segment |
Model | NIKON D300 |
ModifyDate (1) | 2010:05:08 15:34:06+02:00 |
ModifyDate | 2010:05:08 15:34:06 |
PaintCorrectionActive | true |
PaintCorrectionAmount | 1.000000 |
PaintCorrectionBrightness | 0.000000 |
PaintCorrectionClarity | 0.500000 |
PaintCorrectionContrast | 0.000000 |
PaintCorrectionExposure | -0.125000 |
PaintCorrectionHue | 0.000000 |
PaintCorrectionMaskCenterWeight | 0.000000 |
PaintCorrectionMaskFlow | 1.000000 |
PaintCorrectionMaskRadius | 0.076810 |
PaintCorrectionMaskValue | 0.500000 |
PaintCorrectionMaskWhat | Mask/Paint |
PaintCorrectionSaturation | 0.000000 |
PaintCorrectionSharpness | 0.000000 |
PaintCorrectionWhat | Correction |
ParametricDarks | 0 |
ParametricHighlights | 0 |
ParametricHighlightSplit | 75 |
ParametricLights | 0 |
ParametricMidtoneSplit | 50 |
ParametricShadows | 0 |
ParametricShadowSplit | 25 |
PostCropVignetteAmount | 0 |
ProfileDescription | sRGB IEC61966-2.1 |
Province-State | Sør-Trøndelag |
RedHue | 0 |
RedSaturation | 0 |
ReferenceBlackWhite | 0, 255, 0, 255, 0, 255 |
Rights | Størker Moe |
Saturation (2) | 0 |
Saturation | Normal |
SaturationAdjustmentAqua | +1 |
SaturationAdjustmentBlue | +10 |
SaturationAdjustmentGreen | 0 |
SaturationAdjustmentMagenta | 0 |
SaturationAdjustmentOrange | 0 |
SaturationAdjustmentPurple | 0 |
SaturationAdjustmentRed | 0 |
SaturationAdjustmentYellow | 0 |
ScaleFactor35efl | 1.5 |
SceneCaptureType | Standard |
SceneType | Directly photographed |
SensingMethod | One-chip color area |
SerialNumber | 4123049 |
Shadows | 10 |
ShadowTint | 0 |
SharpenDetail | 50 |
SharpenEdgeMasking | 0 |
SharpenRadius | +0.8 |
Sharpness (2) | 40 |
Sharpness | Normal |
ShutterSpeed | 1/400 |
ShutterSpeedValue | 1/400 |
Software | Ver.1.10 |
SplitToningBalance | 0 |
SplitToningHighlightHue | 0 |
SplitToningHighlightSaturation | 0 |
SplitToningShadowHue | 0 |
SplitToningShadowSaturation | 0 |
State | Sør-Trøndelag |
Sub-location | Stokkan |
Subject | Friluft/Natur, Landskap, Natur, Vår |
SubjectDistance | 4294967295 m |
SubjectDistanceRange | Unknown |
Tint | +5 |
ToneCurve | 0, 0, 32, 22, 64, 56, 128, 128, 192, 196, 255, 255 |
ToneCurveName | Medium Contrast |
UserComment | |
Version | 5.7 |
Vibrance | 0 |
VignetteAmount | 0 |
WhiteBalance (2) | As Shot |
WhiteBalance | Auto |