Felt | Verdi |
AlreadyApplied | True |
Aperture | 13.0 |
ApertureValue | 13.0 |
BitsPerSample | 8 |
BlueHue | 0 |
BlueSaturation | 0 |
Brightness | +50 |
CameraProfile | Adobe Standard |
CFAPattern | [Red,Green][Green,Blue] |
ChromaticAberrationB | 0 |
ChromaticAberrationR | 0 |
CircleOfConfusion | 0.020 mm |
Clarity | -93 |
ColorComponents | 1 |
ColorNoiseReduction | 25 |
ColorTemperature | 6150 |
Contrast (2) | +68 |
Contrast | Normal |
ConvertToGrayscale | True |
CreateDate (1) | 2010:05:05 20:30:47.49+02:00 |
CreateDate | 2010:05:05 20:30:47 |
CreatorTool | Adobe Photoshop Lightroom |
CropAngle | 0 |
CropBottom | 1 |
CropHeight | 2848 |
CropLeft | 0.028213 |
CropRight | 1 |
CropTop | 0 |
CropUnit | pixels |
CropWidth | 4167 |
CustomRendered | Normal |
DateTimeDigitized | 2010:05:05 20:30:47.49+02:00 |
DateTimeOriginal (1) | 2010:05:05 20:30:47.49+02:00 |
DateTimeOriginal | 2010:05:05 20:30:47 |
Defringe | 0 |
DigitalZoomRatio | 1 |
DOF | inf (2.21 m - inf) |
ExifImageHeight | 2848 |
ExifImageWidth | 4167 |
Exposure | -2.29 |
ExposureCompensation | 0 |
ExposureMode | Auto |
ExposureProgram | Aperture-priority AE |
ExposureTime | 0.7 |
FillLight | 0 |
Flash | No Flash |
FlashFired | False |
FlashFunction | False |
FlashMode | Unknown |
FlashRedEyeMode | False |
FlashReturn | No return detection |
FNumber | 13.0 |
FocalLength | 24.0 mm |
FocalLength35efl | 24.0 mm (35 mm equivalent: 36.0 mm) |
FocalLengthIn35mmFormat | 36 mm |
FOV | 53.1 deg |
GainControl | None |
GrayMixerAqua | -16 |
GrayMixerBlue | +13 |
GrayMixerGreen | -27 |
GrayMixerMagenta | +3 |
GrayMixerOrange | -20 |
GrayMixerPurple | +17 |
GrayMixerRed | -11 |
GrayMixerYellow | -24 |
GreenHue | 0 |
GreenSaturation | 0 |
HasCrop | True |
HasSettings | True |
HighlightRecovery | 0 |
HyperfocalDistance | 2.21 m |
ImageHeight | 2848 |
ImageNumber | 15338 |
ImageSize | 4167x2848 |
ImageWidth | 4167 |
ISO | 200 |
Lens | 14.0-24.0 mm f/2.8 |
LensID (1) | 146 |
LensID | AF-S Zoom-Nikkor 14-24mm f/2.8G ED |
LensInfo | 14-24mm f/2.8 |
LightSource | Unknown |
LightValue | 6.9 |
LuminanceSmoothing | 0 |
Make | NIKON CORPORATION |
MaxApertureValue | 2.8 |
Megapixels | 11.9 |
MeteringMode | Multi-segment |
Model | NIKON D300 |
ModifyDate (1) | 2010:05:05 22:53:07+02:00 |
ModifyDate | 2010:05:05 22:53:07 |
ParametricDarks | 0 |
ParametricHighlights | +7 |
ParametricHighlightSplit | 75 |
ParametricLights | +2 |
ParametricMidtoneSplit | 50 |
ParametricShadows | +10 |
ParametricShadowSplit | 25 |
PostCropVignetteAmount | 0 |
ProfileDescription | sRGB IEC61966-2.1 |
RedHue | 0 |
RedSaturation | 0 |
Saturation | Normal |
ScaleFactor35efl | 1.5 |
SceneCaptureType | Standard |
SceneType | Directly photographed |
SensingMethod | One-chip color area |
SerialNumber | 4113414 |
Shadows | 5 |
ShadowTint | 0 |
SharpenDetail | 98 |
SharpenEdgeMasking | 0 |
SharpenRadius | +3.0 |
Sharpness (2) | 143 |
Sharpness | Normal |
ShutterSpeed | 0.7 |
ShutterSpeedValue | 0.7 |
Software | Ver.1.00 |
SplitToningBalance | 0 |
SplitToningHighlightHue | 0 |
SplitToningHighlightSaturation | 0 |
SplitToningShadowHue | 0 |
SplitToningShadowSaturation | 0 |
SubjectDistance | 4294967295 m |
SubjectDistanceRange | Unknown |
Tint | -2 |
ToneCurve | 0, 0, 32, 22, 64, 56, 128, 128, 192, 196, 255, 255 |
ToneCurveName | Medium Contrast |
Version | 5.6 |
VignetteAmount | 0 |
WhiteBalance (2) | As Shot |
WhiteBalance | Auto |